Felt | Verdi |
AlreadyApplied | True |
Aperture | 20.0 |
ApertureValue | 20.0 |
Artist | Picasa |
BitsPerSample | 8 |
Brightness | -9 |
By-line | Picasa |
ChromaticAberrationR | 0 |
CircleOfConfusion | 0.031 mm |
ColorComponents | 3 |
ColorMode | RGB |
ColorNoiseReduction | 25 |
ColorSpace | Uncalibrated |
ColorTemperature | 5700 |
Contrast | +86 |
ConvertToGrayscale | False |
CreateDate (1) | 2013:12:19 10:56:30.69+01:00 |
CreateDate | 2013:12:19 10:56:30 |
CreatorTool | Elements Organizer 8.0 |
CustomRendered | Normal |
DateTimeOriginal (1) | 2013:12:19 09:56:30Z |
DateTimeOriginal | 2013:12:19 09:56:30 |
Defringe | 0 |
ExifImageHeight | 551 |
ExifImageWidth | 1024 |
Exposure | 0.00 |
ExposureCompensation | +5/3 |
ExposureMode | Auto |
ExposureProgram | Aperture-priority AE |
ExposureTime | 25 |
FillLight | 0 |
Flash | Off, Did not fire |
FlashCompensation | 0 |
FlashFired | False |
FlashFunction | False |
FlashMode | Off |
FlashRedEyeMode | False |
FlashReturn | No return detection |
FNumber (1) | 20.0 |
FocalLength | 60.0 mm |
Format | image/jpeg |
FOV | 34.2 deg |
GreenHue | 0 |
HasCrop | False |
HasSettings | True |
HueAdjustmentAqua | 0 |
HueAdjustmentBlue | 0 |
HueAdjustmentGreen | 0 |
HueAdjustmentMagenta | 0 |
HueAdjustmentOrange | 0 |
HueAdjustmentRed | 0 |
HueAdjustmentYellow | 0 |
HyperfocalDistance | 5.85 m |
ICCProfileName | sRGB IEC61966-2.1 |
ImageNumber | 0 |
ImageSize | 1024x551 |
ISO (1) | 160 |
Lens | EF24-105mm f/4L IS USM |
LensInfo | 24-105mm f/? |
LuminanceAdjustmentAqua | 0 |
LuminanceAdjustmentBlue | 0 |
LuminanceAdjustmentGreen | 0 |
LuminanceAdjustmentOrange | 0 |
LuminanceAdjustmentPurple | 0 |
LuminanceSmoothing | 0 |
Make | Canon |
MaxApertureValue | 4.0 |
Megapixels | 0.564 |
MeteringMode | Multi-segment |
Model | Canon EOS 5D Mark II |
ModifyDate | 2013:12:19 14:15:23 |
ParametricDarks | 0 |
ParametricHighlights | 0 |
ParametricHighlightSplit | 75 |
ParametricLights | 0 |
ParametricShadows | 0 |
ParametricShadowSplit | 25 |
PostCropVignetteAmount | 0 |
RedHue | 0 |
RedSaturation | 0 |
RelatedImageHeight | 551 |
RelatedImageWidth | 1024 |
Saturation | 0 |
SaturationAdjustmentGreen | 0 |
SaturationAdjustmentMagenta | 0 |
SaturationAdjustmentOrange | 0 |
SaturationAdjustmentPurple | 0 |
SaturationAdjustmentRed | 0 |
SaturationAdjustmentYellow | 0 |
ScaleFactor35efl | 1.0 |
SceneCaptureType | Standard |
Shadows | 5 |
ShadowTint | 0 |
SharpenDetail | 25 |
SharpenEdgeMasking | 0 |
SharpenRadius | +1.0 |
Sharpness | 25 |
ShutterSpeed | 25 |
ShutterSpeedValue | 25 |
SplitToningBalance | 0 |
SplitToningHighlightHue | 0 |
SplitToningShadowHue | 0 |
SplitToningShadowSaturation | 0 |
ToneCurve | 0, 0, 32, 22, 64, 56, 128, 128, 192, 196, 255, 255 |
URL_List | |
Version | 5.5 |
Vibrance | +42 |
VignetteAmount | 0 |
WhiteBalance (2) | As Shot |
WhiteBalance | Auto |