Felt | Verdi |
AlreadyApplied | True |
Aperture | 20.0 |
ApertureValue | 20.0 |
ApproximateFocusDistance | 11.9 |
Artist | Tommy Johansen |
AutoLateralCA | 1 |
BitsPerSample | 8 |
Blacks2012 | -20 |
BlueHue | 0 |
BlueSaturation | 0 |
Brightness | +50 |
By-line | Tommy Johansen |
CameraProfile | Camera Faithful |
Caption-Abstract | An iron rod penetrates the flow of water where it stands in defiance against the strong current, as a defiant in the initial hours. Wonder if it bends to the pressure ....
CircleOfConfusion | 0.031 mm |
Clarity | 0 |
Clarity2012 | +30 |
ColorComponents | 1 |
ColorMode | Grayscale |
ColorNoiseReduction | 100 |
ColorNoiseReductionDetail | 100 |
ColorSpace | Uncalibrated |
ColorTemperature | 7350 |
Contrast | +25 |
Contrast2012 | +100 |
ConvertToGrayscale | True |
Copyright | All right reserved Tommy Johansen Aka Grayscale foto |
CopyrightFlag | True |
CopyrightNotice | All right reserved Tommy Johansen Aka Grayscale foto |
CreateDate | 2013:08:13 20:15:06 |
Creator | Tommy Johansen |
CropAngle | 0 |
CropBottom | 0.855839 |
CropConstrainToWarp | 1 |
CropHeight | 5 |
CropLeft | 0.212571 |
CropRight | 0.669019 |
CropTop | 0 |
CropUnit | Unknown (3) |
CropWidth | 4 |
CustomRendered | Normal |
DateCreated (1) | 2013:08:13 |
DateCreated | 2013:08:13 20:15:06.069 |
DateTimeOriginal | 2013:08:13 20:15:06 |
Defringe | 0 |
Description | An iron rod penetrates the flow of water where it stands in defiance against the strong current, as a defiant in the initial hours. Wonder if it bends to the pressure ....
DOF | 27.70 m (7.17 - 34.87 m) |
En jernstang trenger gjennom strømmen av vann der den mot står i trass de sterke strømmer, som en trassig i mot gangs timen. Lurer på om den bøyer for presset.... |
ExifImageHeight | 2563 |
ExifImageWidth | 3204 |
Exposure | 0.00 |
Exposure2012 | 0.00 |
ExposureCompensation | 0 |
ExposureMode | Auto |
ExposureProgram | Shutter speed priority AE |
ExposureTime | 1 |
FillLight | 0 |
Firmware | 2.1.2 |
Flash | Off, Did not fire |
FlashCompensation | 0 |
FNumber | 20.0 |
FocalLength | 105.0 mm |
FocalLength35efl | 105.0 mm (35 mm equivalent: 102.5 mm) |
Format | image/jpeg |
FOV | 19.9 deg |
GrainAmount | 0 |
GrayMixerAqua | -19 |
GrayMixerBlue | +9 |
GrayMixerGreen | -27 |
GrayMixerMagenta | +4 |
GrayMixerOrange | -18 |
GrayMixerPurple | +15 |
GrayMixerRed | -9 |
GrayMixerYellow | -22 |
GreenHue | 0 |
GreenSaturation | +3 |
HasCrop | True |
HasSettings | True |
HighlightRecovery | 0 |
Highlights2012 | -30 |
HyperfocalDistance | 17.91 m |
ICCProfileName | Gray Gamma 2.2 |
ImageDescription | An iron rod penetrates the flow of water where it stands in defiance against the strong current, as a defiant in the initial hours. Wonder if it bends to the pressure ....
ImageHeight | 2563 |
ImageNumber | 0 |
ImageSize | 3204x2563 |
ImageWidth | 3204 |
ISO | 100 |
Keywords | Iron, rod, current, Defiance |
Lens | EF24-105mm f/4L IS USM |
LensID (1) | 237 |
LensID | Canon EF 24-105mm f/4L IS USM |
LensInfo | 24-105mm f/? |
LensManualDistortionAmount | 0 |
LensModel | EF24-105mm f/4L IS USM |
LensProfileChromaticAberrationScale | 100 |
LensProfileDistortionScale | 100 |
LensProfileEnable | 1 |
LensProfileFilename | Canon EOS-1Ds Mark III (Canon EF 24-105mm f4 L IS USM) - RAW.lcp |
LensProfileName | Adobe (Canon EF 24-105mm f/4 L IS USM) |
LensProfileSetup | Custom |
LensProfileVignettingScale | 200 |
LightValue | 8.6 |
LuminanceNoiseReductionContrast | 100 |
LuminanceNoiseReductionDetail | 100 |
LuminanceSmoothing | 30 |
Make | Canon |
Marked | True |
MaxApertureValue | 4.0 |
Megapixels | 8.2 |
MeteringMode | Multi-segment |
Model | Canon EOS 5D Mark II |
ModifyDate (1) | 2013:09:04 20:53:57+02:00 |
ModifyDate | 2013:09:04 20:53:57 |
ObjectName | Defiance |
Orientation | Horizontal (normal) |
OwnerName | Tommy Johansen |
ParametricDarks | 0 |
ParametricHighlights | 0 |
ParametricHighlightSplit | 75 |
ParametricLights | 0 |
ParametricMidtoneSplit | 50 |
ParametricShadows | 0 |
ParametricShadowSplit | 25 |
PerspectiveHorizontal | 0 |
PerspectiveRotate | 0.0 |
PerspectiveScale | 100 |
PerspectiveVertical | 0 |
PostCropVignetteAmount | 0 |
ProcessVersion | 6.7 |
ProfileDescription | Gray Gamma 2.2 |
Rating | 0 |
RawFileName | IMG_5051.CR2 |
RedHue | 0 |
RedSaturation | 0 |
Rights | All right reserved Tommy Johansen Aka Grayscale foto |
ScaleFactor35efl | 1.0 |
SceneCaptureType | Standard |
SerialNumber | 1721002101 |
Shadows | 5 |
Shadows2012 | -100 |
ShadowTint | 0 |
SharpenDetail | 100 |
SharpenEdgeMasking | 75 |
SharpenRadius | +2.4 |
Sharpness | 50 |
ShutterSpeed | 1 |
ShutterSpeedValue | 1 |
Software | Adobe Photoshop CS6 (Windows) |
SplitToningBalance | 0 |
SplitToningHighlightHue | 0 |
SplitToningHighlightSaturation | 0 |
SplitToningShadowHue | 0 |
SplitToningShadowSaturation | 0 |
Subject | Iron, rod, current, Defiance |
Tint | +15 |
Title | Defiance |
ToneCurve | 0, 0, 32, 22, 64, 56, 128, 128, 192, 196, 255, 255 |
ToneCurveBlue | 0, 0, 255, 255 |
ToneCurveGreen | 0, 0, 255, 255 |
ToneCurveName | Medium Contrast |
ToneCurveName2012 | Linear |
ToneCurvePV2012 | 0, 0, 255, 255 |
ToneCurvePV2012Blue | 0, 0, 255, 255 |
ToneCurvePV2012Green | 0, 0, 255, 255 |
ToneCurvePV2012Red | 0, 0, 255, 255 |
ToneCurveRed | 0, 0, 255, 255 |
URL_List | |
Version | 7.0 |
VignetteAmount | 0 |
WhiteBalance (1) | Custom |
WhiteBalance | Auto |
Whites2012 | +30 |