Felt | Verdi |
AlreadyApplied | True |
Aperture | 6.3 |
ApertureValue | 6.3 |
ApproximateFocusDistance | 9.7 |
Artist | Rune Sandvik |
AutoLateralCA | 0 |
BitsPerSample | 8 |
Blacks2012 | -25 |
BlueHue | 0 |
BlueSaturation | 0 |
By-line | Rune Sandvik |
CameraProfile | Adobe Standard |
CircleOfConfusion | 0.024 mm |
Clarity2012 | +67 |
ColorComponents | 1 |
ColorMode | Grayscale |
ColorNoiseReduction | 25 |
ColorNoiseReductionDetail | 50 |
ColorSpace | Uncalibrated |
ColorTemperature | 6700 |
Contrast2012 | -14 |
ConvertToGrayscale | True |
CreateDate | 2013:01:05 10:29:30 |
Creator | Rune Sandvik |
CropAngle | 0 |
CropBottom | 0.874993 |
CropConstrainToWarp | 1 |
CropHeight | 3 |
CropLeft | 0 |
CropRight | 0.800867 |
CropTop | 0.074125 |
CropUnit | Unknown (3) |
CropWidth | 2 |
CustomRendered | Normal |
DateCreated (1) | 2013:01:05 |
DateCreated | 2013:01:05 10:29:30 |
DateTimeOriginal | 2013:01:05 10:29:30 |
DOF | inf (2.74 m - inf) |
ExifImageHeight | 3075 |
ExifImageWidth | 4613 |
Exposure2012 | -0.15 |
ExposureCompensation | 0 |
ExposureMode | Auto |
ExposureProgram | Aperture-priority AE |
ExposureTime | 1/100 |
Firmware | 1.1.3 |
Flash | Off, Did not fire |
FlashCompensation | 0 |
FNumber | 6.3 |
FocalLength | 24.0 mm |
FocalLength35efl | 24.0 mm (35 mm equivalent: 30.0 mm) |
Format | image/jpeg |
FOV | 62.0 deg |
GrainAmount | 0 |
GrayMixerAqua | -18 |
GrayMixerBlue | +11 |
GrayMixerGreen | -27 |
GrayMixerMagenta | +4 |
GrayMixerOrange | -19 |
GrayMixerPurple | +17 |
GrayMixerRed | -10 |
GrayMixerYellow | -23 |
GreenHue | 0 |
GreenSaturation | 0 |
HasCrop | True |
HasSettings | True |
Highlights2012 | 0 |
HyperfocalDistance | 3.80 m |
ICCProfileName | Gray Gamma 2.2 |
ImageHeight | 3075 |
ImageNumber | 0 |
ImageSize | 4613x3075 |
ImageWidth | 4613 |
ISO | 200 |
Lens | EF24-70mm f/2.8L USM |
LensID (1) | 230 |
LensID | Canon EF 24-70mm f/2.8L USM |
LensInfo | 24-70mm f/? |
LensManualDistortionAmount | 0 |
LensModel | EF24-70mm f/2.8L USM |
LensProfileEnable | 0 |
LensProfileSetup | LensDefaults |
LensSerialNumber | 0000000000 |
LightValue | 11.0 |
LuminanceSmoothing | 0 |
Make | Canon |
MaxApertureValue | 2.8 |
Megapixels | 14.2 |
MeteringMode | Multi-segment |
Model | Canon EOS 5D Mark III |
ModifyDate (1) | 2013:01:14 21:30:17+01:00 |
ModifyDate | 2013:01:14 21:30:17 |
Orientation | Horizontal (normal) |
ParametricDarks | +14 |
ParametricHighlights | +83 |
ParametricHighlightSplit | 75 |
ParametricLights | -39 |
ParametricMidtoneSplit | 50 |
ParametricShadows | -13 |
ParametricShadowSplit | 25 |
PerspectiveHorizontal | 0 |
PerspectiveRotate | 0.0 |
PerspectiveScale | 100 |
PerspectiveVertical | 0 |
PostCropVignetteAmount | 0 |
ProcessVersion | 6.7 |
ProfileDescription | Gray Gamma 2.2 |
Rating | 0 |
RawFileName | 5D3_8364.CR2 |
RecommendedExposureIndex | 200 |
RedHue | 0 |
RedSaturation | 0 |
ScaleFactor35efl | 1.2 |
SceneCaptureType | Standard |
SensitivityType | Recommended Exposure Index |
SerialNumber | 053024007571 |
Shadows2012 | +1 |
ShadowTint | 0 |
SharpenDetail | 25 |
SharpenEdgeMasking | 0 |
SharpenRadius | +1.0 |
Sharpness | 25 |
ShutterSpeed | 1/100 |
ShutterSpeedValue | 1/100 |
Software | Adobe Photoshop CS6 (Windows) |
SplitToningBalance | 0 |
SplitToningHighlightHue | 0 |
SplitToningHighlightSaturation | 0 |
SplitToningShadowHue | 0 |
SplitToningShadowSaturation | 0 |
Tint | +10 |
ToneCurveName2012 | Linear |
ToneCurvePV2012 | 0, 0, 255, 255 |
ToneCurvePV2012Blue | 0, 0, 255, 255 |
ToneCurvePV2012Green | 0, 0, 255, 255 |
ToneCurvePV2012Red | 0, 0, 255, 255 |
URL_List | |
Version | 7.2 |
VignetteAmount | 0 |
WhiteBalance (1) | As Shot |
WhiteBalance | Auto |
Whites2012 | +59 |