Felt | Verdi |
AlreadyApplied | True |
ApproximateFocusDistance | 4294967295 |
AutoLateralCA | 0 |
BitsPerSample | 8 |
Blacks2012 | -14 |
BlueHue | 0 |
BlueSaturation | 0 |
CameraProfile | Beta |
Clarity2012 | 0 |
ColorComponents | 3 |
ColorMode | RGB |
ColorNoiseReduction | 25 |
ColorNoiseReductionDetail | 50 |
ColorTemperature | 5550 |
Contrast2012 | +2 |
ConvertToGrayscale | False |
CreateDate | 2012:11:22 21:25:40 |
CreatorTool | Ver.1.00 |
CropAngle | 1.783282 |
CropBottom | 0.99453 |
CropConstrainToWarp | 1 |
CropLeft | 0.020902 |
CropRight | 0.955562 |
CropTop | 0.150991 |
DateCreated | 2012:11:22 21:25:40.009 |
DefringeGreenAmount | 0 |
DefringeGreenHueHi | 60 |
DefringeGreenHueLo | 40 |
DefringePurpleAmount | 0 |
DefringePurpleHueHi | 70 |
DefringePurpleHueLo | 30 |
Exposure2012 | 0.00 |
Format | image/tiff |
GradientBasedCorrActive | true |
GradientBasedCorrAmount | 1.000000 |
GradientBasedCorrBrightness | 0.000000 |
GradientBasedCorrClarity | 0.000000 |
GradientBasedCorrClarity2012 (1) | 0.150000 |
GradientBasedCorrClarity2012 (2) | 0.740000 |
GradientBasedCorrClarity2012 | 0.580000 |
GradientBasedCorrContrast | 0.000000 |
GradientBasedCorrContrast2012 (1) | 0.590000 |
GradientBasedCorrContrast2012 (2) | 0.460000 |
GradientBasedCorrContrast2012 | 1.000000 |
GradientBasedCorrDefringe | -0.850000 |
GradientBasedCorrExposure | 0.000000 |
GradientBasedCorrExposure2012 (1) | 0.175000 |
GradientBasedCorrExposure2012 (2) | 0.100000 |
GradientBasedCorrExposure2012 | 0.162500 |
GradientBasedCorrHighlights2012 (1) | -0.840000 |
GradientBasedCorrHighlights2012 (2) | -0.930000 |
GradientBasedCorrHighlights2012 | -1.000000 |
GradientBasedCorrHue (1) | 311.000000 |
GradientBasedCorrHue | 230.000000 |
GradientBasedCorrLuminanceNoise (1) | -0.750000 |
GradientBasedCorrLuminanceNoise (2) | -0.070000 |
GradientBasedCorrLuminanceNoise | -0.030000 |
GradientBasedCorrMaskFullX (1) | 0.487355 |
GradientBasedCorrMaskFullX (2) | 0.490517 |
GradientBasedCorrMaskFullX | 0.556016 |
GradientBasedCorrMaskFullY (1) | 1.019047 |
GradientBasedCorrMaskFullY (2) | 0.143756 |
GradientBasedCorrMaskFullY | 0.140189 |
GradientBasedCorrMaskValue | 1.000000 |
GradientBasedCorrMaskWhat | Mask/Gradient |
GradientBasedCorrMaskZeroX (1) | 0.493258 |
GradientBasedCorrMaskZeroX (2) | 0.476688 |
GradientBasedCorrMaskZeroX | 0.547464 |
GradientBasedCorrMaskZeroY (1) | 0.607429 |
GradientBasedCorrMaskZeroY (2) | 0.851673 |
GradientBasedCorrMaskZeroY | 0.551683 |
GradientBasedCorrMoire (2) | -0.960000 |
GradientBasedCorrMoire | -0.590000 |
GradientBasedCorrSaturation (1) | 0.190000 |
GradientBasedCorrSaturation (2) | 0.000000 |
GradientBasedCorrSaturation (3) | 0.530000 |
GradientBasedCorrSaturation (5) | -0.440000 |
GradientBasedCorrSaturation | 1.000000 |
GradientBasedCorrShadows2012 (1) | -0.040000 |
GradientBasedCorrShadows2012 (2) | 0.310000 |
GradientBasedCorrShadows2012 | 0.420000 |
GradientBasedCorrSharpness (1) | -0.260000 |
GradientBasedCorrSharpness (2) | 0.250000 |
GradientBasedCorrSharpness | -0.610000 |
GradientBasedCorrTemperature (1) | -1.000000 |
GradientBasedCorrTemperature (2) | -0.960000 |
GradientBasedCorrTemperature | -0.700000 |
GradientBasedCorrTint (1) | 0.380000 |
GradientBasedCorrTint (2) | -0.130000 |
GradientBasedCorrTint | -0.350000 |
GradientBasedCorrWhat | Correction |
GrainAmount | 0 |
GreenHue | 0 |
GreenSaturation | 0 |
HasCrop | True |
HasSettings | True |
Highlights2012 | 0 |
HueAdjustmentAqua | 0 |
HueAdjustmentBlue | 0 |
HueAdjustmentGreen | 0 |
HueAdjustmentMagenta | 0 |
HueAdjustmentOrange | 0 |
HueAdjustmentPurple | 0 |
HueAdjustmentRed | 0 |
HueAdjustmentYellow | -24 |
ICCProfileName | Adobe RGB (1998) |
ImageHeight | 3211 |
ImageNumber | 19 |
ImageSize | 5726x3211 |
ImageWidth | 5726 |
Lens | 24.0-85.0 mm f/3.5-4.5 |
LensID | 180 |
LensInfo | 24-85mm f/3.5-4.5 |
LensManualDistortionAmount | 0 |
LensProfileEnable | 0 |
LensProfileSetup | LensDefaults |
LuminanceAdjustmentAqua | 0 |
LuminanceAdjustmentBlue | +18 |
LuminanceAdjustmentGreen | +26 |
LuminanceAdjustmentMagenta | 0 |
LuminanceAdjustmentOrange | +9 |
LuminanceAdjustmentPurple | 0 |
LuminanceAdjustmentRed | +39 |
LuminanceAdjustmentYellow | +100 |
LuminanceSmoothing | 0 |
Megapixels | 18.4 |
ModifyDate | 2012:11:22 23:11:28+01:00 |
PaintCorrectionActive | true |
PaintCorrectionAmount | 1.000000 |
PaintCorrectionBrightness | 0.000000 |
PaintCorrectionClarity | 0.000000 |
PaintCorrectionClarity2012 (1) | 0.580000 |
PaintCorrectionClarity2012 | 0.390000 |
PaintCorrectionContrast | 0.000000 |
PaintCorrectionContrast2012 (1) | 1.000000 |
PaintCorrectionContrast2012 | 0.740000 |
PaintCorrectionDefringe (1) | -0.850000 |
PaintCorrectionDefringe | -0.800000 |
PaintCorrectionExposure | 0.000000 |
PaintCorrectionExposure2012 (1) | -0.075000 |
PaintCorrectionExposure2012 | -0.300000 |
PaintCorrectionHighlights2012 (1) | -1.000000 |
PaintCorrectionHighlights2012 | 0.000000 |
PaintCorrectionHue (1) | 310.000000 |
PaintCorrectionHue | 311.000000 |
PaintCorrectionLuminanceNoise | -0.030000 |
PaintCorrectionMaskCenterWeight | 0.040948 |
PaintCorrectionMaskFlow | 0.975037 |
PaintCorrectionMaskRadius (1) | 0.200992 |
PaintCorrectionMaskRadius | 0.454822 |
PaintCorrectionMaskValue | 1.000000 |
PaintCorrectionMaskWhat | Mask/Paint |
PaintCorrectionMoire | -0.590000 |
PaintCorrectionSaturation (1) | -0.440000 |
PaintCorrectionSaturation | 0.000000 |
PaintCorrectionShadows2012 (1) | 0.420000 |
PaintCorrectionShadows2012 | 0.300000 |
PaintCorrectionSharpness | -0.610000 |
PaintCorrectionTemperature (1) | 0.460000 |
PaintCorrectionTemperature | 0.000000 |
PaintCorrectionTint (1) | -0.060000 |
PaintCorrectionTint | 0.000000 |
PaintCorrectionWhat | Correction |
ParametricDarks | 0 |
ParametricHighlights | 0 |
ParametricHighlightSplit | 75 |
ParametricLights | 0 |
ParametricMidtoneSplit | 50 |
ParametricShadows | 0 |
ParametricShadowSplit | 25 |
PerspectiveHorizontal | 0 |
PerspectiveRotate | 0.0 |
PerspectiveScale | 100 |
PerspectiveVertical | 0 |
PostCropVignetteAmount | 0 |
ProcessVersion | 6.7 |
ProfileDescription | Adobe RGB (1998) |
Rating | 0 |
RawFileName | _BDS0013.NEF |
RedHue | 0 |
RedSaturation | 0 |
Saturation | 0 |
SaturationAdjustmentAqua | +38 |
SaturationAdjustmentBlue | +38 |
SaturationAdjustmentGreen | 0 |
SaturationAdjustmentMagenta | +34 |
SaturationAdjustmentOrange | -4 |
SaturationAdjustmentPurple | -44 |
SaturationAdjustmentRed | +71 |
SaturationAdjustmentYellow | -43 |
SerialNumber | 6015639 |
Shadows2012 | 0 |
ShadowTint | 0 |
SharpenDetail | 25 |
SharpenEdgeMasking | 18 |
SharpenRadius | +0.8 |
Sharpness | 33 |
SplitToningBalance | 0 |
SplitToningHighlightHue | 0 |
SplitToningHighlightSaturation | 0 |
SplitToningShadowHue | 0 |
SplitToningShadowSaturation | 0 |
Tint | +1 |
ToneCurveName2012 | Linear |
ToneCurvePV2012 | 0, 0, 255, 255 |
ToneCurvePV2012Blue | 0, 0, 255, 255 |
ToneCurvePV2012Green | 0, 0, 255, 255 |
ToneCurvePV2012Red | 0, 0, 255, 255 |
URL_List | |
Version | 7.2 |
Vibrance | 0 |
VignetteAmount | 0 |
WhiteBalance | As Shot |
Whites2012 | 0 |