Felt | Verdi |
AlreadyApplied | True |
Aperture | 7.1 |
ApertureValue | 7.1 |
Artist | unknown |
BitsPerSample | 8 |
BlueHue | 0 |
BlueSaturation | 0 |
Brightness | +50 |
By-line | unknown |
CameraProfile | Adobe Standard |
Caption-Abstract | Dame på en bro i Paris |
ChromaticAberrationB | 0 |
ChromaticAberrationR | 0 |
CircleOfConfusion | 0.019 mm |
Clarity | +68 |
ColorComponents | 1 |
ColorNoiseReduction | 58 |
ColorTemperature | 12032 |
Contrast | +55 |
ConvertToGrayscale | True |
CreateDate (1) | 2007:02:22 14:44:44+01:00 |
CreateDate | 2007:02:22 14:44:44 |
Creator | unknown |
CreatorTool | Adobe Photoshop Lightroom 3.6 (Windows) |
CropAngle | 0 |
CropBottom | 0.931946 |
CropConstrainToWarp | 0 |
CropHeight | 879 |
CropLeft | 0.301796 |
CropRight | 0.906116 |
CropTop | 0.134764 |
CropUnit | pixels |
CropWidth | 1000 |
CustomRendered | Normal |
DateCreated (1) | 2007:02:22 |
DateCreated | 2007:02:22 14:44:44+01:00 |
DateTimeOriginal | 2007:02:22 14:44:44 |
Defringe | 0 |
Description | Dame på en bro i Paris |
Exposure | +0.69 |
ExposureCompensation | 0 |
ExposureMode | Auto |
ExposureProgram | Program AE |
ExposureTime | 1/400 |
FillLight | 0 |
Firmware | 1.0.3 |
Flash | Off, Did not fire |
FlashCompensation | 0 |
FNumber | 7.1 |
FocalLength | 149.0 mm |
FocalLength35efl | 149.0 mm (35 mm equivalent: 241.7 mm) |
Format | image/jpeg |
FOV | 8.5 deg |
GrainAmount | 24 |
GrainFrequency | 43 |
GrainSize | 20 |
GrayMixerAqua | -19 |
GrayMixerBlue | +5 |
GrayMixerGreen | -23 |
GrayMixerMagenta | +3 |
GrayMixerOrange | -14 |
GrayMixerPurple | +12 |
GrayMixerRed | -7 |
GrayMixerYellow | -17 |
GreenHue | 0 |
GreenSaturation | 0 |
HasCrop | True |
HasSettings | True |
HighlightRecovery | 0 |
HyperfocalDistance | 168.82 m |
ImageDescription | Dame på en bro i Paris |
ImageHeight | 879 |
ImageNumber | 227 |
ImageSize | 1000x879 |
ImageWidth | 1000 |
ISO | 400 |
Keywords | Paris |
Lens | 70.0-300.0 mm |
LensInfo | 70-300mm f/? |
LensManualDistortionAmount | 0 |
LensModel | 70.0-300.0 mm |
LensProfileEnable | 0 |
LensProfileSetup | LensDefaults |
LightValue | 12.3 |
LuminanceSmoothing | 95 |
Make | Canon |
Megapixels | 0.879 |
MeteringMode | Multi-segment |
Model | Canon EOS 350D DIGITAL |
ModifyDate (1) | 2012:10:19 02:06:59+02:00 |
ModifyDate | 2012:10:19 02:06:59 |
OwnerName | unknown |
ParametricDarks | -18 |
ParametricHighlights | -96 |
ParametricHighlightSplit | 75 |
ParametricLights | -79 |
ParametricMidtoneSplit | 50 |
ParametricShadows | -1 |
ParametricShadowSplit | 25 |
PerspectiveHorizontal | 0 |
PerspectiveRotate | 0.0 |
PerspectiveScale | 100 |
PerspectiveVertical | 0 |
PostCropVignetteAmount | 0 |
ProcessVersion | 5.0 |
ProfileDescription | sRGB IEC61966-2.1 |
RedHue | 0 |
RedSaturation | 0 |
ScaleFactor35efl | 1.6 |
SceneCaptureType | Standard |
SerialNumber | 1230760320 |
Shadows | 5 |
ShadowTint | 0 |
SharpenDetail | 63 |
SharpenEdgeMasking | 59 |
SharpenRadius | +2.2 |
Sharpness | 110 |
ShutterSpeed | 1/400 |
ShutterSpeedValue | 1/400 |
Software | Adobe Photoshop Lightroom 3.6 (Windows) |
SplitToningBalance | 0 |
SplitToningHighlightHue | 0 |
SplitToningHighlightSaturation | 0 |
SplitToningShadowHue | 0 |
SplitToningShadowSaturation | 0 |
Subject | Paris |
Tint | -7 |
ToneCurve | 0, 0, 32, 22, 64, 56, 128, 128, 192, 196, 255, 255 |
ToneCurveName | Medium Contrast |
Version | 6.6 |
VignetteAmount | 0 |
WhiteBalance (1) | Custom |
WhiteBalance | Manual |