Felt | Verdi |
AlreadyApplied | True |
Artist | Hanna Monsen |
BitsPerSample | 8 |
BlueHue | 0 |
BlueSaturation | 0 |
Brightness | 0 |
By-line | Hanna Monsen |
CameraProfile | Embedded |
ChromaticAberrationB | 0 |
ChromaticAberrationR | 0 |
Clarity | +91 |
ColorComponents | 3 |
ColorNoiseReduction | 0 |
ColorSpace | Unknown (-1) |
Contrast | 0 |
ConvertToGrayscale | False |
Copyright | Hanna Monsen |
CopyrightFlag | True |
CopyrightNotice | Hanna Monsen |
CreateDate (1) | 2012:02:16 14:44:52+01:00 |
CreateDate | 2012:02:16 14:44:52 |
Creator | Hanna Monsen |
CreatorAddress | Sandbakkveien 16 |
CreatorCity | Rognan |
CreatorCountry | Norway |
CreatorPostalCode | 8250 |
CreatorTool | Adobe Photoshop Lightroom 3.5 (Macintosh) |
CreatorWorkTelephone | 004748154795 |
Defringe | 0 |
DerivedFrom | |
Exposure | 0.00 |
FillLight | 9 |
Format | image/jpeg |
GrainAmount | 0 |
GreenHue | 0 |
GreenSaturation | 0 |
HasCrop | False |
HasSettings | True |
HighlightRecovery | 0 |
HueAdjustmentAqua | 0 |
HueAdjustmentBlue | 0 |
HueAdjustmentGreen | 0 |
HueAdjustmentMagenta | 0 |
HueAdjustmentOrange | 0 |
HueAdjustmentPurple | 0 |
HueAdjustmentRed | 0 |
HueAdjustmentYellow | 0 |
ImageHeight | 2763 |
ImageSize | 1830x2763 |
ImageWidth | 1830 |
IncrementalTemperature | 0 |
IncrementalTint | 0 |
Keywords | Lysbilder |
LensManualDistortionAmount | 0 |
LensProfileEnable | 0 |
LensProfileSetup | LensDefaults |
LuminanceAdjustmentAqua | 0 |
LuminanceAdjustmentBlue | 0 |
LuminanceAdjustmentGreen | 0 |
LuminanceAdjustmentMagenta | 0 |
LuminanceAdjustmentOrange | 0 |
LuminanceAdjustmentPurple | 0 |
LuminanceAdjustmentRed | 0 |
LuminanceAdjustmentYellow | 0 |
LuminanceNoiseReductionContrast | 0 |
LuminanceNoiseReductionDetail | 23 |
LuminanceSmoothing | 24 |
Make | FUJI PHOTO FILM CO., LTD. |
Marked | True |
Megapixels | 5.1 |
Model | SP-2000 |
ModifyDate (1) | 2012:03:19 22:37:48+01:00 |
ModifyDate | 2012:03:19 22:37:48 |
ParametricDarks | 0 |
ParametricHighlights | +3 |
ParametricHighlightSplit | 75 |
ParametricLights | +11 |
ParametricMidtoneSplit | 50 |
ParametricShadows | 0 |
ParametricShadowSplit | 25 |
PerspectiveHorizontal | 0 |
PerspectiveRotate | 0.0 |
PerspectiveScale | 100 |
PerspectiveVertical | 0 |
PostCropVignetteAmount | 0 |
ProcessVersion | 5.7 |
ProfileDescription | sRGB IEC61966-2.1 |
RedHue | 0 |
RedSaturation | 0 |
Rights | Hanna Monsen |
Saturation | 0 |
SaturationAdjustmentAqua | 0 |
SaturationAdjustmentBlue | 0 |
SaturationAdjustmentGreen | 0 |
SaturationAdjustmentMagenta | 0 |
SaturationAdjustmentOrange | 0 |
SaturationAdjustmentPurple | 0 |
SaturationAdjustmentRed | 0 |
SaturationAdjustmentYellow | 0 |
SceneType | Directly photographed |
Shadows | 0 |
ShadowTint | 0 |
SharpenDetail | 35 |
SharpenEdgeMasking | 0 |
SharpenRadius | +0.8 |
Sharpness | 40 |
Software | Adobe Photoshop Lightroom 3.5 (Macintosh) |
SplitToningBalance | 0 |
SplitToningHighlightHue | 0 |
SplitToningHighlightSaturation | 0 |
SplitToningShadowHue | 0 |
SplitToningShadowSaturation | 0 |
Subject | Lysbilder |
ToneCurve | 0, 0, 255, 255 |
ToneCurveName | Linear |
Version | 6.5 |
Vibrance | 0 |
VignetteAmount | 0 |
WhiteBalance | As Shot |