Felt | Verdi |
AlreadyApplied | True |
Aperture | 9.0 |
ApertureValue | 9.0 |
Artist | Birgitta Sjöstedt |
BitsPerSample | 8 |
BlueHue | 0 |
BlueSaturation | 0 |
Brightness | +53 |
By-line | Birgitta Sjöstedt |
CameraProfile | Adobe Standard |
ChromaticAberrationB | 0 |
ChromaticAberrationR | 0 |
CircleOfConfusion | 0.019 mm |
Clarity | +16 |
ColorComponents | 3 |
ColorMode | RGB |
ColorNoiseReduction | 37 |
ColorNoiseReductionDetail | 50 |
ColorSpace | sRGB |
ColorTemperature | 5950 |
Contrast | +25 |
ConvertToGrayscale | False |
Copyright | Copyright Birgitta Sjöstedt |
CopyrightFlag | True |
CopyrightNotice | Copyright Birgitta Sjöstedt |
CreateDate (1) | 2012:03:23 13:17:01.38+01:00 |
CreateDate | 2012:03:23 13:17:01 |
Creator | Birgitta Sjöstedt |
CreatorAddress | Smedvägen 4 |
CreatorCity | Handen |
CreatorCountry | Sverige |
CreatorPostalCode | 136 46 |
CreatorTool | Adobe Photoshop Lightroom |
CreatorWorkEmail | sjostedt.birgitta@telia.com |
CreatorWorkTelephone | 073-7071565 |
CropAngle | 0 |
CropBottom | 0.845902 |
CropConstrainToWarp | 0 |
CropHeight | 2731 |
CropLeft | 0.093989 |
CropRight | 0.888525 |
CropTop | 0.055738 |
CropUnit | pixels |
CropWidth | 4119 |
CustomRendered | Normal |
DateTimeOriginal (1) | 2012:03:23 13:17:01.38+01:00 |
DateTimeOriginal | 2012:03:23 13:17:01 |
Defringe | 0 |
DOF | 13.42 m (53.04 - 66.47 m) |
ExifImageHeight | 398 |
ExifImageWidth | 600 |
Exposure | +0.63 |
ExposureCompensation | 0 |
ExposureMode | Auto |
ExposureProgram | Aperture-priority AE |
ExposureTime | 1/1600 |
FillLight | 9 |
Firmware | 1.2.5 |
Flash | Off, Did not fire |
FlashCompensation | 0 |
FlashFired | False |
FlashFunction | False |
FlashMode | Off |
FlashRedEyeMode | False |
FlashReturn | No return detection |
FNumber | 9.0 |
FocalLength | 300.0 mm |
FocalLength35efl | 300.0 mm (35 mm equivalent: 471.1 mm) |
Format | image/jpeg |
FOV | 4.4 deg |
GrainAmount | 0 |
GreenHue | 0 |
GreenSaturation | 0 |
HasCrop | True |
HasSettings | True |
HighlightRecovery | 0 |
HueAdjustmentAqua | 0 |
HueAdjustmentBlue | 0 |
HueAdjustmentGreen | 0 |
HueAdjustmentMagenta | 0 |
HueAdjustmentOrange | 0 |
HueAdjustmentPurple | 0 |
HueAdjustmentRed | 0 |
HueAdjustmentYellow | 0 |
HyperfocalDistance | 522.64 m |
ICCProfileName | sRGB IEC61966-2.1 |
ImageHeight (1) | 2731 |
ImageHeight | 398 |
ImageNumber | 0 |
ImageSize | 600x398 |
ImageWidth (1) | 4119 |
ImageWidth | 600 |
ISO | 400 |
Keywords | animals, beautiful, bird, birdlake, black, blue, colorful, environment, fauna, flock, flying, gold, lake, migration, nature, outdoors, sandhill, scenic, season, serene, silhouette, sky, sun, swans, tranquil, trees, vibrant, wings, whooper |
Lens | EF70-300mm f/4.5-5.6 DO IS USM |
LensID (1) | 232 |
LensID | Canon EF 70-300mm f/4.5-5.6 DO IS USM |
LensInfo | 70-300mm f/? |
LensManualDistortionAmount | 0 |
LensProfileEnable | 0 |
LensProfileSetup | LensDefaults |
LightValue | 15.0 |
LuminanceAdjustmentAqua | 0 |
LuminanceAdjustmentBlue | 0 |
LuminanceAdjustmentGreen | 0 |
LuminanceAdjustmentMagenta | 0 |
LuminanceAdjustmentOrange | 0 |
LuminanceAdjustmentPurple | 0 |
LuminanceAdjustmentRed | 0 |
LuminanceAdjustmentYellow | 0 |
LuminanceNoiseReductionContrast | 0 |
LuminanceNoiseReductionDetail | 73 |
LuminanceSmoothing | 31 |
Make | Canon |
Marked | True |
MaxApertureValue | 5.7 |
Megapixels | 0.239 |
MeteringMode | Multi-segment |
Model | Canon EOS 7D |
ModifyDate (1) | 2012:03:23 22:47:33+01:00 |
ModifyDate | 2012:03:23 22:47:33 |
ObjectName | In harmony. |
Orientation | Horizontal (normal) |
ParametricDarks | 0 |
ParametricHighlights | 0 |
ParametricHighlightSplit | 75 |
ParametricLights | 0 |
ParametricMidtoneSplit | 50 |
ParametricShadows | 0 |
ParametricShadowSplit | 25 |
PerspectiveHorizontal | 0 |
PerspectiveRotate | 0.0 |
PerspectiveScale | 100 |
PerspectiveVertical | 0 |
PostCropVignetteAmount | 0 |
ProcessVersion | 5.7 |
ProfileDescription | sRGB IEC61966-2.1 |
Rating | 4 |
RedHue | 0 |
RedSaturation | 0 |
Rights | Copyright Birgitta Sjöstedt |
Saturation | 0 |
SaturationAdjustmentAqua | 0 |
SaturationAdjustmentBlue | 0 |
SaturationAdjustmentGreen | 0 |
SaturationAdjustmentMagenta | 0 |
SaturationAdjustmentOrange | 0 |
SaturationAdjustmentPurple | 0 |
SaturationAdjustmentRed | 0 |
SaturationAdjustmentYellow | 0 |
ScaleFactor35efl | 1.6 |
SceneCaptureType | Standard |
SerialNumber | 2681235246 |
Shadows | 11 |
ShadowTint | 0 |
SharpenDetail | 23 |
SharpenEdgeMasking | 10 |
SharpenRadius | +1.0 |
Sharpness | 47 |
ShutterSpeed | 1/1600 |
ShutterSpeedValue | 1/1600 |
Software | Adobe Photoshop Elements 10.0 Windows |
SplitToningBalance | 0 |
SplitToningHighlightHue | 0 |
SplitToningHighlightSaturation | 0 |
SplitToningShadowHue | 0 |
SplitToningShadowSaturation | 0 |
Subject | animals, beautiful, bird, birdlake, black, blue, colorful, environment, fauna, flock, flying, gold, lake, migration, nature, outdoors, sandhill, scenic, season, serene, silhouette, sky, sun, swans, tranquil, trees, vibrant, wings, whooper |
SubjectDistance | 59 m |
Tint | +20 |
Title | In harmony. |
ToneCurve | 0, 0, 32, 22, 64, 56, 128, 128, 192, 196, 255, 255 |
ToneCurveName | Medium Contrast |
URL_List | |
UsageTerms | Ingen användning av något slag utan tillstånd av upprättsinnehavaren |
Version | 6.1 |
Vibrance | +21 |
VignetteAmount | 0 |
WhiteBalance (2) | As Shot |
WhiteBalance | Auto |