Felt | Verdi |
AlreadyApplied | True |
Aperture | 8.0 |
ApertureValue | 8.0 |
ApproximateFocusDistance | 4294967295 |
Artist | Jan Sæbø |
AuthorsPosition | Senior Engineer |
BitsPerSample | 8 |
BlueHue | 0 |
BlueSaturation | 0 |
Brightness | +50 |
By-line | Jan Sæbø |
By-lineTitle | Senior Engineer |
CameraProfile | Camera Standard |
ChromaticAberrationB | 0 |
ChromaticAberrationR | 0 |
CircleOfConfusion | 0.019 mm |
Clarity | 0 |
ColorComponents | 3 |
ColorNoiseReduction | 57 |
ColorNoiseReductionDetail | 22 |
ColorTemperature | 4200 |
Contrast | +25 |
ConvertToGrayscale | False |
Copyright | Copyright @ 2011 Jan Sæbø |
CopyrightFlag | True |
CopyrightNotice | Copyright @ 2011 Jan Sæbø |
CreateDate (1) | 2011:11:11 07:22:38.00 |
CreateDate | 2011:11:11 07:22:38 |
Creator | Jan Sæbø |
CreatorAddress | Roald Amundsens Vei 95 |
CreatorCity | Bergen |
CreatorCountry | Norway |
CreatorPostalCode | 5067 |
CreatorTool | Adobe Photoshop Lightroom 3.5 (Windows) |
CreatorWorkEmail | jansabo@gmail.com |
CreatorWorkTelephone | +47 977 65 709 |
CreatorWorkURL | jansabo.foto.no |
CropAngle | 0 |
CropBottom | 0.59204 |
CropConstrainToWarp | 0 |
CropHeight | 980 |
CropLeft | 0.550581 |
CropRight | 0.754561 |
CropTop | 0.308458 |
CropUnit | pixels |
CropWidth | 1057 |
CustomRendered | Normal |
DateCreated (1) | 2011:11:11 |
DateCreated | 2011:11:11 07:22:38.00 |
DateTimeOriginal | 2011:11:11 07:22:38 |
Defringe | 0 |
DOF | inf (261.32 m - inf) |
Exposure | -2.71 |
ExposureCompensation | 0 |
ExposureMode | Manual |
ExposureProgram | Manual |
ExposureTime | 1/320 |
FillLight | 0 |
Firmware | 1.2.5 |
Flash | Off, Did not fire |
FlashCompensation | 0 |
FNumber | 8.0 |
FocalLength | 200.0 mm |
FocalLength35efl | 200.0 mm (35 mm equivalent: 314.1 mm) |
FOV | 6.6 deg |
GrainAmount | 0 |
GreenHue | 0 |
GreenSaturation | 0 |
HasCrop | True |
HasSettings | True |
HighlightRecovery | 0 |
HueAdjustmentAqua | 0 |
HueAdjustmentBlue | +2 |
HueAdjustmentGreen | -2 |
HueAdjustmentMagenta | 0 |
HueAdjustmentOrange | 0 |
HueAdjustmentPurple | -5 |
HueAdjustmentRed | 0 |
HueAdjustmentYellow | 0 |
HyperfocalDistance | 261.32 m |
ImageHeight | 980 |
ImageNumber | 0 |
ImageSize | 1057x980 |
ImageWidth | 1057 |
ISO | 500 |
Lens | EF70-200mm f/4L IS USM |
LensID (1) | 242 |
LensID | Canon EF 70-200mm f/4L IS USM |
LensInfo | 70-200mm f/? |
LensManualDistortionAmount | 0 |
LensModel | EF70-200mm f/4L IS USM |
LensProfileEnable | 0 |
LensProfileSetup | LensDefaults |
LightValue | 12.0 |
LuminanceAdjustmentAqua | 0 |
LuminanceAdjustmentBlue | 0 |
LuminanceAdjustmentGreen | 0 |
LuminanceAdjustmentMagenta | 0 |
LuminanceAdjustmentOrange | 0 |
LuminanceAdjustmentPurple | -2 |
LuminanceAdjustmentRed | 0 |
LuminanceAdjustmentYellow | 0 |
LuminanceNoiseReductionContrast | 0 |
LuminanceNoiseReductionDetail | 10 |
LuminanceSmoothing | 68 |
Make | Canon |
Marked | True |
MaxApertureValue | 4.0 |
Megapixels | 1.0 |
MeteringMode | Multi-segment |
Model | Canon EOS 7D |
ModifyDate (1) | 2011:11:11 16:44:14+01:00 |
ModifyDate | 2011:11:11 16:44:14 |
ParametricDarks | -52 |
ParametricHighlights | +41 |
ParametricHighlightSplit | 90 |
ParametricLights | +39 |
ParametricMidtoneSplit | 65 |
ParametricShadows | +37 |
ParametricShadowSplit | 16 |
PerspectiveHorizontal | 0 |
PerspectiveRotate | 0.0 |
PerspectiveScale | 100 |
PerspectiveVertical | 0 |
PostCropVignetteAmount | 0 |
ProcessVersion | 5.7 |
ProfileDescription | sRGB IEC61966-2.1 |
RedHue | 0 |
RedSaturation | 0 |
Rights | Copyright @ 2011 Jan Sæbø |
Saturation | +1 |
SaturationAdjustmentAqua | 0 |
SaturationAdjustmentBlue | +7 |
SaturationAdjustmentGreen | -2 |
SaturationAdjustmentMagenta | +5 |
SaturationAdjustmentOrange | +2 |
SaturationAdjustmentPurple | -5 |
SaturationAdjustmentRed | 0 |
SaturationAdjustmentYellow | 0 |
ScaleFactor35efl | 1.6 |
SceneCaptureType | Standard |
SerialNumber | 480406884 |
Shadows | 46 |
ShadowTint | 0 |
SharpenDetail | 25 |
SharpenEdgeMasking | 0 |
SharpenRadius | +1.0 |
Sharpness | 25 |
ShutterSpeed | 1/320 |
ShutterSpeedValue | 1/320 |
Software | Adobe Photoshop Lightroom 3.5 (Windows) |
SplitToningBalance | +59 |
SplitToningHighlightHue | 65 |
SplitToningHighlightSaturation | 100 |
SplitToningShadowHue | 52 |
SplitToningShadowSaturation | 64 |
SubjectDistance | 4294967295 m |
Tint | +13 |
ToneCurve | 0, 0, 32, 22, 64, 56, 128, 128, 192, 196, 255, 255 |
ToneCurveName | Medium Contrast |
UsageTerms | No reproduction of any kind without prior written |
Version | 6.5 |
Vibrance | 0 |
VignetteAmount | 0 |
WhiteBalance (1) | As Shot |
WhiteBalance | Auto |