Felt | Verdi |
AlreadyApplied | True |
Aperture | 16.0 |
ApertureValue | 16.0 |
BitsPerSample (1) | 8, 8, 8 |
BitsPerSample (2) | 8 8 8 |
BitsPerSample | 8 |
BlueHue | 0 |
BlueSaturation | 0 |
Brightness | -9 |
CameraProfile | Embedded |
ChromaticAberrationB | 0 |
ChromaticAberrationR | 0 |
CircleOfConfusion | 0.004 mm |
Clarity | 0 |
ColorComponents | 3 |
ColorMode | RGB |
ColorNoiseReduction | 0 |
ColorSpace | sRGB |
Contrast | +7 |
ConvertToGrayscale | False |
CreateDate (1) | 2011:05:15 20:59:41+03:00 |
CreateDate | 2011:05:15 20:59:41 |
CreatorTool | Adobe Photoshop Lightroom |
CropAngle | 0 |
CropBottom | 0.995495 |
CropConstrainToWarp | 0 |
CropHeight | 3097 |
CropLeft | 0 |
CropRight | 0.975976 |
CropTop | 0.018018 |
CropUnit | pixels |
CropWidth | 4638 |
CustomRendered | Normal |
DateTimeDigitized | 2011:05:15 20:59:41+03:00 |
DateTimeOriginal (1) | 2011:05:15 20:59:41+03:00 |
DateTimeOriginal | 2011:05:15 20:59:41 |
Defringe | 0 |
ExifImageHeight | 601 |
ExifImageWidth | 900 |
Exposure | -0.23 |
ExposureCompensation | 0 |
ExposureMode | Manual |
ExposureTime | 130 |
FillLight | 0 |
Flash | Off, Did not fire |
FlashFired | False |
FlashFunction | False |
FlashMode | Off |
FlashRedEyeMode | False |
FlashReturn | No return detection |
FNumber | 16.0 |
FocalLength | 13.0 mm |
FocalLength35efl | 13.0 mm (35 mm equivalent: 108.9 mm) |
Format | image/jpeg |
FOV | 18.8 deg |
GPSVersionID | 2.2.0.0 |
GrainAmount | 0 |
GreenHue | 0 |
GreenSaturation | 0 |
HasCrop | True |
HasSettings | True |
HighlightRecovery | 0 |
HueAdjustmentAqua | 0 |
HueAdjustmentBlue | 0 |
HueAdjustmentGreen | 0 |
HueAdjustmentMagenta | 0 |
HueAdjustmentOrange | -25 |
HueAdjustmentPurple | 0 |
HueAdjustmentRed | -34 |
HueAdjustmentYellow | -23 |
HyperfocalDistance | 2.95 m |
ICCProfileName | sRGB IEC61966-2.1 |
ImageHeight (2) | 3097 |
ImageHeight | 601 |
ImageSize | 900x601 |
ImageWidth (2) | 4638 |
ImageWidth | 900 |
IncrementalTemperature | +26 |
IncrementalTint | +9 |
ISO | 100 |
LensManualDistortionAmount | 0 |
LensProfileChromaticAberrationScale | 100 |
LensProfileDistortionScale | 100 |
LensProfileEnable | 1 |
LensProfileFilename | Canon EOS 50D (Canon EF-S 10-22mm f3.5-4.5 USM).lcp |
LensProfileName | Adobe (Canon EF-S 10-22mm f/3.5-4.5 USM) |
LensProfileSetup | Custom |
LensProfileVignettingScale | 100 |
LightValue | 1.0 |
LuminanceAdjustmentAqua | 0 |
LuminanceAdjustmentBlue | 0 |
LuminanceAdjustmentGreen | 0 |
LuminanceAdjustmentMagenta | 0 |
LuminanceAdjustmentOrange | -20 |
LuminanceAdjustmentPurple | 0 |
LuminanceAdjustmentRed | -2 |
LuminanceAdjustmentYellow | -25 |
LuminanceSmoothing | 0 |
Make | Canon |
Megapixels | 0.541 |
Model | Canon EOS 500D |
ModifyDate (1) | 2011:09:23 23:21:19+03:00 |
ModifyDate | 2011:09:23 23:21:19 |
Orientation | Horizontal (normal) |
PaintCorrectionActive | true |
PaintCorrectionAmount | 1.000000 |
PaintCorrectionBrightness | 0.000000 |
PaintCorrectionClarity | 0.000000 |
PaintCorrectionContrast | 0.000000 |
PaintCorrectionExposure | 0.000000 |
PaintCorrectionHue | 353.000000 |
PaintCorrectionMaskCenterWeight | 0.000000 |
PaintCorrectionMaskFlow (3) | 0.151000 |
PaintCorrectionMaskFlow | 0.399000 |
PaintCorrectionMaskRadius (1) | 0.046639 |
PaintCorrectionMaskRadius (10) | 0.046385 |
PaintCorrectionMaskRadius (11) | 0.046596 |
PaintCorrectionMaskRadius (2) | 0.046626 |
PaintCorrectionMaskRadius (3) | 0.046577 |
PaintCorrectionMaskRadius (4) | 0.046401 |
PaintCorrectionMaskRadius (5) | 0.046615 |
PaintCorrectionMaskRadius (6) | 0.046479 |
PaintCorrectionMaskRadius (7) | 0.046644 |
PaintCorrectionMaskRadius (8) | 0.046589 |
PaintCorrectionMaskRadius (9) | 0.046588 |
PaintCorrectionMaskRadius | 0.046475 |
PaintCorrectionMaskValue | 0.798000 |
PaintCorrectionMaskWhat | Mask/Paint |
PaintCorrectionSaturation | 0.000000 |
PaintCorrectionSharpness | 0.000000 |
PaintCorrectionWhat | Correction |
ParametricDarks | 0 |
ParametricHighlights | 0 |
ParametricHighlightSplit | 75 |
ParametricLights | 0 |
ParametricMidtoneSplit | 50 |
ParametricShadows | 0 |
ParametricShadowSplit | 25 |
PerspectiveHorizontal | 0 |
PerspectiveRotate | 0.0 |
PerspectiveScale | 100 |
PerspectiveVertical | 0 |
PhotometricInterpretation | RGB |
PlanarConfiguration | Chunky |
PostCropVignetteAmount | 0 |
ProcessVersion | 5.7 |
ProfileDescription | sRGB IEC61966-2.1 |
RedHue | 0 |
RedSaturation | 0 |
SamplesPerPixel | 3 |
Saturation | 0 |
SaturationAdjustmentAqua | 0 |
SaturationAdjustmentBlue | 0 |
SaturationAdjustmentGreen | 0 |
SaturationAdjustmentMagenta | 0 |
SaturationAdjustmentOrange | 0 |
SaturationAdjustmentPurple | 0 |
SaturationAdjustmentRed | 0 |
SaturationAdjustmentYellow | 0 |
ScaleFactor35efl | 8.4 |
SceneCaptureType | Standard |
Shadows | 1 |
ShadowTint | 0 |
SharpenDetail | 25 |
SharpenEdgeMasking | 0 |
SharpenRadius | +1.0 |
Sharpness | 0 |
ShutterSpeed | 130 |
ShutterSpeedValue | 130 |
Software | Adobe Photoshop CS4 Windows |
SplitToningBalance | 0 |
SplitToningHighlightHue | 0 |
SplitToningHighlightSaturation | 0 |
SplitToningShadowHue | 0 |
SplitToningShadowSaturation | 0 |
ToneCurve | 0, 0, 255, 255 |
ToneCurveName | Linear |
URL_List | |
Version | 6.1 |
Vibrance | 0 |
VignetteAmount | 0 |
WhiteBalance (2) | Custom |
WhiteBalance | Auto |