Felt | Verdi |
AlreadyApplied | True |
Aperture | 4.0 |
ApertureValue | 4.0 |
BitsPerSample | 8 |
BlueHue | -7 |
BlueSaturation | 0 |
Brightness | +50 |
CameraProfile | Adobe Standard |
ChromaticAberrationB | 0 |
ChromaticAberrationR | 0 |
CircleOfConfusion | 0.031 mm |
Clarity | +28 |
ColorComponents | 3 |
ColorMode | RGB |
ColorNoiseReduction | 11 |
ColorSpace | Uncalibrated |
ColorTemperature | 3150 |
Contrast | +25 |
ConvertToGrayscale | False |
CreateDate (1) | 2011:06:09 15:03:47.64+01:00 |
CreateDate | 2011:06:09 15:03:47 |
CustomRendered | Normal |
DateTimeDigitized | 2011:06:09 15:03:47.64+01:00 |
DateTimeOriginal (1) | 2011:06:09 15:03:47.64+01:00 |
DateTimeOriginal | 2011:06:09 15:03:47 |
Defringe | 0 |
DOF | 0.13 m (1.57 - 1.70 m) |
ExifImageHeight | 4752 |
ExifImageWidth | 3744 |
Exposure | -0.05 |
ExposureCompensation | 0 |
ExposureMode | Manual |
ExposureProgram | Manual |
ExposureTime | 1/100 |
FillLight | 0 |
Firmware | 2.0.4 |
Flash | Off, Did not fire |
FlashCompensation | 0 |
FlashFired | False |
FlashFunction | False |
FlashMode | Off |
FlashRedEyeMode | False |
FlashReturn | No return detection |
FNumber | 4.0 |
FocalLength | 70.0 mm |
FocalLength35efl | 70.0 mm (35 mm equivalent: 68.3 mm) |
Format | image/jpeg |
FOV | 29.5 deg |
GrainAmount | 0 |
GreenHue | +25 |
GreenSaturation | +31 |
HasCrop | False |
HasSettings | True |
HighlightRecovery | 0 |
HueAdjustmentAqua | 0 |
HueAdjustmentBlue | 0 |
HueAdjustmentGreen | 0 |
HueAdjustmentMagenta | 0 |
HueAdjustmentOrange | 0 |
HueAdjustmentPurple | 0 |
HueAdjustmentRed | 0 |
HueAdjustmentYellow | 0 |
HyperfocalDistance | 39.79 m |
ICCProfileName | Adobe RGB (1998) |
ImageHeight | 4752 |
ImageNumber | 0 |
ImageSize | 3744x4752 |
ImageWidth | 3744 |
ISO | 320 |
Lens | EF70-200mm f/4L USM |
LensID (1) | 186 |
LensID | Canon EF 70-200mm f/4L USM |
LensInfo | 70-200mm f/? |
LightValue | 9.0 |
LuminanceAdjustmentAqua | 0 |
LuminanceAdjustmentBlue | 0 |
LuminanceAdjustmentGreen | 0 |
LuminanceAdjustmentMagenta | 0 |
LuminanceAdjustmentOrange | 0 |
LuminanceAdjustmentPurple | 0 |
LuminanceAdjustmentRed | 0 |
LuminanceAdjustmentYellow | 0 |
LuminanceSmoothing | 0 |
Make | Canon |
MaxApertureValue | 4.0 |
Megapixels | 17.8 |
MeteringMode | Center-weighted average |
Model | Canon EOS 5D Mark II |
ModifyDate (1) | 2011:06:22 19:28:11+01:00 |
ModifyDate | 2011:06:22 19:28:11 |
Orientation | Horizontal (normal) |
PaintCorrectionActive | true |
PaintCorrectionAmount | 1.000000 |
PaintCorrectionBrightness | 0.350000 |
PaintCorrectionClarity | 0.000000 |
PaintCorrectionContrast | 0.060000 |
PaintCorrectionExposure | 0.000000 |
PaintCorrectionHue | 0.000000 |
PaintCorrectionMaskCenterWeight (12) | 1.000000 |
PaintCorrectionMaskCenterWeight | 0.046388 |
PaintCorrectionMaskFlow (10) | 0.888889 |
PaintCorrectionMaskFlow | 0.896552 |
PaintCorrectionMaskRadius (10) | 0.052359 |
PaintCorrectionMaskRadius | 0.036712 |
PaintCorrectionMaskValue (5) | 0.000000 |
PaintCorrectionMaskValue | 1.000000 |
PaintCorrectionMaskWhat | Mask/Paint |
PaintCorrectionSaturation (1) | -0.020000 |
PaintCorrectionSaturation | 0.000000 |
PaintCorrectionSharpness | 0.000000 |
PaintCorrectionWhat | Correction |
ParametricDarks | 0 |
ParametricHighlights | 0 |
ParametricHighlightSplit | 75 |
ParametricLights | 0 |
ParametricMidtoneSplit | 50 |
ParametricShadows | 0 |
ParametricShadowSplit | 25 |
PostCropVignetteAmount | -100 |
PostCropVignetteFeather | 100 |
PostCropVignetteMidpoint | 9 |
PostCropVignetteRoundness | -82 |
PostCropVignetteStyle | 3 |
ProcessVersion | 5.0 |
ProfileDescription | Adobe RGB (1998) |
Rating | 0 |
RawFileName | 242.CR2 |
RedHue | +45 |
RedSaturation | +44 |
Saturation | -100 |
SaturationAdjustmentAqua | 0 |
SaturationAdjustmentBlue | 0 |
SaturationAdjustmentGreen | 0 |
SaturationAdjustmentMagenta | 0 |
SaturationAdjustmentOrange | 0 |
SaturationAdjustmentPurple | 0 |
SaturationAdjustmentRed | 0 |
SaturationAdjustmentYellow | 0 |
ScaleFactor35efl | 1.0 |
SceneCaptureType | Standard |
SerialNumber | 1430808096 |
Shadows | 9 |
ShadowTint | -35 |
SharpenDetail | 25 |
SharpenEdgeMasking | 0 |
SharpenRadius | +1.0 |
Sharpness | 25 |
ShutterSpeed | 1/100 |
ShutterSpeedValue | 1/100 |
SidecarForExtension | CR2 |
Software | Adobe Photoshop CS4 Windows |
SplitToningBalance | 0 |
SplitToningHighlightHue | 13 |
SplitToningHighlightSaturation | 6 |
SplitToningShadowHue | 206 |
SplitToningShadowSaturation | 5 |
SubjectDistance | 1.63 m |
Tint | +5 |
ToneCurve | 0, 0, 34, 17, 75, 66, 133, 135, 192, 196, 255, 255 |
ToneCurveName | Custom |
URL_List | |
Version | 5.7 |
Vibrance | -68 |
VignetteAmount | -18 |
VignetteMidpoint | 39 |
WhiteBalance (2) | As Shot |
WhiteBalance | Manual |