Felt | Verdi |
AlreadyApplied | True |
Aperture | 8.0 |
ApertureValue | 8.0 |
BitsPerSample | 8 |
BlueHue | 0 |
BlueSaturation | 0 |
Brightness | +55 |
BrightnessValue | 8.37 |
CameraProfile | Matrix |
Caption-Abstract | SONY DSC |
ChromaticAberrationB | 0 |
ChromaticAberrationR | 0 |
CircleOfConfusion | 0.020 mm |
Clarity | +54 |
ColorComponents | 3 |
ColorMode | RGB |
ColorNoiseReduction | 100 |
ColorSpace | Uncalibrated |
ColorTemperature | 7400 |
Contrast (2) | +50 |
Contrast | Normal |
ConvertToGrayscale | False |
CreateDate (1) | 2010:07:08 19:44:12+02:00 |
CreateDate | 2010:07:08 19:44:12 |
CreatorTool | DSLR-A550 v1.00 |
CustomRendered | Normal |
DateTimeDigitized | 2010:07:08 19:44:12+02:00 |
DateTimeOriginal (1) | 2010:07:08 19:44:12+02:00 |
DateTimeOriginal | 2010:07:08 19:44:12 |
Defringe | 0 |
Description | SONY DSC |
ExifImageHeight | 2756 |
ExifImageWidth | 4372 |
Exposure | -1.35 |
ExposureCompensation | 0 |
ExposureMode | Auto |
ExposureProgram | Aperture-priority AE |
ExposureTime | 1/320 |
FillLight | 27 |
Flash | Off, Did not fire |
FlashFired | False |
FlashFunction | False |
FlashMode | Off |
FlashRedEyeMode | False |
FlashReturn | No return detection |
FNumber | 8.0 |
FocalLength | 12.0 mm |
FocalLength35efl | 12.0 mm (35 mm equivalent: 18.0 mm) |
FocalLengthIn35mmFormat | 18 mm |
Format | image/jpeg |
FOV | 90.0 deg |
GrainAmount | 0 |
GreenHue | 0 |
GreenSaturation | 0 |
HasCrop | False |
HasSettings | True |
HighlightRecovery | 33 |
HueAdjustmentAqua | 0 |
HueAdjustmentBlue | 0 |
HueAdjustmentGreen | 0 |
HueAdjustmentMagenta | 0 |
HueAdjustmentOrange | 0 |
HueAdjustmentPurple | 0 |
HueAdjustmentRed | 0 |
HueAdjustmentYellow | 0 |
HyperfocalDistance | 0.90 m |
ICCProfileName | Adobe RGB (1998) |
ImageDescription | SONY DSC |
ImageHeight | 2756 |
ImageSize | 4372x2756 |
ImageWidth | 4372 |
ISO | 200 |
Lens | 28-80mm F3.5-5.6 |
LensID (1) | 30 |
LensID | Sigma AF 10-20mm F4-5.6 EX DC or Sigma AF 12-24mm F4.5-5.6 EX DG |
LensInfo | 28-80mm f/3.5-5.6 |
LightSource | Unknown |
LightValue | 13.3 |
LuminanceAdjustmentAqua | 0 |
LuminanceAdjustmentBlue | 0 |
LuminanceAdjustmentGreen | 0 |
LuminanceAdjustmentMagenta | 0 |
LuminanceAdjustmentOrange | 0 |
LuminanceAdjustmentPurple | 0 |
LuminanceAdjustmentRed | 0 |
LuminanceAdjustmentYellow | 0 |
LuminanceSmoothing | 100 |
Make | SONY |
MaxApertureValue | 4.5 |
Megapixels | 12.0 |
MeteringMode | Multi-segment |
Model | DSLR-A550 |
ModifyDate (1) | 2011:03:21 19:03:46+01:00 |
ModifyDate | 2011:03:21 19:03:46 |
Orientation | Horizontal (normal) |
PaintCorrectionActive | true |
PaintCorrectionAmount | 1.000000 |
PaintCorrectionBrightness (3) | 0.850000 |
PaintCorrectionBrightness | 0.875000 |
PaintCorrectionClarity | 0.000000 |
PaintCorrectionContrast | 0.000000 |
PaintCorrectionExposure (1) | 0.775000 |
PaintCorrectionExposure | 0.837500 |
PaintCorrectionHue | 0.000000 |
PaintCorrectionMaskCenterWeight | 0.014927 |
PaintCorrectionMaskFlow | 0.410256 |
PaintCorrectionMaskRadius (12) | 0.173120 |
PaintCorrectionMaskRadius (7) | 0.250499 |
PaintCorrectionMaskRadius | 0.121533 |
PaintCorrectionMaskValue | 0.110000 |
PaintCorrectionMaskWhat | Mask/Paint |
PaintCorrectionSaturation | 0.000000 |
PaintCorrectionSharpness | 0.000000 |
PaintCorrectionWhat | Correction |
ParametricDarks | 0 |
ParametricHighlights | 0 |
ParametricHighlightSplit | 75 |
ParametricLights | 0 |
ParametricMidtoneSplit | 50 |
ParametricShadows | 0 |
ParametricShadowSplit | 25 |
PostCropVignetteAmount | 0 |
ProcessVersion | 5.0 |
ProfileDescription | Adobe RGB (1998) |
Rating | 0 |
RawFileName | lofoten 113.ARW |
RedHue | 0 |
RedSaturation | 0 |
Saturation (2) | 0 |
Saturation | Normal |
SaturationAdjustmentAqua | 0 |
SaturationAdjustmentBlue | 0 |
SaturationAdjustmentGreen | 0 |
SaturationAdjustmentMagenta | 0 |
SaturationAdjustmentOrange | 0 |
SaturationAdjustmentPurple | 0 |
SaturationAdjustmentRed | 0 |
SaturationAdjustmentYellow | 0 |
ScaleFactor35efl | 1.5 |
SceneCaptureType | Standard |
SceneType | Directly photographed |
Shadows | 14 |
ShadowTint | 0 |
SharpenDetail | 25 |
SharpenEdgeMasking | 0 |
SharpenRadius | +1.0 |
Sharpness (2) | 25 |
Sharpness | Hard |
ShutterSpeed | 1/320 |
ShutterSpeedValue | 1/320 |
Software | Adobe Photoshop CS4 Windows |
SplitToningBalance | 0 |
SplitToningHighlightHue | 0 |
SplitToningHighlightSaturation | 0 |
SplitToningShadowHue | 0 |
SplitToningShadowSaturation | 0 |
Tint | +4 |
ToneCurve | 0, 0, 32, 22, 64, 56, 128, 128, 192, 196, 255, 255 |
ToneCurveName | Medium Contrast |
URL_List | |
Version | 5.7 |
Vibrance | 0 |
VignetteAmount | 0 |
WhiteBalance (2) | Custom |
WhiteBalance | Auto |