Felt | Verdi |
AlreadyApplied | True |
Aperture | 6.3 |
ApertureValue | 6.3 |
Artist | Birgitta Sjöstedt |
BitsPerSample | 8 |
BlueHue | 0 |
BlueSaturation | 0 |
Brightness | +50 |
By-line | Birgitta Sjöstedt |
CameraProfile | Adobe Standard |
Caption-Abstract | Pasque flower in black and white. |
ChromaticAberrationB | 0 |
ChromaticAberrationR | 0 |
CircleOfConfusion | 0.019 mm |
Clarity | +36 |
ColorComponents | 1 |
ColorMode | RGB |
ColorNoiseReduction | 25 |
ColorNoiseReductionDetail | 50 |
ColorSpace | sRGB |
ColorTemperature | 4550 |
Contrast | +26 |
ConvertToGrayscale | True |
Copyright | Copyright Birgitta Sjöstedt 2010 |
CopyrightFlag | True |
CopyrightNotice | Copyright Birgitta Sjöstedt 2010 |
CreateDate (1) | 2011:04:21 19:22:18.47+02:00 |
CreateDate | 2011:04:21 19:22:18 |
Creator | Birgitta Sjöstedt |
CreatorAddress | Smedvägen 4 |
CreatorCity | Handen |
CreatorCountry | Sverige |
CreatorPostalCode | 136 46 |
CreatorTool | Adobe Photoshop Lightroom |
CreatorWorkEmail | sjostedt.birgitta@telia.com |
CreatorWorkTelephone | 073-7071565 |
CustomRendered | Normal |
DateTimeDigitized | 2011:04:21 19:22:18.47+02:00 |
DateTimeOriginal (1) | 2011:04:21 19:22:18.47+02:00 |
DateTimeOriginal | 2011:04:21 19:22:18 |
Defringe | 0 |
Description | Pasque flower in black and white. |
DOF | 0.007 m (0.587 - 0.593 m) |
ExifImageHeight | 750 |
ExifImageWidth | 504 |
Exposure | +0.84 |
ExposureCompensation | -2/3 |
ExposureMode | Auto |
ExposureProgram | Aperture-priority AE |
ExposureTime | 1/200 |
FillLight | 0 |
Firmware | 1.0.5 |
Flash | Off, Did not fire |
FlashCompensation | 0 |
FlashFired | False |
FlashFunction | False |
FlashMode | Off |
FlashRedEyeMode | False |
FlashReturn | No return detection |
FNumber | 6.3 |
FocalLength | 100.0 mm |
FocalLength35efl | 100.0 mm (35 mm equivalent: 158.5 mm) |
Format | image/jpeg |
FOV | 13.0 deg |
GrainAmount | 0 |
GrayMixerAqua | -60 |
GrayMixerBlue | +1 |
GrayMixerGreen | -80 |
GrayMixerMagenta | +56 |
GrayMixerOrange | -32 |
GrayMixerPurple | +61 |
GrayMixerRed | +3 |
GrayMixerYellow | -60 |
GreenHue | 0 |
GreenSaturation | 0 |
HasCrop | False |
HasSettings | True |
HighlightRecovery | 0 |
HyperfocalDistance | 83.71 m |
ICCProfileName | sRGB IEC61966-2.1 |
ImageDescription | Pasque flower in black and white. |
ImageHeight (1) | 4752 |
ImageHeight | 750 |
ImageNumber | 0 |
ImageSize | 504x750 |
ImageWidth (1) | 3168 |
ImageWidth | 504 |
ISO | 200 |
Keywords | flower, garden, forest, wild, pasque flower, common pasque, backsippa, beauty, luminary, luminescent, self-luminous |
Lens | EF100mm f/2.8L Macro IS USM |
LensID (1) | 254 |
LensID | Canon EF 100mm f/2.8L Macro IS USM |
LensInfo | 100mm f/? |
LensManualDistortionAmount | 0 |
LensProfileChromaticAberrationScale | 100 |
LensProfileDistortionScale | 100 |
LensProfileEnable | 1 |
LensProfileFilename | Canon EOS 50D (Canon EF-S 10-22mm f3.5-4.5 USM) - RAW.lcp |
LensProfileName | Adobe (Canon EF-S 10-22mm f/3.5-4.5 USM) |
LensProfileSetup | Custom |
LensProfileVignettingScale | 100 |
LightValue | 12.0 |
LuminanceNoiseReductionContrast | 0 |
LuminanceNoiseReductionDetail | 50 |
LuminanceSmoothing | 12 |
Make | Canon |
Marked | True |
MaxApertureValue | 2.8 |
Megapixels | 0.378 |
MeteringMode | Partial |
Model | Canon EOS 50D |
ModifyDate (1) | 2011:04:29 07:56:05+02:00 |
ModifyDate | 2011:04:29 07:56:05 |
ObjectName | Luminary |
Orientation | Horizontal (normal) |
PaintCorrectionActive | true |
PaintCorrectionAmount | 1.000000 |
PaintCorrectionBrightness (1) | 0.130000 |
PaintCorrectionBrightness (2) | 0.078000 |
PaintCorrectionBrightness (3) | -0.217000 |
PaintCorrectionBrightness (4) | -0.043000 |
PaintCorrectionBrightness | -0.252000 |
PaintCorrectionClarity | 0.000000 |
PaintCorrectionContrast (1) | -0.043000 |
PaintCorrectionContrast (2) | 0.000000 |
PaintCorrectionContrast (3) | 0.183000 |
PaintCorrectionContrast | 0.148000 |
PaintCorrectionExposure (1) | 0.217000 |
PaintCorrectionExposure (3) | -0.148000 |
PaintCorrectionExposure (4) | -0.113000 |
PaintCorrectionExposure | -0.304000 |
PaintCorrectionHue | 240.000000 |
PaintCorrectionMaskCenterWeight | 0.070676 |
PaintCorrectionMaskFlow | 0.882000 |
PaintCorrectionMaskRadius (1) | 0.024839 |
PaintCorrectionMaskRadius | 0.031817 |
PaintCorrectionMaskValue | 0.735000 |
PaintCorrectionMaskWhat | Mask/Paint |
PaintCorrectionSaturation (1) | 0.113000 |
PaintCorrectionSaturation (5) | 0.165000 |
PaintCorrectionSaturation (7) | 0.200000 |
PaintCorrectionSaturation (9) | 0.130000 |
PaintCorrectionSaturation | 0.000000 |
PaintCorrectionSharpness | 0.000000 |
PaintCorrectionWhat | Correction |
ParametricDarks | -13 |
ParametricHighlights | 0 |
ParametricHighlightSplit | 85 |
ParametricLights | -3 |
ParametricMidtoneSplit | 50 |
ParametricShadows | +48 |
ParametricShadowSplit | 14 |
PerspectiveHorizontal | 0 |
PerspectiveRotate | 0.0 |
PerspectiveScale | 100 |
PerspectiveVertical | 0 |
PostCropVignetteAmount | -43 |
PostCropVignetteFeather | 75 |
PostCropVignetteHighlightContrast | 0 |
PostCropVignetteMidpoint | 50 |
PostCropVignetteRoundness | -43 |
PostCropVignetteStyle | 1 |
ProcessVersion | 5.7 |
ProfileDescription | sRGB IEC61966-2.1 |
Rating | 3 |
RedHue | 0 |
RedSaturation | 0 |
Rights | Copyright Birgitta Sjöstedt 2010 |
ScaleFactor35efl | 1.6 |
SceneCaptureType | Standard |
SerialNumber | 730400804 |
Shadows | 26 |
ShadowTint | 0 |
SharpenDetail | 7 |
SharpenEdgeMasking | 48 |
SharpenRadius | +0.7 |
Sharpness | 67 |
ShutterSpeed | 1/200 |
ShutterSpeedValue | 1/200 |
Software | Adobe Photoshop Elements 8.0 Windows |
SplitToningBalance | 0 |
SplitToningHighlightHue | 0 |
SplitToningHighlightSaturation | 0 |
SplitToningShadowHue | 0 |
SplitToningShadowSaturation | 0 |
Subject | flower, garden, forest, wild, pasque flower, common pasque, backsippa, beauty, luminary, luminescent, self-luminous |
SubjectDistance | 0.59 m |
Tint | +11 |
Title | Luminary |
ToneCurve | 0, 0, 32, 22, 64, 56, 128, 128, 192, 196, 255, 255 |
ToneCurveName | Medium Contrast |
URL_List | |
UsageTerms | Ingen användning av något slag utan tillstånd av upprättsinnehavaren |
Version | 6.1 |
VignetteAmount | 0 |
WhiteBalance (2) | As Shot |
WhiteBalance | Auto |