Felt | Verdi |
AlreadyApplied | True |
Aperture | 10.0 |
ApertureValue | 10.0 |
BitsPerSample | 8 |
BlueHue | 0 |
BlueSaturation | 0 |
Brightness | +64 |
CameraProfile | Adobe Standard |
ChromaticAberrationB | 0 |
ChromaticAberrationR | 0 |
CircleOfConfusion | 0.019 mm |
Clarity | +50 |
ColorComponents | 1 |
ColorNoiseReduction | 25 |
ColorTemperature | 4950 |
Contrast | +25 |
ConvertToGrayscale | True |
CreateDate (1) | 2011:02:19 17:44:18.11+01:00 |
CreateDate | 2011:02:19 17:44:18 |
CreatorTool | Adobe Photoshop Lightroom |
CropAngle | -0.555574 |
CropBottom | 0.986521 |
CropHeight | 2639 |
CropLeft | 0.033658 |
CropRight | 0.966342 |
CropTop | 0.073303 |
CropUnit | pixels |
CropWidth | 3959 |
CustomRendered | Normal |
DateTimeDigitized | 2011:02:19 17:44:18.11+01:00 |
DateTimeOriginal (1) | 2011:02:19 17:44:18.11+01:00 |
DateTimeOriginal | 2011:02:19 17:44:18 |
Defringe | 0 |
ExifImageHeight | 2639 |
ExifImageWidth | 3959 |
Exposure | 0.00 |
ExposureCompensation | +1 |
ExposureMode | Auto |
ExposureProgram | Aperture-priority AE |
ExposureTime | 1/50 |
FillLight | 0 |
Firmware | 1.1.0 |
Flash | Off, Did not fire |
FlashCompensation | 0 |
FlashFired | False |
FlashFunction | False |
FlashMode | Off |
FlashRedEyeMode | False |
FlashReturn | No return detection |
FNumber | 10.0 |
FocalLength | 131.0 mm |
FocalLength35efl | 131.0 mm (35 mm equivalent: 211.6 mm) |
FOV | 9.7 deg |
GrayMixerAqua | -20 |
GrayMixerBlue | -52 |
GrayMixerGreen | -24 |
GrayMixerMagenta | +3 |
GrayMixerOrange | -15 |
GrayMixerPurple | +10 |
GrayMixerRed | -7 |
GrayMixerYellow | -19 |
GreenHue | 0 |
GreenSaturation | 0 |
HasCrop | True |
HasSettings | True |
HighlightRecovery | 0 |
HyperfocalDistance | 92.26 m |
ImageHeight | 2639 |
ImageNumber | 0 |
ImageSize | 3959x2639 |
ImageWidth | 3959 |
ISO | 100 |
Lens | EF70-200mm f/4L USM |
LensInfo | 70-200mm f/? |
LightValue | 12.3 |
LuminanceSmoothing | 55 |
Make | Canon |
MaxApertureValue | 4.0 |
Megapixels | 10.4 |
MeteringMode | Multi-segment |
Model | Canon EOS 450D |
ModifyDate (1) | 2011:02:21 18:40:46+01:00 |
ModifyDate | 2011:02:21 18:40:46 |
ParametricDarks | -100 |
ParametricHighlights | +26 |
ParametricHighlightSplit | 75 |
ParametricLights | -52 |
ParametricMidtoneSplit | 50 |
ParametricShadows | -5 |
ParametricShadowSplit | 25 |
PostCropVignetteAmount | 0 |
ProfileDescription | sRGB IEC61966-2.1 |
RedHue | 0 |
RedSaturation | 0 |
ScaleFactor35efl | 1.6 |
SceneCaptureType | Standard |
SerialNumber | 1780525530 |
Shadows | 5 |
ShadowTint | 0 |
SharpenDetail | 62 |
SharpenEdgeMasking | 60 |
SharpenRadius | +1.0 |
Sharpness | 98 |
ShutterSpeed | 1/50 |
ShutterSpeedValue | 1/50 |
SplitToningBalance | 0 |
SplitToningHighlightHue | 0 |
SplitToningHighlightSaturation | 0 |
SplitToningShadowHue | 0 |
SplitToningShadowSaturation | 0 |
Tint | +4 |
ToneCurve | 0, 0, 32, 22, 64, 56, 128, 128, 192, 196, 255, 255 |
ToneCurveName | Medium Contrast |
Version | 5.2 |
VignetteAmount | 0 |
WhiteBalance (2) | As Shot |
WhiteBalance | Manual |