Felt | Verdi |
AlreadyApplied | True |
Aperture | 8.0 |
ApertureValue | 8.0 |
Artist | Paul Guanio-Uluru |
BitsPerSample | 8 |
BlueHue | 0 |
BlueSaturation | 0 |
Brightness | +50 |
By-line | Paul Guanio-Uluru |
CameraProfile | Adobe Standard |
ChromaticAberrationB | 0 |
ChromaticAberrationR | 0 |
CircleOfConfusion | 0.030 mm |
Clarity | +22 |
ColorComponents | 3 |
ColorMode | RGB |
ColorNoiseReduction | 25 |
ColorSpace (1) | sRGB |
ColorSpace | Uncalibrated |
ColorTemperature | 5200 |
Contrast | +25 |
ConvertToGrayscale | False |
Copyright | Paul Guanio-Uluru |
CopyrightNotice | Paul Guanio-Uluru |
CreateDate (1) | 2011:02:05 13:00:53+01:00 |
CreateDate | 2011:02:05 13:00:53 |
Creator | Paul Guanio-Uluru |
CreatorTool | 1.138 |
CropAngle | 0.480961 |
CropBottom | 1 |
CropLeft | 0.008987 |
CropRight | 0.991013 |
CropTop | 0 |
DateTimeDigitized | 2011:02:05 13:00:53+01:00 |
DateTimeOriginal (1) | 2011:02:05 13:00:53+01:00 |
DateTimeOriginal | 2011:02:05 13:00:53 |
Defringe | 0 |
DigitalZoomRatio | 0 |
ExifImageHeight (1) | 3425 |
ExifImageHeight | 681 |
ExifImageWidth (1) | 5147 |
ExifImageWidth | 1024 |
Exposure | +0.55 |
ExposureCompensation (1) | +0.664 |
ExposureCompensation | +Inf |
ExposureMode | Manual |
ExposureProgram | Aperture-priority AE |
ExposureTime | 1/125 |
FillLight | 0 |
Flash | No Flash |
FlashFired | False |
FlashFunction | False |
FlashMode | Unknown |
FlashRedEyeMode | False |
FlashReturn | No return detection |
FNumber | 8.0 |
FocalLength | 28.0 mm |
FocalLength35efl | 28.0 mm (35 mm equivalent: 28.0 mm) |
FocalLengthIn35mmFormat | 28 mm |
Format | image/jpeg |
FOV | 65.5 deg |
GradientBasedCorrActive | true |
GradientBasedCorrAmount | 1.000000 |
GradientBasedCorrBrightness | 0.050000 |
GradientBasedCorrClarity | 0.130000 |
GradientBasedCorrContrast | 0.000000 |
GradientBasedCorrExposure | -0.450000 |
GradientBasedCorrHue | 0.000000 |
GradientBasedCorrMaskFullX | 0.512509 |
GradientBasedCorrMaskFullY | 0.015655 |
GradientBasedCorrMaskValue | 1.000000 |
GradientBasedCorrMaskWhat | Mask/Gradient |
GradientBasedCorrMaskZeroX | 0.511600 |
GradientBasedCorrMaskZeroY | 0.178436 |
GradientBasedCorrSaturation | 0.000000 |
GradientBasedCorrSharpness | 0.100000 |
GradientBasedCorrWhat | Correction |
GreenHue | 0 |
GreenSaturation | 0 |
HasCrop | True |
HasSettings | True |
HighlightRecovery | 0 |
HueAdjustmentAqua | 0 |
HueAdjustmentBlue | 0 |
HueAdjustmentGreen | 0 |
HueAdjustmentMagenta | 0 |
HueAdjustmentOrange | 0 |
HueAdjustmentPurple | 0 |
HueAdjustmentRed | 0 |
HueAdjustmentYellow | 0 |
HyperfocalDistance | 3.26 m |
ICCProfileName | sRGB IEC61966-2.1 |
IFD0_Offset | 1129 |
ImageDataSize | 475682 |
ImageHeight | 681 |
ImageSize | 1024x681 |
ImageWidth | 1024 |
ISO | 160 |
Lens | Leica Summicron-M 28mm f/2 ASPH. |
LensID (1) | 26 |
LensID | Summicron-M 28mm f/2 ASPH. |
LightSource | Unknown |
LightValue | 12.3 |
LuminanceAdjustmentAqua | 0 |
LuminanceAdjustmentBlue | 0 |
LuminanceAdjustmentGreen | 0 |
LuminanceAdjustmentMagenta | 0 |
LuminanceAdjustmentOrange | 0 |
LuminanceAdjustmentPurple | 0 |
LuminanceAdjustmentRed | 0 |
LuminanceAdjustmentYellow | 0 |
LuminanceSmoothing | 0 |
Make | Leica Camera AG |
MakerNoteSafety | Safe |
MakerNoteVersion | 2.10 |
MaxApertureValue | 2.0 |
Megapixels | 0.697 |
MeteringMode | Center-weighted average |
Model | M9 Digital Camera |
ModifyDate (1) | 2011:02:05 14:49:24+01:00 |
ModifyDate | 2011:02:05 13:53:00 |
NEFBitDepth | n/a (JPEG) |
NikonCaptureVersion | Capture NX 2.2.6 M |
Orientation | Horizontal (normal) |
ParametricDarks | -4 |
ParametricHighlights | +12 |
ParametricHighlightSplit | 75 |
ParametricLights | +8 |
ParametricMidtoneSplit | 50 |
ParametricShadows | -12 |
ParametricShadowSplit | 25 |
PostCropVignetteAmount | 0 |
PreviewIFD_Offset | 1029 |
ProfileDescription | sRGB IEC61966-2.1 |
Rating | 0 |
RawFileName | L1005180.DNG |
RedHue | 0 |
RedSaturation | 0 |
Rights | Paul Guanio-Uluru |
Saturation | 0 |
SaturationAdjustmentAqua | 0 |
SaturationAdjustmentBlue | 0 |
SaturationAdjustmentGreen | 0 |
SaturationAdjustmentMagenta | 0 |
SaturationAdjustmentOrange | 0 |
SaturationAdjustmentPurple | 0 |
SaturationAdjustmentRed | 0 |
SaturationAdjustmentYellow | 0 |
ScaleFactor35efl | 1.0 |
SceneCaptureType | Standard |
SceneType | Directly photographed |
SerialNumber | 3841659 |
Shadows | 5 |
ShadowTint | 0 |
SharpenDetail | 25 |
SharpenEdgeMasking | 0 |
SharpenRadius | +1.0 |
Sharpness | 100 |
ShutterSpeed | 1/125 |
ShutterSpeedValue (1) | 1/125 |
ShutterSpeedValue | 0.5 |
Software | Capture NX 2.2.6 M |
SplitToningBalance | 0 |
SplitToningHighlightHue | 0 |
SplitToningHighlightSaturation | 0 |
SplitToningShadowHue | 0 |
SplitToningShadowSaturation | 0 |
Tint | +5 |
ToneCurve | 0, 0, 32, 22, 64, 56, 128, 128, 192, 196, 255, 255 |
ToneCurveName | Medium Contrast |
Version | 5.6 |
Vibrance | +10 |
VignetteAmount | 0 |
WhiteBalance (2) | As Shot |
WhiteBalance | Auto |