Felt | Verdi |
AlreadyApplied | True |
Aperture | 6.7 |
ApertureValue | 6.7 |
BitsPerSample | 8 |
BlueHue | 0 |
BlueSaturation | 0 |
Brightness | +50 |
By-line | Åsmund Breivik |
CameraProfile | Adobe Standard |
ChromaticAberrationB | 0 |
ChromaticAberrationR | 0 |
CircleOfConfusion | 0.020 mm |
Clarity | +43 |
ColorComponents | 3 |
ColorNoiseReduction | 25 |
ColorNoiseReductionDetail | 50 |
ColorTemperature | 5050 |
Contrast (2) | +21 |
Contrast | Normal |
ConvertToGrayscale | False |
Copyright | (C) Asmund Breivik |
CopyrightFlag | True |
CopyrightNotice | © Åsmund Breivik |
CreateDate (1) | 2010:05:14 00:55:00+02:00 |
CreateDate | 2010:05:14 00:55:00 |
Creator | Åsmund Breivik |
CreatorAddress | Jermannvegen 22 |
CreatorCity | Aukra |
CreatorCountry | Norway |
CreatorPostalCode | 6480-N |
CreatorTool | Adobe Photoshop Lightroom 3.3 |
CreatorWorkEmail | aasmund74@gmail.com |
CreatorWorkTelephone | +47 90582281 |
CropAngle | 0 |
CropBottom | 0.735294 |
CropConstrainToWarp | 0 |
CropHeight | 1266 |
CropLeft | 0.234375 |
CropRight | 0.69401 |
CropTop | 0.327451 |
CropUnit | pixels |
CropWidth | 2147 |
CustomRendered | Normal |
DateTimeDigitized | 2010:05:14 00:55:00+02:00 |
DateTimeOriginal (1) | 2010:05:14 00:55:00+02:00 |
DateTimeOriginal | 2010:05:14 00:55:00 |
Defringe | 0 |
ExifImageHeight | 1266 |
ExifImageWidth | 2147 |
Exposure | -0.14 |
ExposureCompensation | -1 |
ExposureMode | Auto bracket |
ExposureProgram | Program AE |
ExposureTime | 1/350 |
FillLight | 24 |
Flash | Off, Did not fire |
FlashFired | False |
FlashFunction | False |
FlashMode | Off |
FlashRedEyeMode | False |
FlashReturn | No return detection |
FNumber | 6.7 |
FocalLength | 200.0 mm |
FocalLength35efl | 200.0 mm (35 mm equivalent: 300.0 mm) |
FocalLengthIn35mmFormat | 300 mm |
FOV | 6.9 deg |
GrainAmount | 0 |
GreenHue | 0 |
GreenSaturation | 0 |
HasCrop | True |
HasSettings | True |
HighlightRecovery | 26 |
HueAdjustmentAqua | 0 |
HueAdjustmentBlue | 0 |
HueAdjustmentGreen | 0 |
HueAdjustmentMagenta | 0 |
HueAdjustmentOrange | 0 |
HueAdjustmentPurple | 0 |
HueAdjustmentRed | 0 |
HueAdjustmentYellow | 0 |
HyperfocalDistance | 298.05 m |
ImageHeight | 1266 |
ImageSize | 2147x1266 |
ImageWidth | 2147 |
ISO | 400 |
Keywords | Natt, Wildlife |
Lens | smc PENTAX-DA 50-200mm F4-5.6 ED |
LensID (1) | 4 250 |
LensID | smc PENTAX-DA 50-200mm F4-5.6 ED |
LensInfo | 50-200mm f/4-5.6 |
LensManualDistortionAmount | 0 |
LensModel | smc PENTAX-DA 50-200mm F4-5.6 ED |
LensProfileEnable | 0 |
LensProfileSetup | LensDefaults |
LightValue | 11.9 |
LuminanceAdjustmentAqua | 0 |
LuminanceAdjustmentBlue | 0 |
LuminanceAdjustmentGreen | 0 |
LuminanceAdjustmentMagenta | 0 |
LuminanceAdjustmentOrange | 0 |
LuminanceAdjustmentPurple | 0 |
LuminanceAdjustmentRed | 0 |
LuminanceAdjustmentYellow | 0 |
LuminanceSmoothing | 0 |
Make | PENTAX |
Marked | True |
Megapixels | 2.7 |
MeteringMode | Multi-segment |
Model | PENTAX K20D |
ModifyDate (1) | 2010:12:13 11:14:33+01:00 |
ModifyDate | 2010:12:13 11:14:33 |
ParametricDarks | 0 |
ParametricHighlights | 0 |
ParametricHighlightSplit | 75 |
ParametricLights | 0 |
ParametricMidtoneSplit | 50 |
ParametricShadows | 0 |
ParametricShadowSplit | 25 |
PerspectiveHorizontal | 0 |
PerspectiveRotate | 0.0 |
PerspectiveScale | 100 |
PerspectiveVertical | 0 |
PostCropVignetteAmount | -6 |
PostCropVignetteFeather | 50 |
PostCropVignetteMidpoint | 50 |
PostCropVignetteRoundness | 0 |
PostCropVignetteStyle | 3 |
ProcessVersion | 5.7 |
ProfileDescription | Adobe RGB (1998) |
RedHue | 0 |
RedSaturation | 0 |
Rights | © Åsmund Breivik |
Saturation (2) | -1 |
Saturation | Normal |
SaturationAdjustmentAqua | 0 |
SaturationAdjustmentBlue | 0 |
SaturationAdjustmentGreen | 0 |
SaturationAdjustmentMagenta | 0 |
SaturationAdjustmentOrange | 0 |
SaturationAdjustmentPurple | 0 |
SaturationAdjustmentRed | 0 |
SaturationAdjustmentYellow | 0 |
ScaleFactor35efl | 1.5 |
SceneCaptureType | Standard |
SensingMethod | One-chip color area |
SensitivityType | Unknown |
Shadows | 10 |
ShadowTint | 0 |
SharpenDetail | 72 |
SharpenEdgeMasking | 30 |
SharpenRadius | +2.5 |
Sharpness (2) | 90 |
Sharpness | Soft |
ShutterSpeed | 1/350 |
ShutterSpeedValue | 1/350 |
Software | K20D Ver 1.03 |
SplitToningBalance | 0 |
SplitToningHighlightHue | 0 |
SplitToningHighlightSaturation | 0 |
SplitToningShadowHue | 0 |
SplitToningShadowSaturation | 0 |
Subject | Natt, Wildlife |
SubjectDistanceRange | Distant |
Tint | -12 |
ToneCurve | 0, 0, 32, 22, 64, 56, 128, 128, 192, 196, 255, 255 |
ToneCurveName | Medium Contrast |
UsageTerms | All rights reserved |
Version | 6.3 |
Vibrance | 0 |
VignetteAmount | 0 |
WhiteBalance (2) | As Shot |
WhiteBalance | Auto |