Felt | Verdi |
AlreadyApplied | True |
Aperture | 36.0 |
ApertureValue | 36.0 |
Artist | Kaare Westeraas |
BitsPerSample | 8 |
BlueHue | 0 |
BlueSaturation | 0 |
Brightness | +50 |
By-line | Kaare Westeraas |
CameraProfile | Adobe Standard |
ChromaticAberrationB | 0 |
ChromaticAberrationR | 0 |
CircleOfConfusion | 0.019 mm |
Clarity | +25 |
ColorComponents | 3 |
ColorMode | RGB |
ColorNoiseReduction | 10 |
ColorSpace | sRGB |
ColorTemperature | 6450 |
Contrast | +35 |
ConvertToGrayscale | False |
CopyrightFlag | False |
CreateDate (1) | 2010:11:25 12:50:50.94+01:00 |
CreateDate | 2010:11:25 12:50:50 |
Creator | Kaare Westeraas |
CustomRendered | Normal |
DateTimeDigitized | 2010:11:25 12:50:50.94+01:00 |
DateTimeOriginal (1) | 2010:11:25 11:50:50Z |
DateTimeOriginal | 2010:11:25 11:50:50 |
Defringe | 0 |
ExifImageHeight | 3168 |
ExifImageWidth | 4752 |
Exposure | 0.00 |
ExposureCompensation | 0 |
ExposureMode | Auto |
ExposureProgram | Aperture-priority AE |
ExposureTime | 2 |
FillLight | 0 |
Firmware | 1.0.9 |
Flash | Off, Did not fire |
FlashCompensation | 0 |
FlashFired | False |
FlashFunction | False |
FlashMode | Off |
FlashRedEyeMode | False |
FlashReturn | No return detection |
FNumber | 36.0 |
FocalLength | 55.0 mm |
FocalLength35efl | 55.0 mm (35 mm equivalent: 87.3 mm) |
Format | image/jpeg |
FOV | 23.3 deg |
GPSLatitude (2) | 0 deg 0' 0.00" |
GPSLatitude | 0 deg 0' 0.00" N |
GPSLatitudeRef | North |
GPSLongitude (2) | 0 deg 0' 0.00" |
GPSLongitude | 0 deg 0' 0.00" E |
GPSLongitudeRef | East |
GPSPosition | 0 deg 0' 0.00" N, 0 deg 0' 0.00" E |
GreenHue | 0 |
GreenSaturation | 0 |
HasCrop | False |
HasSettings | True |
HighlightRecovery | 100 |
HueAdjustmentAqua | 0 |
HueAdjustmentBlue | 0 |
HueAdjustmentGreen | 0 |
HueAdjustmentMagenta | 0 |
HueAdjustmentOrange | 0 |
HueAdjustmentPurple | 0 |
HueAdjustmentRed | 0 |
HueAdjustmentYellow | 0 |
HyperfocalDistance | 4.44 m |
ICCProfileName | sRGB IEC61966-2.1 |
ImageHeight | 3168 |
ImageNumber | 0 |
ImageSize | 4752x3168 |
ImageWidth | 4752 |
ISO | 100 |
Keywords | In Focus, High Quality |
Lens | EF-S18-55mm f/3.5-5.6 IS |
LensInfo | 18-55mm f/? |
LightValue | 9.3 |
LuminanceAdjustmentAqua | 0 |
LuminanceAdjustmentBlue | 0 |
LuminanceAdjustmentGreen | 0 |
LuminanceAdjustmentMagenta | 0 |
LuminanceAdjustmentOrange | 0 |
LuminanceAdjustmentPurple | 0 |
LuminanceAdjustmentRed | 0 |
LuminanceAdjustmentYellow | 0 |
LuminanceSmoothing | 5 |
Make | Canon |
MaxApertureValue | 5.7 |
Megapixels | 15.1 |
MeteringMode | Spot |
Model | Canon EOS 500D |
ModifyDate (1) | 2010:12:01 17:03:42+01:00 |
ModifyDate | 2010:12:01 17:03:42 |
Orientation | Horizontal (normal) |
OwnerName | Kaare Westeraas |
ParametricDarks | 0 |
ParametricHighlights | 0 |
ParametricHighlightSplit | 75 |
ParametricLights | 0 |
ParametricMidtoneSplit | 50 |
ParametricShadows | 0 |
ParametricShadowSplit | 25 |
PostCropVignetteAmount | 0 |
ProfileDescription | sRGB IEC61966-2.1 |
Rating | 0 |
RawFileName | IMG_4290.CR2 |
RedHue | 0 |
RedSaturation | 0 |
Saturation | +15 |
SaturationAdjustmentAqua | 0 |
SaturationAdjustmentBlue | 0 |
SaturationAdjustmentGreen | 0 |
SaturationAdjustmentMagenta | 0 |
SaturationAdjustmentOrange | 0 |
SaturationAdjustmentPurple | 0 |
SaturationAdjustmentRed | 0 |
SaturationAdjustmentYellow | 0 |
ScaleFactor35efl | 1.6 |
SceneCaptureType | Standard |
SerialNumber | 680127888 |
Shadows | 5 |
ShadowTint | 0 |
SharpenDetail | 40 |
SharpenEdgeMasking | 15 |
SharpenRadius | +0.8 |
Sharpness | 60 |
ShutterSpeed | 2 |
ShutterSpeedValue | 2 |
SidecarForExtension | CR2 |
SplitToningBalance | 0 |
SplitToningHighlightHue | 0 |
SplitToningHighlightSaturation | 0 |
SplitToningShadowHue | 0 |
SplitToningShadowSaturation | 0 |
Subject | In Focus, High Quality |
Tint | +4 |
ToneCurve | 0, 0, 32, 22, 64, 56, 128, 128, 192, 196, 255, 255 |
ToneCurveName | Medium Contrast |
URL_List | |
Version | 5.5 |
Vibrance | +15 |
VignetteAmount | 0 |
WhiteBalance (2) | As Shot |
WhiteBalance | Auto |