Felt | Verdi |
AlreadyApplied | True |
Aperture | 2.8 |
ApertureValue | 2.8 |
BitsPerSample | 8 |
BlueHue | 0 |
BlueSaturation | 0 |
Brightness | +50 |
CameraProfile | Adobe Standard |
CFAPattern | [Red,Green][Green,Blue] |
ChromaticAberrationB | 0 |
ChromaticAberrationR | 0 |
CircleOfConfusion | 0.020 mm |
Clarity | -62 |
ColorComponents | 1 |
ColorNoiseReduction | 25 |
ColorTemperature | 4550 |
Contrast (2) | +89 |
Contrast | Normal |
ConvertToGrayscale | True |
CreateDate (1) | 2010:10:02 08:12:20.08+02:00 |
CreateDate | 2010:10:02 08:12:20 |
CreatorTool | Adobe Photoshop Lightroom |
CropAngle | 0 |
CropBottom | 0.915344 |
CropHeight | 2607 |
CropLeft | 0 |
CropRight | 0.733021 |
CropTop | 0 |
CropUnit | pixels |
CropWidth | 3143 |
CustomRendered | Normal |
DateTimeDigitized | 2010:10:02 08:12:20.08+02:00 |
DateTimeOriginal (1) | 2010:10:02 08:12:20.08+02:00 |
DateTimeOriginal | 2010:10:02 08:12:20 |
Defringe | 0 |
DigitalZoomRatio | 1 |
DOF | inf (3.49 m - inf) |
ExifImageHeight | 2607 |
ExifImageWidth | 3143 |
Exposure | -4.00 |
ExposureCompensation | 0 |
ExposureMode | Manual |
ExposureProgram | Manual |
ExposureTime | 1/4 |
FillLight | 0 |
Flash | No Flash |
FlashFired | False |
FlashFunction | False |
FlashMode | Unknown |
FlashRedEyeMode | False |
FlashReturn | No return detection |
FNumber | 2.8 |
FocalLength | 14.0 mm |
FocalLength35efl | 14.0 mm (35 mm equivalent: 21.0 mm) |
FocalLengthIn35mmFormat | 21 mm |
FOV | 81.2 deg |
GainControl | High gain up |
GrayMixerAqua | -19 |
GrayMixerBlue | +10 |
GrayMixerGreen | -28 |
GrayMixerMagenta | +5 |
GrayMixerOrange | -19 |
GrayMixerPurple | +17 |
GrayMixerRed | -9 |
GrayMixerYellow | -24 |
GreenHue | 0 |
GreenSaturation | 0 |
HasCrop | True |
HasSettings | True |
HighlightRecovery | 100 |
HyperfocalDistance | 3.49 m |
ImageHeight | 2607 |
ImageNumber | 19546 |
ImageSize | 3143x2607 |
ImageWidth | 3143 |
ISO | 1000 |
Lens | 14.0-24.0 mm f/2.8 |
LensID (1) | 146 |
LensID | AF-S Zoom-Nikkor 14-24mm f/2.8G ED |
LensInfo | 14-24mm f/2.8 |
LightSource | Unknown |
LightValue | 1.6 |
LuminanceSmoothing | 0 |
Make | NIKON CORPORATION |
MaxApertureValue | 2.8 |
Megapixels | 8.2 |
MeteringMode | Spot |
Model | NIKON D300 |
ModifyDate (1) | 2010:11:17 18:34:41+01:00 |
ModifyDate | 2010:11:17 18:34:41 |
ParametricDarks | 0 |
ParametricHighlights | +40 |
ParametricHighlightSplit | 75 |
ParametricLights | +21 |
ParametricMidtoneSplit | 50 |
ParametricShadows | -57 |
ParametricShadowSplit | 25 |
PostCropVignetteAmount | 0 |
ProfileDescription | sRGB IEC61966-2.1 |
RedHue | 0 |
RedSaturation | 0 |
Saturation | Normal |
ScaleFactor35efl | 1.5 |
SceneCaptureType | Standard |
SceneType | Directly photographed |
SensingMethod | One-chip color area |
SerialNumber | 4113414 |
Shadows | 5 |
ShadowTint | 0 |
SharpenDetail | 25 |
SharpenEdgeMasking | 0 |
SharpenRadius | +1.0 |
Sharpness (2) | 25 |
Sharpness | Normal |
ShutterSpeed | 1/4 |
ShutterSpeedValue | 1/4 |
Software | Ver.1.00 |
SplitToningBalance | 0 |
SplitToningHighlightHue | 0 |
SplitToningHighlightSaturation | 0 |
SplitToningShadowHue | 0 |
SplitToningShadowSaturation | 0 |
SubjectDistance | 4294967295 m |
SubjectDistanceRange | Unknown |
Tint | +50 |
ToneCurve | 0, 0, 32, 22, 64, 56, 128, 128, 192, 196, 255, 255 |
ToneCurveName | Medium Contrast |
Version | 5.6 |
VignetteAmount | 0 |
WhiteBalance (2) | As Shot |
WhiteBalance | Auto |