Felt | Verdi |
AlreadyApplied | True |
Aperture | 4.5 |
ApertureValue | 4.5 |
Artist | Kim Hansen |
BitsPerSample | 8 |
BlueHue | -69 |
BlueSaturation | -17 |
Brightness | 0 |
By-line | Kim Hansen |
CameraProfile | Embedded |
ChromaticAberrationB | 0 |
ChromaticAberrationR | 0 |
CircleOfConfusion | 0.019 mm |
Clarity | +86 |
ColorComponents | 3 |
ColorNoiseReduction | 93 |
Contrast | 0 |
ConvertToGrayscale | False |
CreateDate (1) | 2010:03:28 00:12:24+01:00 |
CreateDate | 2010:03:28 00:12:24 |
Creator | Kim Hansen |
CreatorTool | Adobe Photoshop Lightroom |
CustomRendered | Normal |
DateTimeDigitized | 2010:03:28 00:12:24+01:00 |
DateTimeOriginal (1) | 2010:03:28 00:12:24+01:00 |
DateTimeOriginal | 2010:03:28 00:12:24 |
Defringe | 0 |
ExifImageHeight | 3456 |
ExifImageWidth | 5184 |
Exposure | 0.00 |
ExposureCompensation | 0 |
ExposureMode | Auto |
ExposureTime | 69 |
FillLight | 0 |
Firmware | 1.0.9 |
Flash | Off, Did not fire |
FlashCompensation | 0 |
FlashFired | False |
FlashFunction | False |
FlashMode | Off |
FlashRedEyeMode | False |
FlashReturn | No return detection |
FNumber | 4.5 |
FocalLength | 17.0 mm |
FocalLength35efl | 17.0 mm (35 mm equivalent: 26.7 mm) |
FOV | 68.0 deg |
GreenHue | -95 |
GreenSaturation | -60 |
HasCrop | False |
HasSettings | True |
HighlightRecovery | 0 |
HueAdjustmentAqua | +12 |
HueAdjustmentBlue | +24 |
HueAdjustmentGreen | -10 |
HueAdjustmentMagenta | +5 |
HueAdjustmentOrange | +62 |
HueAdjustmentPurple | -29 |
HueAdjustmentRed | +2 |
HueAdjustmentYellow | -76 |
HyperfocalDistance | 3.36 m |
ImageHeight (1) | 3456 |
ImageHeight | 3065 |
ImageNumber | 0 |
ImageSize | 5184x3065 |
ImageWidth | 5184 |
IncrementalTemperature | +57 |
IncrementalTint | -21 |
ISO | 100 |
Lens | EF-S17-85mm f/4-5.6 IS USM |
LensInfo | 17-85mm f/? |
LightValue | -1.8 |
LuminanceAdjustmentAqua | 0 |
LuminanceAdjustmentBlue | 0 |
LuminanceAdjustmentGreen | 0 |
LuminanceAdjustmentMagenta | 0 |
LuminanceAdjustmentOrange | 0 |
LuminanceAdjustmentPurple | 0 |
LuminanceAdjustmentRed | 0 |
LuminanceAdjustmentYellow | 0 |
LuminanceSmoothing | 94 |
Make | Canon |
MaxApertureValue | 4.0 |
Megapixels | 15.9 |
Model | Canon EOS 7D |
ModifyDate (1) | 2010:06:21 07:21:34+02:00 |
ModifyDate | 2010:06:21 07:21:34 |
ParametricDarks | +10 |
ParametricHighlights | +17 |
ParametricHighlightSplit | 75 |
ParametricLights | +55 |
ParametricMidtoneSplit | 50 |
ParametricShadows | +29 |
ParametricShadowSplit | 25 |
PostCropVignetteAmount | 0 |
ProfileDescription | sRGB IEC61966-2.1 |
RedHue | 0 |
RedSaturation | -50 |
Saturation | +55 |
SaturationAdjustmentAqua | 0 |
SaturationAdjustmentBlue | 0 |
SaturationAdjustmentGreen | 0 |
SaturationAdjustmentMagenta | 0 |
SaturationAdjustmentOrange | 0 |
SaturationAdjustmentPurple | 0 |
SaturationAdjustmentRed | 0 |
SaturationAdjustmentYellow | 0 |
ScaleFactor35efl | 1.6 |
SceneCaptureType | Standard |
SerialNumber | 380309958 |
Shadows | 0 |
ShadowTint | +17 |
SharpenDetail | 49 |
SharpenEdgeMasking | 96 |
SharpenRadius | +2.1 |
Sharpness | 11 |
ShutterSpeed | 69 |
ShutterSpeedValue | 69 |
Software | Digital Photo Professional |
SplitToningBalance | 0 |
SplitToningHighlightHue | 73 |
SplitToningHighlightSaturation | 45 |
SplitToningShadowHue | 56 |
SplitToningShadowSaturation | 21 |
ToneCurve | 0, 0, 255, 255 |
ToneCurveName | Linear |
Version | 4.6 |
Vibrance | +67 |
VignetteAmount | 0 |
WhiteBalance (2) | Custom |
WhiteBalance | Manual |