Felt | Verdi |
AlreadyApplied | True |
Aperture | 6.3 |
ApertureValue | 6.3 |
BitsPerSample | 8 |
BlueHue | 0 |
BlueSaturation | 0 |
Brightness | +50 |
CameraProfile | Adobe Standard |
CFAPattern | [Red,Green][Green,Blue] |
ChromaticAberrationB | 0 |
ChromaticAberrationR | 0 |
CircleOfConfusion | 0.020 mm |
Clarity | +19 |
ColorComponents | 3 |
ColorNoiseReduction | 25 |
ColorTemperature | 4700 |
Contrast (2) | +48 |
Contrast | Normal |
ConvertToGrayscale | False |
CreateDate (1) | 2010:05:08 16:31:16.54+02:00 |
CreateDate | 2010:05:08 16:31:16 |
CreatorTool | Adobe Photoshop Lightroom |
CropAngle | 0 |
CropBottom | 0.90458 |
CropHeight | 2576 |
CropLeft | 0.060837 |
CropRight | 1 |
CropTop | 0 |
CropUnit | pixels |
CropWidth | 4027 |
CustomRendered | Normal |
DateTimeDigitized | 2010:05:08 16:31:16.54+02:00 |
DateTimeOriginal (1) | 2010:05:08 16:31:16.54+02:00 |
DateTimeOriginal | 2010:05:08 16:31:16 |
Defringe | 0 |
DigitalZoomRatio | 1 |
DOF | 7.75 m (43.74 - 51.49 m) |
ExifImageHeight | 2576 |
ExifImageWidth | 4027 |
Exposure | 0.00 |
ExposureCompensation | 0 |
ExposureMode | Auto |
ExposureProgram | Aperture-priority AE |
ExposureTime | 1/750 |
FillLight | 0 |
Flash | No Flash |
FlashFired | False |
FlashFunction | False |
FlashMode | Unknown |
FlashRedEyeMode | False |
FlashReturn | No return detection |
FNumber | 6.3 |
FocalLength | 270.0 mm |
FocalLength35efl | 270.0 mm (35 mm equivalent: 405.0 mm) |
FocalLengthIn35mmFormat | 405 mm |
FOV | 5.1 deg |
GainControl | None |
GreenHue | 0 |
GreenSaturation | 0 |
HasCrop | True |
HasSettings | True |
HighlightRecovery | 0 |
HueAdjustmentAqua | 0 |
HueAdjustmentBlue | 0 |
HueAdjustmentGreen | 0 |
HueAdjustmentMagenta | 0 |
HueAdjustmentOrange | 0 |
HueAdjustmentPurple | 0 |
HueAdjustmentRed | 0 |
HueAdjustmentYellow | 0 |
HyperfocalDistance | 577.68 m |
ImageHeight | 2576 |
ImageNumber | 15492 |
ImageSize | 4027x2576 |
ImageWidth | 4027 |
ISO | 200 |
Lens | 18.0-270.0 mm f/3.5-6.3 |
LensID (1) | 245 |
LensID | Tamron AF 18-270mm f/3.5-6.3 Di II VC LD Aspherical (IF) Macro (B003) |
LensInfo | 18-270mm f/3.5-6.3 |
LightSource | Unknown |
LightValue | 13.9 |
LuminanceAdjustmentAqua | 0 |
LuminanceAdjustmentBlue | 0 |
LuminanceAdjustmentGreen | 0 |
LuminanceAdjustmentMagenta | 0 |
LuminanceAdjustmentOrange | 0 |
LuminanceAdjustmentPurple | 0 |
LuminanceAdjustmentRed | 0 |
LuminanceAdjustmentYellow | 0 |
LuminanceSmoothing | 0 |
Make | NIKON CORPORATION |
MaxApertureValue | 6.3 |
Megapixels | 10.4 |
MeteringMode | Multi-segment |
Model | NIKON D300 |
ModifyDate (1) | 2010:05:08 22:45:12+02:00 |
ModifyDate | 2010:05:08 22:45:12 |
ParametricDarks | 0 |
ParametricHighlights | +17 |
ParametricHighlightSplit | 75 |
ParametricLights | -67 |
ParametricMidtoneSplit | 50 |
ParametricShadows | -48 |
ParametricShadowSplit | 25 |
PostCropVignetteAmount | 0 |
ProfileDescription | sRGB IEC61966-2.1 |
RedHue | 0 |
RedSaturation | 0 |
Saturation (2) | 0 |
Saturation | Normal |
SaturationAdjustmentAqua | 0 |
SaturationAdjustmentBlue | 0 |
SaturationAdjustmentGreen | 0 |
SaturationAdjustmentMagenta | 0 |
SaturationAdjustmentOrange | 0 |
SaturationAdjustmentPurple | 0 |
SaturationAdjustmentRed | 0 |
SaturationAdjustmentYellow | 0 |
ScaleFactor35efl | 1.5 |
SceneCaptureType | Standard |
SceneType | Directly photographed |
SensingMethod | One-chip color area |
SerialNumber | 4113414 |
Shadows | 5 |
ShadowTint | 0 |
SharpenDetail | 25 |
SharpenEdgeMasking | 0 |
SharpenRadius | +2.2 |
Sharpness (2) | 104 |
Sharpness | Normal |
ShutterSpeed | 1/750 |
ShutterSpeedValue | 1/750 |
Software | Ver.1.00 |
SplitToningBalance | 0 |
SplitToningHighlightHue | 0 |
SplitToningHighlightSaturation | 0 |
SplitToningShadowHue | 0 |
SplitToningShadowSaturation | 0 |
SubjectDistance | 47.3 m |
SubjectDistanceRange | Unknown |
Tint | +5 |
ToneCurve | 0, 0, 32, 22, 64, 56, 128, 128, 192, 196, 255, 255 |
ToneCurveName | Medium Contrast |
Version | 5.6 |
Vibrance | -26 |
VignetteAmount | 0 |
WhiteBalance (2) | As Shot |
WhiteBalance | Auto |