Felt | Verdi |
AlreadyApplied | True |
Aperture | 10.0 |
ApertureValue | 10.0 |
Artist | Oddbjorn Messenlien |
BitsPerSample | 8 |
BlueHue | 0 |
BlueSaturation | 0 |
Brightness | +16 |
By-line | Oddbjorn Messenlien |
CameraProfile | Matrix |
ChromaticAberrationB | 0 |
ChromaticAberrationR | 0 |
CircleOfConfusion | 0.019 mm |
Clarity | +18 |
ColorComponents | 3 |
ColorMode | RGB |
ColorNoiseReduction | 25 |
ColorSpace | Uncalibrated |
ColorTemperature | 6400 |
Contrast | +31 |
ConvertToGrayscale | False |
CreateDate (1) | 2010:05:02 20:09:56.00+02:00 |
CreateDate | 2010:05:02 20:09:56 |
Creator | Oddbjorn Messenlien |
CropAngle | 0 |
CropBottom | 1 |
CropLeft | 0 |
CropRight | 0.940235 |
CropTop | 0 |
CustomRendered | Normal |
DateTimeDigitized | 2010:05:02 20:09:56.00+02:00 |
DateTimeOriginal (1) | 2010:05:02 20:09:56.00+02:00 |
DateTimeOriginal | 2010:05:02 20:09:56 |
Defringe | 0 |
DOF | inf (5.44 m - inf) |
ExifImageHeight | 4874 |
ExifImageWidth | 3456 |
Exposure | +0.75 |
ExposureCompensation | 0 |
ExposureMode | Auto |
ExposureProgram | Aperture-priority AE |
ExposureTime | 1/30 |
FillLight | 8 |
Firmware | 1.1.0 |
Flash | Off, Did not fire |
FlashCompensation | 0 |
FlashFired | False |
FlashFunction | False |
FlashMode | Off |
FlashRedEyeMode | False |
FlashReturn | No return detection |
FNumber | 10.0 |
FocalLength | 35.0 mm |
FocalLength35efl | 35.0 mm (35 mm equivalent: 55.0 mm) |
Format | image/jpeg |
FOV | 36.3 deg |
GrainAmount | 0 |
GreenHue | 0 |
GreenSaturation | 0 |
HasCrop | True |
HasSettings | True |
HighlightRecovery | 0 |
HueAdjustmentAqua | 0 |
HueAdjustmentBlue | 0 |
HueAdjustmentGreen | 0 |
HueAdjustmentMagenta | 0 |
HueAdjustmentOrange | 0 |
HueAdjustmentPurple | 0 |
HueAdjustmentRed | 0 |
HueAdjustmentYellow | 0 |
HyperfocalDistance | 6.40 m |
ICCProfileName | Adobe RGB (1998) |
ImageHeight | 4874 |
ImageNumber | 0 |
ImageSize | 3456x4874 |
ImageWidth | 3456 |
ISO | 3200 |
Lens | EF-S15-85mm f/3.5-5.6 IS USM |
LensID (1) | 488 |
LensID | Canon EF-S 15-85mm f/3.5-5.6 IS USM |
LensInfo | 15-85mm f/? |
LightValue | 6.6 |
LuminanceAdjustmentAqua | 0 |
LuminanceAdjustmentBlue | 0 |
LuminanceAdjustmentGreen | 0 |
LuminanceAdjustmentMagenta | 0 |
LuminanceAdjustmentOrange | 0 |
LuminanceAdjustmentPurple | 0 |
LuminanceAdjustmentRed | 0 |
LuminanceAdjustmentYellow | 0 |
LuminanceSmoothing | 0 |
Make | Canon |
MaxApertureValue | 4.6 |
Megapixels | 16.8 |
MeteringMode | Multi-segment |
Model | Canon EOS 7D |
ModifyDate (1) | 2010:05:03 00:30:51+02:00 |
ModifyDate | 2010:05:03 00:30:51 |
Orientation | Horizontal (normal) |
ParametricDarks | 0 |
ParametricHighlights | 0 |
ParametricHighlightSplit | 75 |
ParametricLights | 0 |
ParametricMidtoneSplit | 50 |
ParametricShadows | 0 |
ParametricShadowSplit | 25 |
PostCropVignetteAmount | 0 |
ProcessVersion | 5.0 |
ProfileDescription | Adobe RGB (1998) |
Rating | 0 |
RawFileName | _MG_5374.CR2 |
RedHue | 0 |
RedSaturation | 0 |
Saturation | +13 |
SaturationAdjustmentAqua | 0 |
SaturationAdjustmentBlue | 0 |
SaturationAdjustmentGreen | 0 |
SaturationAdjustmentMagenta | 0 |
SaturationAdjustmentOrange | 0 |
SaturationAdjustmentPurple | 0 |
SaturationAdjustmentRed | 0 |
SaturationAdjustmentYellow | 0 |
ScaleFactor35efl | 1.6 |
SceneCaptureType | Standard |
SerialNumber | 480408756 |
Shadows | 12 |
ShadowTint | 0 |
SharpenDetail | 25 |
SharpenEdgeMasking | 0 |
SharpenRadius | +1.0 |
Sharpness | 25 |
ShutterSpeed | 1/30 |
ShutterSpeedValue | 1/30 |
SidecarForExtension | CR2 |
Software | Adobe Photoshop CS4 Windows |
SplitToningBalance | 0 |
SplitToningHighlightHue | 0 |
SplitToningHighlightSaturation | 0 |
SplitToningShadowHue | 0 |
SplitToningShadowSaturation | 0 |
SubjectDistance | 35.9 m |
Tint | +17 |
ToneCurve | 0, 0, 35, 17, 67, 66, 127, 154, 196, 211, 255, 255 |
ToneCurveName | Custom |
URL_List | |
Version | 5.7 |
Vibrance | +24 |
VignetteAmount | 0 |
WhiteBalance (2) | As Shot |
WhiteBalance | Auto |