Felt | Verdi |
AlreadyApplied | True |
Aperture | 16.0 |
ApertureValue | 16.0 |
BitsPerSample | 8 |
BlackClip | 0.000000 |
BlueHue | +14 |
BlueSaturation | 0 |
Brightness | +5 |
CameraProfile | Embedded |
ChromaticAberrationB | 0 |
ChromaticAberrationR | 0 |
Clarity | +5 |
ColorComponents | 3 |
ColorMode | RGB |
ColorNoiseReduction | 24 |
ColorSaturation | 90 |
ColorSpace | sRGB |
ColorTemperature | 7 |
Contrast | 0 |
ConvertToGrayscale | False |
CreateDate (1) | 2010:03:11 20:27:57+01:00 |
CreateDate | 2010:03:11 20:27:57 |
CreatorTool | Adobe Photoshop Lightroom |
DateTimeDigitized | 2010:03:11 20:27:57+01:00 |
DateTimeOriginal (1) | 2010:03:11 20:27:57+01:00 |
DateTimeOriginal | 2010:03:11 20:27:57 |
Defringe | 0 |
ExifImageHeight | 3456 |
ExifImageWidth | 5184 |
Exposure | +0.38 |
ExposureTime | 7 |
FillLight | 17 |
FlashCompensation | 0 |
FNumber | 16.0 |
Format | image/jpeg |
Gamma | 1.536875 |
GreenHue | +5 |
GreenSaturation | +10 |
HasCrop | False |
HasSettings | True |
HighlightRecovery | 0 |
HighlightsSmoothing | 31 |
HueAdjustmentAqua | 0 |
HueAdjustmentBlue | 0 |
HueAdjustmentGreen | 0 |
HueAdjustmentMagenta | 0 |
HueAdjustmentOrange | 0 |
HueAdjustmentPurple | 0 |
HueAdjustmentRed | 0 |
HueAdjustmentYellow | 0 |
ICCProfileName | sRGB IEC61966-2.1 |
ImageHeight | 3456 |
ImageSize | 5184x3456 |
ImageWidth | 5184 |
IncrementalTemperature | +12 |
IncrementalTint | 0 |
ISO | 100 |
LightValue | 5.2 |
LuminanceAdjustmentAqua | 0 |
LuminanceAdjustmentBlue | -14 |
LuminanceAdjustmentGreen | 0 |
LuminanceAdjustmentMagenta | 0 |
LuminanceAdjustmentOrange | -7 |
LuminanceAdjustmentPurple | 0 |
LuminanceAdjustmentRed | 0 |
LuminanceAdjustmentYellow | 0 |
LuminanceSmoothing | 27 |
Luminosity | 0 |
Make | Canon |
MaxApertureValue | 1.0 |
Megapixels | 17.9 |
Method | Details Enhancer |
Microcontrast | 4 |
Microsmoothing | 13 |
Model | Canon EOS 7D |
ModifyDate (1) | 2010:04:21 06:13:20+02:00 |
ModifyDate | 2010:04:21 06:13:20 |
Orientation | Horizontal (normal) |
ParametricDarks | +10 |
ParametricHighlights | -67 |
ParametricHighlightSplit | 75 |
ParametricLights | -67 |
ParametricMidtoneSplit | 50 |
ParametricShadows | -5 |
ParametricShadowSplit | 25 |
PostCropVignetteAmount | 0 |
ProfileDescription | sRGB IEC61966-2.1 |
RedHue | -7 |
RedSaturation | +5 |
Saturation | 0 |
SaturationAdjustmentAqua | 0 |
SaturationAdjustmentBlue | 0 |
SaturationAdjustmentGreen | 0 |
SaturationAdjustmentMagenta | 0 |
SaturationAdjustmentOrange | 0 |
SaturationAdjustmentPurple | 0 |
SaturationAdjustmentRed | 0 |
SaturationAdjustmentYellow | 0 |
SaturationHighlights | 6 |
SaturationShadows | 7 |
Shadows | 0 |
ShadowsClipping | 65 |
ShadowsSmoothing | 84 |
ShadowTint | +10 |
SharpenDetail | 25 |
SharpenEdgeMasking | 0 |
SharpenRadius | +1.0 |
Sharpness | 12 |
ShutterSpeed | 7 |
ShutterSpeedValue | 7 |
Smoothing | Very High |
Software | Adobe Photoshop CS4 Windows |
SplitToningBalance | 0 |
SplitToningHighlightHue | 69 |
SplitToningHighlightSaturation | 17 |
SplitToningShadowHue | 193 |
SplitToningShadowSaturation | 24 |
Strength | 84 |
ToneCurve | 0, 0, 255, 255 |
ToneCurveName | Linear |
URL_List | |
Version (1) | 2.5 |
Version | 4.6 |
Vibrance | +12 |
VignetteAmount | 0 |
WhiteBalance | Custom |
WhiteClip | 0.785650 |