Felt | Verdi |
AlreadyApplied | True |
Aperture | 4.0 |
ApertureValue | 4.0 |
BitsPerSample | 8 |
BlueHue | 0 |
BlueSaturation | 0 |
Brightness | +50 |
CameraProfile | Adobe Standard |
ChromaticAberrationB | 0 |
ChromaticAberrationR | 0 |
CircleOfConfusion | 0.019 mm |
Clarity | 0 |
ColorComponents | 3 |
ColorNoiseReduction | 25 |
ColorTemperature | 5650 |
Contrast | +25 |
ConvertToGrayscale | True |
CreateDate (1) | 2009:10:14 16:18:02.65+02:00 |
CreateDate | 2009:10:14 16:18:02 |
CreatorTool | Adobe Photoshop Lightroom |
CustomRendered | Normal |
DateTimeDigitized | 2009:10:14 16:18:02.65+02:00 |
DateTimeOriginal (1) | 2009:10:14 16:18:02.65+02:00 |
DateTimeOriginal | 2009:10:14 16:18:02 |
Defringe | 0 |
ExifImageHeight | 667 |
ExifImageWidth | 1000 |
Exposure | +0.75 |
ExposureCompensation | -2/3 |
ExposureMode | Auto |
ExposureProgram | Shutter speed priority AE |
ExposureTime | 1/100 |
FillLight | 19 |
Firmware | 1.1.1 |
Flash | Off, Did not fire |
FlashCompensation | 0 |
FlashFired | False |
FlashFunction | False |
FlashMode | Off |
FlashRedEyeMode | False |
FlashReturn | No return detection |
FNumber | 4.0 |
FocalLength | 200.0 mm |
FocalLength35efl | 200.0 mm (35 mm equivalent: 323.8 mm) |
FOV | 6.4 deg |
GradientBasedCorrActive | true |
GradientBasedCorrAmount | 1.000000 |
GradientBasedCorrBrightness | 0.000000 |
GradientBasedCorrClarity | 0.000000 |
GradientBasedCorrContrast | 0.000000 |
GradientBasedCorrExposure | 0.000000 |
GradientBasedCorrHue | 0.000000 |
GradientBasedCorrMaskFullX (1) | 0.446051 |
GradientBasedCorrMaskFullX | -0.181056 |
GradientBasedCorrMaskFullY (1) | -0.003339 |
GradientBasedCorrMaskFullY | 0.784281 |
GradientBasedCorrMaskValue | 1.000000 |
GradientBasedCorrMaskWhat | Mask/Gradient |
GradientBasedCorrMaskZeroX (1) | 0.442714 |
GradientBasedCorrMaskZeroX | 0.352205 |
GradientBasedCorrMaskZeroY (1) | 0.208681 |
GradientBasedCorrMaskZeroY | 0.472801 |
GradientBasedCorrSaturation | 0.000000 |
GradientBasedCorrSharpness | -1.000000 |
GradientBasedCorrWhat | Correction |
GrayMixerAqua | -10 |
GrayMixerBlue | +20 |
GrayMixerGreen | -19 |
GrayMixerMagenta | +28 |
GrayMixerOrange | +4 |
GrayMixerPurple | +25 |
GrayMixerRed | +29 |
GrayMixerYellow | -13 |
GreenHue | 0 |
GreenSaturation | 0 |
HasCrop | False |
HasSettings | True |
HighlightRecovery | 28 |
HyperfocalDistance | 538.77 m |
ImageHeight | 667 |
ImageNumber | 0 |
ImageSize | 1000x667 |
ImageWidth | 1000 |
ISO | 200 |
Lens | EF70-200mm f/4L USM |
LensInfo | 70-200mm f/? |
LightValue | 9.6 |
LuminanceSmoothing | 0 |
Make | Canon |
MaxApertureValue | 4.0 |
Megapixels | 0.667 |
MeteringMode | Spot |
Model | Canon EOS 40D |
ModifyDate (1) | 2009:10:26 17:27:04+01:00 |
ModifyDate | 2009:10:26 17:27:04 |
ParametricDarks | -3 |
ParametricHighlights | 0 |
ParametricHighlightSplit | 75 |
ParametricLights | +2 |
ParametricMidtoneSplit | 50 |
ParametricShadows | -14 |
ParametricShadowSplit | 25 |
PostCropVignetteAmount | 0 |
ProfileDescription | sRGB IEC61966-2.1 |
Rating | 3 |
RedHue | 0 |
RedSaturation | 0 |
ScaleFactor35efl | 1.6 |
SceneCaptureType | Standard |
SerialNumber | 2431201682 |
Shadows | 0 |
ShadowTint | 0 |
SharpenDetail | 25 |
SharpenEdgeMasking | 0 |
SharpenRadius | +1.0 |
Sharpness | 25 |
ShutterSpeed | 1/100 |
ShutterSpeedValue | 1/100 |
SplitToningBalance | 0 |
SplitToningHighlightHue | 52 |
SplitToningHighlightSaturation | 64 |
SplitToningShadowHue | 37 |
SplitToningShadowSaturation | 22 |
Tint | +1 |
ToneCurve | 0, 0, 32, 22, 64, 56, 128, 128, 192, 196, 255, 255 |
ToneCurveName | Medium Contrast |
Version | 5.5 |
VignetteAmount | 0 |
WhiteBalance | Auto |