Felt | Verdi |
AlreadyApplied | True |
Aperture | 7.1 |
ApertureValue | 7.1 |
Artist | Ole Andreas Valdal |
BitsPerSample | 8 |
BlueHue | 0 |
BlueSaturation | 0 |
Brightness | +14 |
By-line | Ole Andreas Valdal |
CameraProfile | ACR 4.4 |
ChromaticAberrationB | 0 |
ChromaticAberrationR | 0 |
CircleOfConfusion | 0.019 mm |
Clarity | +80 |
ColorComponents | 3 |
ColorMode | RGB |
ColorNoiseReduction | 0 |
ColorSpace | sRGB |
ColorTemperature | 5500 |
Contrast | +20 |
ConvertToGrayscale | True |
CreateDate (1) | 2009:07:21 14:31:32+02:00 |
CreateDate | 2009:07:21 14:31:32 |
Creator | Ole Andreas Valdal |
CropAngle | 1.037 |
CropBottom | 1 |
CropLeft | 0.155799 |
CropRight | 0.779289 |
CropTop | 0.030283 |
CustomRendered | Normal |
DateTimeDigitized | 2009:07:21 14:31:32+02:00 |
DateTimeOriginal (1) | 2009:07:21 14:31:32+02:00 |
DateTimeOriginal | 2009:07:21 14:31:32 |
Defringe | 0 |
ExifImageHeight | 700 |
ExifImageWidth | 700 |
Exposure | +1.03 |
ExposureCompensation | 0 |
ExposureMode | Auto |
ExposureProgram | Aperture-priority AE |
ExposureTime | 1/500 |
FillLight | 0 |
Firmware | 1.0.5 |
Flash | Off, Did not fire |
FlashCompensation | 0.333333333333333 |
FlashFired | False |
FlashFunction | False |
FlashMode | Off |
FlashRedEyeMode | False |
FlashReturn | No return detection |
FNumber | 7.1 |
FocalLength | 35.0 mm |
FocalLength35efl | 35.0 mm (35 mm equivalent: 56.1 mm) |
Format | image/jpeg |
FOV | 35.6 deg |
GrayMixerAqua | -16 |
GrayMixerBlue | +17 |
GrayMixerGreen | -28 |
GrayMixerMagenta | +5 |
GrayMixerOrange | -21 |
GrayMixerPurple | +21 |
GrayMixerRed | -12 |
GrayMixerYellow | -26 |
GreenHue | 0 |
GreenSaturation | 0 |
HasCrop | True |
HasSettings | True |
HierarchicalSubject | Sleneset |
HighlightRecovery | 0 |
HyperfocalDistance | 9.20 m |
ICCProfileName | sRGB IEC61966-2.1 |
ImageHeight | 700 |
ImageNumber | 80 |
ImageSize | 700x700 |
ImageWidth | 700 |
ISO | 125 |
Keywords | Sleneset |
Lens | EF35mm f/2 |
LensInfo | 35mm f/? |
LightValue | 14.3 |
LuminanceSmoothing | 0 |
Make | Canon |
MaxApertureValue | 2.0 |
Megapixels | 0.490 |
MeteringMode | Spot |
Model | Canon EOS 30D |
ModifyDate (1) | 2009:10:24 19:41:08+02:00 |
ModifyDate | 2009:10:24 19:41:08 |
Orientation | Horizontal (normal) |
OwnerName | Ole Andreas Valdal |
ParametricDarks | -30 |
ParametricHighlights | +100 |
ParametricHighlightSplit | 75 |
ParametricLights | +38 |
ParametricMidtoneSplit | 50 |
ParametricShadows | -71 |
ParametricShadowSplit | 25 |
PostCropVignetteAmount | 0 |
ProfileDescription | sRGB IEC61966-2.1 |
Rating | 2 |
RawFileName | IMG_1141.CR2 |
RedHue | 0 |
RedSaturation | 0 |
ScaleFactor35efl | 1.6 |
SceneCaptureType | Standard |
SerialNumber | 1730906613 |
Shadows | 0 |
ShadowTint | 0 |
SharpenDetail | 25 |
SharpenEdgeMasking | 0 |
SharpenRadius | +1.0 |
Sharpness | 25 |
ShutterSpeed | 1/500 |
ShutterSpeedValue | 1/500 |
Software | Adobe Photoshop CS4 Windows |
SplitToningBalance | -4 |
SplitToningHighlightHue | 109 |
SplitToningHighlightSaturation | 50 |
SplitToningShadowHue | 241 |
SplitToningShadowSaturation | 60 |
Subject | Sleneset |
Tint | +3 |
ToneCurve | 0, 0, 32, 22, 64, 56, 128, 128, 192, 196, 255, 255 |
ToneCurveName | Medium Contrast |
URL_List | |
Version | 5.5 |
VignetteAmount | 0 |
WhiteBalance (2) | As Shot |
WhiteBalance | Auto |