Felt | Verdi |
AlreadyApplied | True |
Aperture | 7.1 |
ApertureValue | 7.1 |
Artist | Ole Andreas Valdal |
BitsPerSample | 8 |
BlueHue | 0 |
BlueSaturation | 0 |
Brightness | +31 |
By-line | Ole Andreas Valdal |
CameraProfile | ACR 4.4 |
ChromaticAberrationB | 0 |
ChromaticAberrationR | 0 |
CircleOfConfusion | 0.019 mm |
Clarity | +15 |
ColorComponents | 1 |
ColorMode | RGB |
ColorNoiseReduction | 0 |
ColorSpace | sRGB |
ColorTemperature | 5350 |
Contrast | +10 |
ConvertToGrayscale | True |
Copyright | Fotograf Ole Valdal |
CopyrightFlag | True |
CopyrightNotice | Fotograf Ole Valdal |
CreateDate (1) | 2009:09:08 12:43:17+02:00 |
CreateDate | 2009:09:08 12:43:17 |
Creator | Ole Andreas Valdal |
CropAngle | 2.696 |
CropBottom | 1 |
CropLeft | 0.260074 |
CropRight | 0.866778 |
CropTop | 0 |
CustomRendered | Normal |
DateTimeDigitized | 2009:09:08 12:43:17+02:00 |
DateTimeOriginal (1) | 2009:09:08 12:43:17+02:00 |
DateTimeOriginal | 2009:09:08 12:43:17 |
Defringe | 0 |
ExifImageHeight | 900 |
ExifImageWidth | 900 |
Exposure | 0.00 |
ExposureCompensation | 0 |
ExposureMode | Manual |
ExposureProgram | Manual |
ExposureTime | 1/800 |
FillLight | 30 |
Firmware | 1.0.5 |
Flash | Off, Did not fire |
FlashCompensation | 0.666666666666667 |
FlashFired | False |
FlashFunction | False |
FlashMode | Off |
FlashRedEyeMode | False |
FlashReturn | No return detection |
FNumber | 7.1 |
FocalLength | 14.0 mm |
FocalLength35efl | 14.0 mm (35 mm equivalent: 22.4 mm) |
Format | image/jpeg |
FOV | 77.5 deg |
GrayMixerAqua | -19 |
GrayMixerBlue | +9 |
GrayMixerGreen | -27 |
GrayMixerMagenta | +4 |
GrayMixerOrange | -19 |
GrayMixerPurple | +15 |
GrayMixerRed | -10 |
GrayMixerYellow | -23 |
GreenHue | 0 |
GreenSaturation | 0 |
HasCrop | True |
HasSettings | True |
HierarchicalSubject | Espen Krogh, Monica Nordgård |
HighlightRecovery | 25 |
HyperfocalDistance | 1.47 m |
ICCProfileName | sRGB IEC61966-2.1 |
ImageHeight | 900 |
ImageNumber | 240 |
ImageSize | 900x900 |
ImageWidth | 900 |
ISO | 400 |
Keywords | Espen Krogh, Monica Nordgård |
Lens | 10.0-20.0 mm |
LensInfo | 10-20mm f/? |
LightValue | 13.3 |
LuminanceSmoothing | 0 |
Make | Canon |
Marked | True |
MaxApertureValue | 4.5 |
Megapixels | 0.810 |
MeteringMode | Multi-segment |
Model | Canon EOS 30D |
ModifyDate (1) | 2009:09:16 19:26:31+02:00 |
ModifyDate | 2009:09:16 19:26:31 |
Orientation | Horizontal (normal) |
OwnerName | Ole Andreas Valdal |
ParametricDarks | 0 |
ParametricHighlights | 0 |
ParametricHighlightSplit | 75 |
ParametricLights | +38 |
ParametricMidtoneSplit | 50 |
ParametricShadows | -100 |
ParametricShadowSplit | 25 |
PostCropVignetteAmount | 0 |
ProfileDescription | sRGB IEC61966-2.1 |
Rating | 3 |
RawFileName | IMG_2159.CR2 |
RedHue | 0 |
RedSaturation | 0 |
Rights | Fotograf Ole Valdal |
ScaleFactor35efl | 1.6 |
SceneCaptureType | Standard |
SerialNumber | 1730906613 |
Shadows | 10 |
ShadowTint | 0 |
SharpenDetail | 25 |
SharpenEdgeMasking | 0 |
SharpenRadius | +1.0 |
Sharpness | 25 |
ShutterSpeed | 1/800 |
ShutterSpeedValue | 1/800 |
Software | Adobe Photoshop CS4 Windows |
SplitToningBalance | 0 |
SplitToningHighlightHue | 0 |
SplitToningHighlightSaturation | 0 |
SplitToningShadowHue | 0 |
SplitToningShadowSaturation | 0 |
Subject | Espen Krogh, Monica Nordgård |
Tint | -3 |
ToneCurve | 0, 0, 32, 22, 64, 56, 128, 128, 192, 196, 255, 255 |
ToneCurveName | Medium Contrast |
URL | http://www.olevaldal.no |
URL_List | |
Version | 5.4 |
VignetteAmount | 0 |
WebStatement | http://www.olevaldal.no |
WhiteBalance (2) | As Shot |
WhiteBalance | Auto |