Felt | Verdi |
AlreadyApplied | True |
Aperture | 4.0 |
ApertureValue | 4.0 |
BitsPerSample | 8 |
BlueHue | 0 |
BlueSaturation | 0 |
Brightness | +50 |
CameraProfile | Adobe Standard |
ChromaticAberrationB | 0 |
ChromaticAberrationR | 0 |
CircleOfConfusion | 0.019 mm |
Clarity | +45 |
ColorComponents | 3 |
ColorNoiseReduction | 25 |
ColorTemperature | 6750 |
Contrast | +25 |
ConvertToGrayscale | False |
CreateDate (1) | 2009:08:21 14:13:08.01+02:00 |
CreateDate | 2009:08:21 14:13:08 |
CreatorTool | Adobe Photoshop Lightroom |
CropAngle | 0 |
CropBottom | 0.6 |
CropHeight | 1555 |
CropLeft | 0 |
CropRight | 1 |
CropTop | 0 |
CropUnit | pixels |
CropWidth | 3888 |
CustomRendered | Normal |
DateTimeDigitized | 2009:08:21 14:13:08.01+02:00 |
DateTimeOriginal (1) | 2009:08:21 14:13:08.01+02:00 |
DateTimeOriginal | 2009:08:21 14:13:08 |
Defringe | 0 |
ExifImageHeight | 1555 |
ExifImageWidth | 3888 |
Exposure | +0.86 |
ExposureCompensation | +1/3 |
ExposureMode | Auto |
ExposureProgram | Shutter speed priority AE |
ExposureTime | 1/4000 |
FillLight | 6 |
Firmware | 1.1.1 |
Flash | Off, Did not fire |
FlashCompensation | 0 |
FlashFired | False |
FlashFunction | False |
FlashMode | Off |
FlashRedEyeMode | False |
FlashReturn | No return detection |
FNumber | 4.0 |
FocalLength | 122.0 mm |
FocalLength35efl | 122.0 mm (35 mm equivalent: 197.5 mm) |
FOV | 10.4 deg |
GreenHue | 0 |
GreenSaturation | 0 |
HasCrop | True |
HasSettings | True |
HighlightRecovery | 100 |
HueAdjustmentAqua | -21 |
HueAdjustmentBlue | 0 |
HueAdjustmentGreen | 0 |
HueAdjustmentMagenta | 0 |
HueAdjustmentOrange | 0 |
HueAdjustmentPurple | 0 |
HueAdjustmentRed | 0 |
HueAdjustmentYellow | 0 |
HyperfocalDistance | 200.48 m |
ImageHeight | 1555 |
ImageNumber | 0 |
ImageSize | 3888x1555 |
ImageWidth | 3888 |
ISO | 200 |
Keywords | bodø, landskapsbilde, sort-hvitt, tåke |
Lens | EF70-200mm f/4L USM |
LensInfo | 70-200mm f/? |
LightValue | 15.0 |
LuminanceAdjustmentAqua | 0 |
LuminanceAdjustmentBlue | 0 |
LuminanceAdjustmentGreen | 0 |
LuminanceAdjustmentMagenta | 0 |
LuminanceAdjustmentOrange | 0 |
LuminanceAdjustmentPurple | 0 |
LuminanceAdjustmentRed | 0 |
LuminanceAdjustmentYellow | 0 |
LuminanceSmoothing | 0 |
Make | Canon |
MaxApertureValue | 4.0 |
Megapixels | 6.0 |
MeteringMode | Spot |
Model | Canon EOS 40D |
ModifyDate (1) | 2009:08:21 14:38:03+02:00 |
ModifyDate | 2009:08:21 14:38:03 |
ParametricDarks | 0 |
ParametricHighlights | 0 |
ParametricHighlightSplit | 75 |
ParametricLights | 0 |
ParametricMidtoneSplit | 50 |
ParametricShadows | 0 |
ParametricShadowSplit | 25 |
PostCropVignetteAmount | 0 |
ProfileDescription | sRGB IEC61966-2.1 |
RedHue | 0 |
RedSaturation | 0 |
Saturation | -29 |
SaturationAdjustmentAqua | 0 |
SaturationAdjustmentBlue | 0 |
SaturationAdjustmentGreen | 0 |
SaturationAdjustmentMagenta | 0 |
SaturationAdjustmentOrange | 0 |
SaturationAdjustmentPurple | 0 |
SaturationAdjustmentRed | 0 |
SaturationAdjustmentYellow | 0 |
ScaleFactor35efl | 1.6 |
SceneCaptureType | Standard |
SerialNumber | 2431201682 |
Shadows | 6 |
ShadowTint | 0 |
SharpenDetail | 25 |
SharpenEdgeMasking | 0 |
SharpenRadius | +1.0 |
Sharpness | 25 |
ShutterSpeed | 1/4000 |
ShutterSpeedValue | 1/4000 |
SplitToningBalance | 0 |
SplitToningHighlightHue | 0 |
SplitToningHighlightSaturation | 0 |
SplitToningShadowHue | 0 |
SplitToningShadowSaturation | 0 |
Subject | bodø, landskapsbilde, sort-hvitt, tåke |
Tint | +4 |
ToneCurve | 0, 0, 32, 22, 64, 56, 128, 128, 192, 196, 255, 255 |
ToneCurveName | Medium Contrast |
Version | 5.4 |
Vibrance | -57 |
VignetteAmount | 0 |
WhiteBalance | Auto |