Felt | Verdi |
AlreadyApplied | True |
Aperture | 4.2 |
ApertureValue | 4.2 |
BitsPerSample (1) | 8, 8, 8 |
BitsPerSample (2) | 8 8 8 |
BitsPerSample | 8 |
BlueHue | 0 |
BlueSaturation | 0 |
Brightness | +50 |
CameraProfile | ACR 3.3 |
CFAPattern | [Green,Red][Blue,Green] |
ChromaticAberrationB | 0 |
ChromaticAberrationR | 0 |
CircleOfConfusion | 0.020 mm |
ColorComponents | 1 |
ColorMode | RGB |
ColorNoiseReduction | 25 |
ColorSpace (1) | Unknown (-1) |
ColorSpace | Uncalibrated |
ColorTemperature | 5150 |
Contrast (2) | +25 |
Contrast | Normal |
ConvertToGrayscale | False |
CopyrightFlag | False |
CreateDate (1) | 2009:08:08 16:30:29.86+02:00 |
CreateDate | 2009:08:08 16:30:29 |
CreatorTool | Adobe Photoshop CS3 Windows |
CustomRendered | Normal |
DateTimeDigitized | 2009:08:08 16:30:29.86+02:00 |
DateTimeOriginal (1) | 2009:08:08 16:30:29.86+02:00 |
DateTimeOriginal | 2009:08:08 16:30:29 |
DigitalZoomRatio | 1 |
ExifImageHeight | 650 |
ExifImageWidth | 765 |
Exposure | 0.00 |
ExposureCompensation | -1/3 |
ExposureMode | Auto |
ExposureProgram | Aperture-priority AE |
ExposureTime | 1/1250 |
FillLight | 0 |
Flash | No Flash |
FlashFired | False |
FlashFunction | False |
FlashMode | Unknown |
FlashRedEyeMode | False |
FlashReturn | No return detection |
FNumber | 4.2 |
FocalLength | 62.0 mm |
FocalLength35efl | 62.0 mm (35 mm equivalent: 93.0 mm) |
FocalLengthIn35mmFormat | 93 mm |
Format | image/jpeg |
FOV | 21.9 deg |
GainControl | None |
GreenHue | 0 |
GreenSaturation | 0 |
HasCrop | False |
HasSettings | True |
HighlightRecovery | 0 |
HueAdjustmentAqua | +100 |
HueAdjustmentBlue | +68 |
HueAdjustmentGreen | +100 |
HueAdjustmentMagenta | 0 |
HueAdjustmentOrange | +23 |
HueAdjustmentPurple | +1 |
HueAdjustmentRed | +3 |
HueAdjustmentYellow | -100 |
HyperfocalDistance | 45.69 m |
ICCProfileName | Adobe RGB (1998) |
ImageHeight (1) | 2377 |
ImageHeight | 650 |
ImageNumber | 23383 |
ImageSize | 765x650 |
ImageWidth (2) | 2798 |
ImageWidth | 765 |
ISO | 200 |
Lens | 28.0-105.0 mm f/3.5-4.5 |
LensInfo | 28-105mm f/3.5-4.5 |
LightSource | Unknown |
LightValue | 13.4 |
LuminanceAdjustmentAqua | +12 |
LuminanceAdjustmentBlue | -28 |
LuminanceAdjustmentGreen | -13 |
LuminanceAdjustmentMagenta | +11 |
LuminanceAdjustmentOrange | +65 |
LuminanceAdjustmentPurple | -1 |
LuminanceAdjustmentRed | +8 |
LuminanceAdjustmentYellow | -100 |
LuminanceSmoothing | 0 |
Make | NIKON CORPORATION |
MaxApertureValue | 4.3 |
Megapixels | 0.497 |
MeteringMode | Multi-segment |
Model | NIKON D200 |
ModifyDate (1) | 2009:08:11 18:56:37+02:00 |
ModifyDate | 2009:08:11 18:56:37 |
Orientation | Horizontal (normal) |
ParametricDarks | -13 |
ParametricHighlights | +50 |
ParametricHighlightSplit | 75 |
ParametricLights | +75 |
ParametricMidtoneSplit | 50 |
ParametricShadows | -54 |
ParametricShadowSplit | 25 |
PhotometricInterpretation | RGB |
PlanarConfiguration | Chunky |
ProfileDescription | Adobe RGB (1998) |
Rating | 0 |
RawFileName | _DSC0048_4402.NEF |
RedHue | 0 |
RedSaturation | 0 |
SamplesPerPixel | 3 |
Saturation (2) | 0 |
Saturation | Normal |
SaturationAdjustmentAqua | -100 |
SaturationAdjustmentBlue | +3 |
SaturationAdjustmentGreen | -29 |
SaturationAdjustmentMagenta | -1 |
SaturationAdjustmentOrange | +72 |
SaturationAdjustmentPurple | 0 |
SaturationAdjustmentRed | -8 |
SaturationAdjustmentYellow | 0 |
ScaleFactor35efl | 1.5 |
SceneCaptureType | Standard |
SceneType | Directly photographed |
SensingMethod | One-chip color area |
Shadows | 5 |
ShadowTint | 0 |
Sharpness (2) | 25 |
Sharpness | Normal |
ShutterSpeed | 1/1250 |
ShutterSpeedValue | 1/1250 |
SidecarForExtension | NEF |
Software | Adobe Photoshop CS3 Windows |
SplitToningBalance | 0 |
SplitToningHighlightHue | 0 |
SplitToningHighlightSaturation | 0 |
SplitToningShadowHue | 0 |
SplitToningShadowSaturation | 0 |
SubjectDistanceRange | Unknown |
Tint | -5 |
ToneCurve | 0, 0, 32, 22, 64, 56, 128, 128, 192, 196, 255, 255 |
ToneCurveName | Medium Contrast |
URL_List | |
Version | 4.0 |
Vibrance | 0 |
VignetteAmount | 0 |
WhiteBalance (2) | As Shot |
WhiteBalance | Auto |