Felt | Verdi |
AlreadyApplied | True |
BitsPerSample | 8 |
BlueHue | 0 |
BlueSaturation | 0 |
Brightness | -11 |
CameraProfile | Embedded |
ChromaticAberrationB | 0 |
ChromaticAberrationR | 0 |
Clarity | 44 |
ColorComponents | 1 |
ColorNoiseReduction | 0 |
Contrast | -7 |
ConvertToGrayscale | True |
CreatorTool | Adobe Photoshop Lightroom |
CropAngle | 0.424819 |
CropBottom | 1 |
CropHeight | 760 |
CropLeft | 0.217135 |
CropRight | 0.876762 |
CropTop | 0 |
CropUnit | pixels |
CropWidth | 753 |
Defringe | 0 |
Exposure | -0.48 |
FillLight | 0 |
GrayMixerAqua | -18 |
GrayMixerBlue | +10 |
GrayMixerGreen | -27 |
GrayMixerMagenta | +4 |
GrayMixerOrange | -19 |
GrayMixerPurple | +16 |
GrayMixerRed | -10 |
GrayMixerYellow | -23 |
GreenHue | 0 |
GreenSaturation | 0 |
HasCrop | True |
HasSettings | True |
HighlightRecovery | 0 |
ImageHeight | 760 |
ImageSize | 753x760 |
ImageWidth | 753 |
IncrementalTemperature | 0 |
IncrementalTint | 0 |
LuminanceSmoothing | 0 |
Megapixels | 0.572 |
ModifyDate (1) | 2009:07:27 21:46:16+02:00 |
ModifyDate | 2009:07:27 21:46:16 |
ParametricDarks | +64 |
ParametricHighlights | +83 |
ParametricHighlightSplit | 75 |
ParametricLights | +40 |
ParametricMidtoneSplit | 50 |
ParametricShadows | +17 |
ParametricShadowSplit | 25 |
ProfileDescription | Adobe RGB (1998) |
RedHue | 0 |
RedSaturation | 0 |
Shadows | 0 |
ShadowTint | 0 |
SharpenDetail | 25 |
SharpenEdgeMasking | 0 |
SharpenRadius | +1.0 |
Sharpness | 0 |
Software | Adobe Photoshop Elements for Windows, version 2.0 |
SplitToningBalance | 0 |
SplitToningHighlightHue | 0 |
SplitToningHighlightSaturation | 0 |
SplitToningShadowHue | 0 |
SplitToningShadowSaturation | 0 |
ToneCurve | 0, 0, 255, 255 |
ToneCurveName | Linear |
Version | 4.4.1 |
VignetteAmount | 0 |
WhiteBalance | As Shot |