Felt | Verdi |
AlreadyApplied | True |
Aperture | 5.7 |
ApertureValue | 5.7 |
BitsPerSample | 8 |
BlackClip | 0.223800 |
BlueHue | 0 |
BlueSaturation | 0 |
Brightness | -21 |
By-line | Jan Erik Arud |
CameraProfile | Embedded |
ChromaticAberrationB | 0 |
ChromaticAberrationR | 0 |
Clarity | 0 |
ColorComponents | 3 |
ColorNoiseReduction | 11 |
ColorSaturation | 42 |
ColorTemperature | 0 |
Contrast | +11 |
ConvertToGrayscale | False |
Copyright | Jan Erik Arud |
CopyrightFlag | True |
CopyrightNotice | Jan Erik Arud |
CreateDate | 2009:07:14 20:47:07+02:00 |
Creator | Jan Erik Arud |
CreatorTool | Adobe Photoshop Lightroom |
CreatorWorkEmail | arud@bluezone.no |
CreatorWorkURL | http://www.flickr.com/photos/jarud/ |
CropAngle | 1.75547 |
CropBottom | 1 |
CropHeight | 853 |
CropLeft | 0.043952 |
CropRight | 0.980466 |
CropTop | 0 |
CropUnit | pixels |
CropWidth | 1280 |
DateTimeOriginal (1) | 2009:07:14 20:47:07+02:00 |
DateTimeOriginal | 2009:07:14 20:47:07 |
Defringe | 0 |
ExifImageHeight | 853 |
ExifImageWidth | 1280 |
Exposure | +0.38 |
FillLight | 25 |
FNumber | 5.7 |
FocalLength | 24.0 mm |
FocalLength35efl | 24.0 mm |
Gamma | 1.536875 |
GreenHue | 0 |
GreenSaturation | 0 |
HasCrop | True |
HasSettings | True |
HighlightRecovery | 4 |
HighlightsSmoothing | 0 |
HueAdjustmentAqua | 0 |
HueAdjustmentBlue | 0 |
HueAdjustmentGreen | 0 |
HueAdjustmentMagenta | 0 |
HueAdjustmentOrange | 0 |
HueAdjustmentPurple | 0 |
HueAdjustmentRed | 0 |
HueAdjustmentYellow | 0 |
ImageHeight | 853 |
ImageSize | 1280x853 |
ImageWidth | 1280 |
IncrementalTemperature | 0 |
IncrementalTint | 0 |
ISO | 100 |
Label | Yellow |
LuminanceAdjustmentAqua | 0 |
LuminanceAdjustmentBlue | 0 |
LuminanceAdjustmentGreen | 0 |
LuminanceAdjustmentMagenta | 0 |
LuminanceAdjustmentOrange | 0 |
LuminanceAdjustmentPurple | 0 |
LuminanceAdjustmentRed | 0 |
LuminanceAdjustmentYellow | 0 |
LuminanceSmoothing | 11 |
Luminosity | 6 |
Marked | True |
Megapixels | 1.1 |
Method | Details Enhancer |
Microcontrast | 2 |
Microsmoothing | 30 |
Model | Canon EOS-1D Mark III |
ModifyDate (1) | 2009:07:22 21:28:37+02:00 |
ModifyDate | 2009:07:22 21:28:37 |
ParametricDarks | -15 |
ParametricHighlights | 0 |
ParametricHighlightSplit | 75 |
ParametricLights | +81 |
ParametricMidtoneSplit | 50 |
ParametricShadows | 0 |
ParametricShadowSplit | 25 |
PostCropVignetteAmount | 0 |
ProfileDescription | sRGB IEC61966-2.1 |
Rating | 1 |
RedHue | 0 |
RedSaturation | 0 |
Rights | Jan Erik Arud |
Saturation | 0 |
SaturationAdjustmentAqua | 0 |
SaturationAdjustmentBlue | 0 |
SaturationAdjustmentGreen | 0 |
SaturationAdjustmentMagenta | 0 |
SaturationAdjustmentOrange | 0 |
SaturationAdjustmentPurple | 0 |
SaturationAdjustmentRed | 0 |
SaturationAdjustmentYellow | 0 |
SaturationHighlights | 2 |
SaturationShadows | 0 |
Shadows | 2 |
ShadowsClipping | 0 |
ShadowsSmoothing | 0 |
ShadowTint | 0 |
SharpenDetail | 82 |
SharpenEdgeMasking | 0 |
SharpenRadius | +1.0 |
Sharpness | 55 |
Smoothing | Very High |
SplitToningBalance | -60 |
SplitToningHighlightHue | 21 |
SplitToningHighlightSaturation | 6 |
SplitToningShadowHue | 249 |
SplitToningShadowSaturation | 15 |
Strength | 53 |
ToneCurve | 0, 0, 255, 255 |
ToneCurveName | Linear |
Version (1) | 3.1 |
Version | 5.4 |
Vibrance | +5 |
VignetteAmount | +5 |
VignetteMidpoint | 50 |
WhiteBalance | As Shot |
WhiteClip | 0.000000 |