Felt | Verdi |
AlreadyApplied | True |
Aperture | 11.0 |
ApertureValue | 11.0 |
Artist | Venche Jensen |
BitsPerSample | 8 |
BlueHue | 0 |
BlueSaturation | 0 |
Brightness | +54 |
By-line | Venche Jensen |
CameraProfile | Camera Vivid |
CFAPattern | [Red,Green][Green,Blue] |
CFAPatternColumns | 2 |
CFAPatternRows | 2 |
CFAPatternValues | 0, 1, 1, 2 |
ChromaticAberrationB | 0 |
ChromaticAberrationR | 0 |
CircleOfConfusion | 0.020 mm |
Clarity | +50 |
ColorComponents | 3 |
ColorMode | RGB |
ColorNoiseReduction | 25 |
ColorSpace | sRGB |
ColorTemperature | 4700 |
Contrast (2) | +25 |
Contrast | Normal |
ConvertToGrayscale | False |
Copyright | © 2008 |
CopyrightNotice | © 2008 |
CreateDate (1) | 2009:07:19 13:54:01.34+02:00 |
CreateDate | 2009:07:19 13:54:01 |
Creator | Venche Jensen |
CreatorTool | Ver.1.10 |
CustomRendered | Normal |
DateTimeDigitized | 2009:07:19 13:54:01.34+02:00 |
DateTimeOriginal (1) | 2009:07:19 13:54:01.34+02:00 |
DateTimeOriginal | 2009:07:19 13:54:01 |
Defringe | 0 |
DigitalZoomRatio | 1 |
ExifImageHeight | 774 |
ExifImageWidth | 1071 |
Exposure | 0.00 |
ExposureCompensation | +3/2 |
ExposureMode | Manual |
ExposureProgram | Manual |
ExposureTime | 1/15 |
FillLight | 5 |
Flash | No Flash |
FlashFired | False |
FlashFunction | False |
FlashMode | Unknown |
FlashRedEyeMode | False |
FlashReturn | No return detection |
FNumber | 11.0 |
FocalLength | 55.0 mm |
FocalLength35efl | 55.0 mm (35 mm equivalent: 82.0 mm) |
FocalLengthIn35mmFormat | 82 mm |
Format | image/jpeg |
FOV | 24.8 deg |
GainControl | None |
GreenHue | 0 |
GreenSaturation | 0 |
HasCrop | False |
HasSettings | True |
HighlightRecovery | 0 |
HueAdjustmentAqua | 0 |
HueAdjustmentBlue | 0 |
HueAdjustmentGreen | 0 |
HueAdjustmentMagenta | 0 |
HueAdjustmentOrange | 0 |
HueAdjustmentPurple | 0 |
HueAdjustmentRed | 0 |
HueAdjustmentYellow | 0 |
HyperfocalDistance | 13.65 m |
ICCProfileName | sRGB IEC61966-2.1 |
ImageHeight (1) | 2848 |
ImageHeight | 774 |
ImageNumber | 13765 |
ImageSize | 1071x774 |
ImageWidth (1) | 4288 |
ImageWidth | 1071 |
Lens | 17.0-55.0 mm f/2.8 |
LensInfo | 17-55mm f/2.8 |
LightSource | Unknown |
LuminanceAdjustmentAqua | 0 |
LuminanceAdjustmentBlue | 0 |
LuminanceAdjustmentGreen | 0 |
LuminanceAdjustmentMagenta | 0 |
LuminanceAdjustmentOrange | +76 |
LuminanceAdjustmentPurple | 0 |
LuminanceAdjustmentRed | +81 |
LuminanceAdjustmentYellow | 0 |
LuminanceSmoothing | 0 |
Make | NIKON CORPORATION |
MaxApertureValue | 2.8 |
Megapixels | 0.829 |
MeteringMode | Multi-segment |
Model | NIKON D300 |
ModifyDate (1) | 2009:07:19 21:01:34+02:00 |
ModifyDate | 2009:07:19 21:01:34 |
Orientation | Horizontal (normal) |
ParametricDarks | -3 |
ParametricHighlights | +32 |
ParametricHighlightSplit | 75 |
ParametricLights | +11 |
ParametricMidtoneSplit | 50 |
ParametricShadows | +40 |
ParametricShadowSplit | 25 |
PostCropVignetteAmount | 0 |
ProfileDescription | sRGB IEC61966-2.1 |
Rating | 5 |
RawFileName | _2VJ3426.NEF |
RedHue | 0 |
RedSaturation | 0 |
Rights | © 2008 |
Saturation (2) | 0 |
Saturation | High |
SaturationAdjustmentAqua | 0 |
SaturationAdjustmentBlue | 0 |
SaturationAdjustmentGreen | 0 |
SaturationAdjustmentMagenta | 0 |
SaturationAdjustmentOrange | 0 |
SaturationAdjustmentPurple | 0 |
SaturationAdjustmentRed | 0 |
SaturationAdjustmentYellow | 0 |
ScaleFactor35efl | 1.5 |
SceneCaptureType | Standard |
SceneType | Directly photographed |
SensingMethod | One-chip color area |
SerialNumber | 4006116 |
Shadows | 11 |
ShadowTint | 0 |
SharpenDetail | 25 |
SharpenEdgeMasking | 0 |
SharpenRadius | +1.0 |
Sharpness (2) | 25 |
Sharpness | Normal |
ShutterSpeed | 1/15 |
ShutterSpeedValue | 1/15 |
Software | Adobe Photoshop CS4 Macintosh |
SplitToningBalance | 0 |
SplitToningHighlightHue | 0 |
SplitToningHighlightSaturation | 0 |
SplitToningShadowHue | 0 |
SplitToningShadowSaturation | 0 |
SubjectDistanceRange | Unknown |
Tint | +11 |
ToneCurve | 0, 0, 32, 22, 64, 56, 128, 128, 192, 196, 255, 255 |
ToneCurveName | Medium Contrast |
URL_List | |
Version | 5.3 |
Vibrance | +18 |
VignetteAmount | 0 |
WhiteBalance (2) | Custom |
WhiteBalance | Manual |