Felt | Verdi |
AlreadyApplied | True |
Aperture | 2.8 |
ApertureValue | 2.8 |
Artist | Ole Andreas Valdal |
BitsPerSample | 8 |
BlueHue | 0 |
BlueSaturation | 0 |
Brightness | +40 |
By-line | Ole Andreas Valdal |
CameraProfile | ACR 4.4 |
ChromaticAberrationB | 0 |
ChromaticAberrationR | 0 |
CircleOfConfusion | 0.019 mm |
Clarity | -10 |
ColorComponents | 3 |
ColorMode | RGB |
ColorNoiseReduction | 25 |
ColorSpace | sRGB |
ColorTemperature | 5077 |
Contrast | +19 |
ConvertToGrayscale | False |
Copyright | Fotograf Ole Valdal |
CopyrightFlag | True |
CopyrightNotice | Fotograf Ole Valdal |
CreateDate (1) | 2009:06:27 14:33:20+02:00 |
CreateDate | 2009:06:27 14:33:20 |
Creator | Ole Andreas Valdal |
CropAngle | 0 |
CropBottom | 1 |
CropLeft | 0.164913 |
CropRight | 0.728069 |
CropTop | 0.155263 |
CustomRendered | Normal |
DateTimeDigitized | 2009:06:27 14:33:20+02:00 |
DateTimeOriginal (1) | 2009:06:27 14:33:20+02:00 |
DateTimeOriginal | 2009:06:27 14:33:20 |
Defringe | 0 |
ExifImageHeight | 750 |
ExifImageWidth | 750 |
Exposure | +0.34 |
ExposureCompensation | 0 |
ExposureMode | Manual |
ExposureProgram | Manual |
ExposureTime | 1/2500 |
FillLight | 5 |
Firmware | 1.0.5 |
Flash | Off, Did not fire |
FlashCompensation | 0.666666666666667 |
FlashFired | False |
FlashFunction | False |
FlashMode | Off |
FlashRedEyeMode | False |
FlashReturn | No return detection |
FNumber | 2.8 |
FocalLength | 35.0 mm |
FocalLength35efl | 35.0 mm (35 mm equivalent: 56.1 mm) |
Format | image/jpeg |
FOV | 35.6 deg |
GreenHue | 0 |
GreenSaturation | 0 |
HasCrop | True |
HasSettings | True |
HierarchicalSubject | Isabella |
HighlightRecovery | 15 |
HueAdjustmentAqua | 0 |
HueAdjustmentBlue | 0 |
HueAdjustmentGreen | 0 |
HueAdjustmentMagenta | 0 |
HueAdjustmentOrange | 0 |
HueAdjustmentPurple | 0 |
HueAdjustmentRed | 0 |
HueAdjustmentYellow | 0 |
HyperfocalDistance | 23.32 m |
ICCProfileName | sRGB IEC61966-2.1 |
ImageHeight | 750 |
ImageNumber | 80 |
ImageSize | 750x750 |
ImageWidth | 750 |
ISO | 100 |
Keywords | Isabella |
Lens | EF35mm f/2 |
LensInfo | 35mm f/? |
LightValue | 14.3 |
LuminanceAdjustmentAqua | 0 |
LuminanceAdjustmentBlue | 0 |
LuminanceAdjustmentGreen | 0 |
LuminanceAdjustmentMagenta | 0 |
LuminanceAdjustmentOrange | 0 |
LuminanceAdjustmentPurple | 0 |
LuminanceAdjustmentRed | 0 |
LuminanceAdjustmentYellow | 0 |
LuminanceSmoothing | 0 |
Make | Canon |
Marked | True |
MaxApertureValue | 2.0 |
Megapixels | 0.562 |
MeteringMode | Multi-segment |
Model | Canon EOS 30D |
ModifyDate (1) | 2009:06:28 10:09:21+02:00 |
ModifyDate | 2009:06:28 10:09:21 |
Orientation | Horizontal (normal) |
OwnerName | Ole Andreas Valdal |
ParametricDarks | 0 |
ParametricHighlights | 0 |
ParametricHighlightSplit | 75 |
ParametricLights | 0 |
ParametricMidtoneSplit | 50 |
ParametricShadows | 0 |
ParametricShadowSplit | 25 |
PostCropVignetteAmount | 0 |
ProfileDescription | sRGB IEC61966-2.1 |
Rating | 0 |
RawFileName | IMG_0421.CR2 |
RedHue | 0 |
RedSaturation | 0 |
Rights | Fotograf Ole Valdal |
Saturation | 0 |
SaturationAdjustmentAqua | 0 |
SaturationAdjustmentBlue | 0 |
SaturationAdjustmentGreen | 0 |
SaturationAdjustmentMagenta | 0 |
SaturationAdjustmentOrange | 0 |
SaturationAdjustmentPurple | 0 |
SaturationAdjustmentRed | 0 |
SaturationAdjustmentYellow | 0 |
ScaleFactor35efl | 1.6 |
SceneCaptureType | Standard |
SerialNumber | 1730906613 |
Shadows | 3 |
ShadowTint | 0 |
SharpenDetail | 25 |
SharpenEdgeMasking | 0 |
SharpenRadius | +1.0 |
Sharpness | 25 |
ShutterSpeed | 1/2500 |
ShutterSpeedValue | 1/2500 |
Software | Adobe Photoshop CS4 Windows |
SplitToningBalance | 0 |
SplitToningHighlightHue | 0 |
SplitToningHighlightSaturation | 0 |
SplitToningShadowHue | 0 |
SplitToningShadowSaturation | 0 |
Subject | Isabella |
Tint | -5 |
ToneCurve | 0, 0, 32, 22, 64, 56, 128, 128, 192, 196, 255, 255 |
ToneCurveName | Medium Contrast |
URL | http://www.valdal.org |
URL_List | |
Version | 5.2 |
Vibrance | 0 |
VignetteAmount | 0 |
WebStatement | http://www.valdal.org |
WhiteBalance (2) | Custom |
WhiteBalance | Auto |