Felt | Verdi |
AlreadyApplied | True |
Aperture | 14.0 |
ApertureValue | 14.0 |
Artist | wenche@roro.no |
BitsPerSample | 8 |
BlueHue | 0 |
BlueSaturation | 0 |
Brightness | +58 |
By-line | wenche@roro.no |
CameraProfile | Adobe Standard |
CFAPattern | [Red,Green][Green,Blue] |
ChromaticAberrationB | 0 |
ChromaticAberrationR | 0 |
CircleOfConfusion | 0.030 mm |
Clarity | +50 |
ColorComponents | 3 |
ColorMode | RGB |
ColorNoiseReduction | 25 |
ColorSpace | sRGB |
ColorTemperature | 5500 |
Contrast (2) | +25 |
Contrast | Normal |
ConvertToGrayscale | False |
Copyright | Venche Jensen © 2009 |
CopyrightNotice | Venche Jensen © 2009 |
CreateDate (1) | 2009:06:16 18:00:48.05+02:00 |
CreateDate | 2009:06:16 18:00:48 |
Creator | wenche@roro.no, Venche Jensen |
CreatorTool | Ver.2.01 |
CustomRendered | Normal |
DateTimeDigitized | 2009:06:16 18:00:48.05+02:00 |
DateTimeOriginal (1) | 2009:06:16 18:00:48.05+02:00 |
DateTimeOriginal | 2009:06:16 18:00:48 |
Defringe | 0 |
DigitalZoomRatio | 1 |
ExifImageHeight | 894 |
ExifImageWidth | 1179 |
Exposure | -1.00 |
ExposureCompensation | 0 |
ExposureMode | Manual |
ExposureProgram | Manual |
ExposureTime | 1/6 |
FillLight | 48 |
Flash | No Flash |
FlashFired | False |
FlashFunction | False |
FlashMode | Unknown |
FlashRedEyeMode | False |
FlashReturn | No return detection |
FNumber | 14.0 |
FocalLength | 70.0 mm |
FocalLength35efl | 70.0 mm (35 mm equivalent: 70.0 mm) |
FocalLengthIn35mmFormat | 70 mm |
Format | image/jpeg |
FOV | 28.8 deg |
GainControl | None |
GreenHue | 0 |
GreenSaturation | 0 |
HasCrop | False |
HasSettings | True |
HighlightRecovery | 71 |
HueAdjustmentAqua | 0 |
HueAdjustmentBlue | 0 |
HueAdjustmentGreen | 0 |
HueAdjustmentMagenta | 0 |
HueAdjustmentOrange | 0 |
HueAdjustmentPurple | 0 |
HueAdjustmentRed | 0 |
HueAdjustmentYellow | 0 |
HyperfocalDistance | 11.65 m |
ICCProfileName | sRGB IEC61966-2.1 |
ImageHeight (1) | 2832 |
ImageHeight | 894 |
ImageNumber | 18797 |
ImageSize | 1179x894 |
ImageWidth (1) | 4256 |
ImageWidth | 1179 |
ISO | 100 |
Lens | 24.0-70.0 mm f/2.8 |
LensInfo | 24-70mm f/2.8 |
LightSource | Unknown |
LightValue | 10.2 |
LuminanceAdjustmentAqua | +33 |
LuminanceAdjustmentBlue | 0 |
LuminanceAdjustmentGreen | +45 |
LuminanceAdjustmentMagenta | 0 |
LuminanceAdjustmentOrange | +1 |
LuminanceAdjustmentPurple | 0 |
LuminanceAdjustmentRed | 0 |
LuminanceAdjustmentYellow | +13 |
LuminanceSmoothing | 0 |
Make | NIKON CORPORATION |
MaxApertureValue | 2.8 |
Megapixels | 1.1 |
MeteringMode | Multi-segment |
Model | NIKON D3 |
ModifyDate (1) | 2009:06:17 21:27:15+02:00 |
ModifyDate | 2009:06:17 21:27:15 |
Orientation | Horizontal (normal) |
ParametricDarks | +10 |
ParametricHighlights | 0 |
ParametricHighlightSplit | 75 |
ParametricLights | +16 |
ParametricMidtoneSplit | 50 |
ParametricShadows | +5 |
ParametricShadowSplit | 25 |
PostCropVignetteAmount | 0 |
ProfileDescription | sRGB IEC61966-2.1 |
Rating | 4 |
RawFileName | _VEJ8649.NEF |
RedHue | 0 |
RedSaturation | 0 |
Rights | Venche Jensen © 2009 |
Saturation (2) | 0 |
Saturation | Normal |
SaturationAdjustmentAqua | 0 |
SaturationAdjustmentBlue | 0 |
SaturationAdjustmentGreen | +3 |
SaturationAdjustmentMagenta | 0 |
SaturationAdjustmentOrange | +24 |
SaturationAdjustmentPurple | 0 |
SaturationAdjustmentRed | 0 |
SaturationAdjustmentYellow | +37 |
ScaleFactor35efl | 1.0 |
SceneCaptureType | Standard |
SceneType | Directly photographed |
SensingMethod | One-chip color area |
SerialNumber | 2037256 |
Shadows | 5 |
ShadowTint | 0 |
SharpenDetail | 25 |
SharpenEdgeMasking | 0 |
SharpenRadius | +1.0 |
Sharpness (2) | 25 |
Sharpness | Normal |
ShutterSpeed | 1/6 |
ShutterSpeedValue | 1/6 |
Software | Adobe Photoshop CS4 Macintosh |
SplitToningBalance | 0 |
SplitToningHighlightHue | 0 |
SplitToningHighlightSaturation | 0 |
SplitToningShadowHue | 0 |
SplitToningShadowSaturation | 0 |
SubjectDistanceRange | Unknown |
Tint | -6 |
ToneCurve | 0, 0, 32, 22, 64, 56, 128, 128, 192, 196, 255, 255 |
ToneCurveName | Medium Contrast |
URL_List | |
Version | 5.3 |
Vibrance | +35 |
VignetteAmount | 0 |
WhiteBalance (2) | Custom |
WhiteBalance | Manual |