Felt | Verdi |
AlreadyApplied | True |
Aperture | 4.0 |
ApertureValue | 4.0 |
Artist | unknown |
BitsPerSample | 8 |
BlueHue | 0 |
BlueSaturation | 0 |
Brightness | +50 |
By-line | unknown |
CameraProfile | ACR 3.6 |
ChromaticAberrationB | 0 |
ChromaticAberrationR | 0 |
CircleOfConfusion | 0.019 mm |
Clarity | +52 |
ColorComponents | 3 |
ColorNoiseReduction | 25 |
ColorTemperature | 4750 |
Contrast | +25 |
ConvertToGrayscale | False |
CreateDate (1) | 2007:09:26 19:27:36+02:00 |
CreateDate | 2007:09:26 19:27:36 |
Creator | unknown |
CreatorTool | Adobe Photoshop Lightroom |
CropAngle | 6.35247 |
CropBottom | 0.992765 |
CropHeight | 632 |
CropLeft | 0.103348 |
CropRight | 0.85333 |
CropTop | 0.000001 |
CropUnit | pixels |
CropWidth | 900 |
CustomRendered | Normal |
DateTimeDigitized | 2007:09:26 19:27:36+02:00 |
DateTimeOriginal (1) | 2007:09:26 19:27:36+02:00 |
DateTimeOriginal | 2007:09:26 19:27:36 |
Defringe | 0 |
ExifImageHeight | 900 |
ExifImageWidth | 632 |
Exposure | 0.00 |
ExposureCompensation | 0 |
ExposureMode | Auto |
ExposureProgram | Shutter speed priority AE |
ExposureTime | 1/160 |
FillLight | 11 |
Firmware | 1.0.5 |
Flash | Off, Did not fire |
FlashCompensation | 0 |
FlashFired | False |
FlashFunction | False |
FlashMode | Off |
FlashRedEyeMode | False |
FlashReturn | No return detection |
FNumber | 4.0 |
FocalLength | 75.0 mm |
FocalLength35efl | 75.0 mm (35 mm equivalent: 121.4 mm) |
FOV | 16.9 deg |
GradientBasedCorrActive | true |
GradientBasedCorrAmount | 1.000000 |
GradientBasedCorrBrightness | -0.200000 |
GradientBasedCorrClarity | 0.000000 |
GradientBasedCorrContrast | -0.200000 |
GradientBasedCorrExposure | -0.525000 |
GradientBasedCorrHue | 263.000000 |
GradientBasedCorrMaskFullX | 0.885728 |
GradientBasedCorrMaskFullY | 0.562745 |
GradientBasedCorrMaskValue | 1.000000 |
GradientBasedCorrMaskWhat | Mask/Gradient |
GradientBasedCorrMaskZeroX | 0.568113 |
GradientBasedCorrMaskZeroY | 0.511374 |
GradientBasedCorrSaturation (1) | 0.625000 |
GradientBasedCorrSaturation | 0.770000 |
GradientBasedCorrSharpness | 0.000000 |
GradientBasedCorrWhat | Correction |
GreenHue | 0 |
GreenSaturation | 0 |
HasCrop | True |
HasSettings | True |
HighlightRecovery | 51 |
HueAdjustmentAqua | +17 |
HueAdjustmentBlue | 0 |
HueAdjustmentGreen | +5 |
HueAdjustmentMagenta | +14 |
HueAdjustmentOrange | -40 |
HueAdjustmentPurple | -43 |
HueAdjustmentRed | -12 |
HueAdjustmentYellow | -67 |
HyperfocalDistance | 75.74 m |
ImageHeight | 900 |
ImageNumber | 112 |
ImageSize | 632x900 |
ImageWidth | 632 |
ISO | 200 |
Lens | EF75-300mm f/4-5.6 USM |
LensInfo | 75-300mm f/? |
LightValue | 10.3 |
LuminanceAdjustmentAqua | -45 |
LuminanceAdjustmentBlue | -33 |
LuminanceAdjustmentGreen | 0 |
LuminanceAdjustmentMagenta | -14 |
LuminanceAdjustmentOrange | -17 |
LuminanceAdjustmentPurple | +2 |
LuminanceAdjustmentRed | -12 |
LuminanceAdjustmentYellow | -14 |
LuminanceSmoothing | 0 |
Make | Canon |
MaxApertureValue | 4.0 |
Megapixels | 0.569 |
MeteringMode | Multi-segment |
Model | Canon EOS 400D DIGITAL |
ModifyDate (1) | 2009:04:06 13:54:48+02:00 |
ModifyDate | 2009:04:06 13:54:48 |
OwnerName | unknown |
ParametricDarks | 0 |
ParametricHighlights | 0 |
ParametricHighlightSplit | 75 |
ParametricLights | 0 |
ParametricMidtoneSplit | 50 |
ParametricShadows | 0 |
ParametricShadowSplit | 25 |
PostCropVignetteAmount | 0 |
ProfileDescription | sRGB IEC61966-2.1 |
RedHue | 0 |
RedSaturation | 0 |
Saturation | +10 |
SaturationAdjustmentAqua | 0 |
SaturationAdjustmentBlue | +2 |
SaturationAdjustmentGreen | 0 |
SaturationAdjustmentMagenta | 0 |
SaturationAdjustmentOrange | -14 |
SaturationAdjustmentPurple | 0 |
SaturationAdjustmentRed | -14 |
SaturationAdjustmentYellow | 0 |
ScaleFactor35efl | 1.6 |
SceneCaptureType | Standard |
SerialNumber | 1030501940 |
Shadows | 7 |
ShadowTint | 0 |
SharpenDetail | 25 |
SharpenEdgeMasking | 0 |
SharpenRadius | +1.0 |
Sharpness | 62 |
ShutterSpeed | 1/160 |
ShutterSpeedValue | 1/160 |
SplitToningBalance | 0 |
SplitToningHighlightHue | 17 |
SplitToningHighlightSaturation | 0 |
SplitToningShadowHue | 0 |
SplitToningShadowSaturation | 0 |
Tint | +9 |
ToneCurve | 0, 0, 32, 22, 64, 56, 128, 128, 192, 196, 255, 255 |
ToneCurveName | Medium Contrast |
Version | 5.3 |
Vibrance | +40 |
VignetteAmount | 0 |
WhiteBalance (2) | As Shot |
WhiteBalance | Auto |