Felt | Verdi |
AlreadyApplied | True |
Aperture | 4.0 |
ApertureValue | 4.0 |
Artist | unknown |
BitsPerSample | 8 |
BlueHue | 0 |
BlueSaturation | 0 |
Brightness | +64 |
By-line | unknown |
CameraProfile | Adobe Standard |
ChromaticAberrationB | 0 |
ChromaticAberrationR | 0 |
CircleOfConfusion | 0.019 mm |
Clarity | -5 |
ColorComponents | 3 |
ColorNoiseReduction | 100 |
ColorTemperature | 4550 |
Contrast | +36 |
ConvertToGrayscale | False |
CreateDate (1) | 2009:03:23 20:02:28+01:00 |
CreateDate | 2009:03:23 20:02:28 |
Creator | unknown |
CreatorTool | Adobe Photoshop Lightroom |
CustomRendered | Normal |
DateTimeDigitized | 2009:03:23 20:02:28+01:00 |
DateTimeOriginal (1) | 2009:03:23 20:02:28+01:00 |
DateTimeOriginal | 2009:03:23 20:02:28 |
Defringe | 0 |
ExifImageHeight | 3888 |
ExifImageWidth | 2592 |
Exposure | 0.00 |
ExposureCompensation | +1/3 |
ExposureMode | Auto |
ExposureProgram | Program AE |
ExposureTime | 1 |
FillLight | 14 |
Firmware | 1.1.1 |
Flash | Off, Did not fire |
FlashCompensation | 0.666666666666667 |
FlashFired | False |
FlashFunction | False |
FlashMode | Off |
FlashRedEyeMode | False |
FlashReturn | No return detection |
FNumber | 4.0 |
FocalLength | 80.0 mm |
FocalLength35efl | 80.0 mm (35 mm equivalent: 129.5 mm) |
FOV | 15.8 deg |
GreenHue | 0 |
GreenSaturation | 0 |
HasCrop | False |
HasSettings | True |
HighlightRecovery | 69 |
HueAdjustmentAqua | 0 |
HueAdjustmentBlue | 0 |
HueAdjustmentGreen | 0 |
HueAdjustmentMagenta | 0 |
HueAdjustmentOrange | 0 |
HueAdjustmentPurple | 0 |
HueAdjustmentRed | 0 |
HueAdjustmentYellow | 0 |
HyperfocalDistance | 86.18 m |
ImageHeight | 3888 |
ImageNumber | 240 |
ImageSize | 2592x3888 |
ImageWidth | 2592 |
ISO | 200 |
Lens | EF70-300mm f/4-5.6 IS USM |
LensInfo | 70-300mm f/? |
LightValue | 3.0 |
LuminanceAdjustmentAqua | 0 |
LuminanceAdjustmentBlue | 0 |
LuminanceAdjustmentGreen | 0 |
LuminanceAdjustmentMagenta | 0 |
LuminanceAdjustmentOrange | 0 |
LuminanceAdjustmentPurple | 0 |
LuminanceAdjustmentRed | 0 |
LuminanceAdjustmentYellow | 0 |
LuminanceSmoothing | 79 |
Make | Canon |
MaxApertureValue | 4.0 |
Megapixels | 10.1 |
MeteringMode | Multi-segment |
Model | Canon EOS 400D DIGITAL |
ModifyDate (1) | 2009:03:23 20:23:38+01:00 |
ModifyDate | 2009:03:23 20:23:38 |
OwnerName | unknown |
ParametricDarks | -19 |
ParametricHighlights | +24 |
ParametricHighlightSplit | 75 |
ParametricLights | +19 |
ParametricMidtoneSplit | 50 |
ParametricShadows | -62 |
ParametricShadowSplit | 25 |
PostCropVignetteAmount | 0 |
ProfileDescription | sRGB IEC61966-2.1 |
RedHue | +57 |
RedSaturation | +38 |
Saturation | -5 |
SaturationAdjustmentAqua | 0 |
SaturationAdjustmentBlue | 0 |
SaturationAdjustmentGreen | 0 |
SaturationAdjustmentMagenta | 0 |
SaturationAdjustmentOrange | 0 |
SaturationAdjustmentPurple | 0 |
SaturationAdjustmentRed | 0 |
SaturationAdjustmentYellow | 0 |
ScaleFactor35efl | 1.6 |
SceneCaptureType | Standard |
SerialNumber | 2081106243 |
Shadows | 21 |
ShadowTint | +19 |
SharpenDetail | 25 |
SharpenEdgeMasking | 0 |
SharpenRadius | +1.0 |
Sharpness | 25 |
ShutterSpeed | 1 |
ShutterSpeedValue | 1 |
SplitToningBalance | 0 |
SplitToningHighlightHue | 0 |
SplitToningHighlightSaturation | 0 |
SplitToningShadowHue | 0 |
SplitToningShadowSaturation | 0 |
Tint | -18 |
ToneCurve | 0, 0, 32, 22, 64, 56, 128, 128, 192, 196, 255, 255 |
ToneCurveName | Medium Contrast |
Version | 5.2 |
Vibrance | +10 |
VignetteAmount | 0 |
WhiteBalance (2) | Custom |
WhiteBalance | Auto |