Felt | Verdi |
AlreadyApplied | True |
Aperture | 22.0 |
ApertureValue | 22.0 |
Artist | Morten Prom |
BitsPerSample | 8 |
BlueHue | 0 |
BlueSaturation | 0 |
Brightness | 0 |
By-line | Morten Prom |
CameraProfile | Embedded |
Caption-Abstract | Nobody cared to pull this poor little boat on land months ago. Now it is hanging on to survive... |
ChromaticAberrationB | 0 |
ChromaticAberrationR | 0 |
CircleOfConfusion | 0.019 mm |
Clarity | +13 |
ColorComponents | 3 |
ColorMode | RGB |
ColorNoiseReduction | 0 |
ColorSpace (1) | Unknown (-1) |
ColorSpace | Uncalibrated |
Contrast | +43 |
ConvertToGrayscale | False |
Copyright | Copyright Morten Prom |
CopyrightFlag | True |
CopyrightNotice | Copyright Morten Prom |
CreateDate (1) | 2009:03:02 19:28:17+01:00 |
CreateDate | 2009:02:28 17:02:38 |
Creator | Morten Prom |
CreatorCity | Oslo |
CreatorCountry | Norway |
CreatorTool | Adobe Photoshop CS3 Windows |
CreatorWorkEmail | morten.prom@gmail.com |
CreatorWorkURL | http://www.mortenprom.com/ |
CropAngle | 0.249635 |
CropBottom | 0.999533 |
CropHeight | 768 |
CropLeft | 0.004828 |
CropRight | 0.995172 |
CropTop | 0.000467 |
CropUnit | pixels |
CropWidth | 690 |
CustomRendered | Normal |
DateTimeDigitized | 2009:02:28 17:02:38.50+01:00 |
DateTimeOriginal (1) | 2009:02:28 17:02:38.50+01:00 |
DateTimeOriginal | 2009:02:28 17:02:38 |
Defringe | 0 |
Description | Nobody cared to pull this poor little boat on land months ago. Now it is hanging on to survive... |
ExifImageHeight | 768 |
ExifImageWidth | 690 |
Exposure | 0.00 |
ExposureCompensation | 0 |
ExposureMode | Auto bracket |
ExposureProgram | Aperture-priority AE |
ExposureTime | 0.5 |
FillLight | 7 |
Firmware | 1.0.8 |
Flash | Off, Did not fire |
FlashCompensation | 0 |
FlashFired | False |
FlashFunction | False |
FlashMode | Off |
FlashRedEyeMode | False |
FlashReturn | No return detection |
FNumber | 22.0 |
FocalLength | 10.0 mm |
FocalLength35efl | 10.0 mm (35 mm equivalent: 16.2 mm) |
Format | image/jpeg |
FOV | 96.1 deg |
GreenHue | 0 |
GreenSaturation | 0 |
HasCrop | True |
HasSettings | True |
HierarchicalSubject | 2009, beach, black, boat, bridge, brown, canon 40d, clouds, cloudy, color, dark, evening, february, forest, golden, golden hour, gray, habour, ice, island, landscape, light, malmøya, metal, mortenprom, norge, norway, ocean, oslo, oslo fjord, plant, polarizer filter, rope, sea, ship, shore, sigma 10-20mm, sky, snow, stairs, steel, sunset, tree, water, white, wideangel, yellow |
HighlightRecovery | 33 |
HueAdjustmentAqua | 0 |
HueAdjustmentBlue | 0 |
HueAdjustmentGreen | 0 |
HueAdjustmentMagenta | 0 |
HueAdjustmentOrange | 0 |
HueAdjustmentPurple | 0 |
HueAdjustmentRed | 0 |
HueAdjustmentYellow | 0 |
HyperfocalDistance | 0.24 m |
ICCProfileName | Adobe RGB (1998) |
ImageDescription | Nobody cared to pull this poor little boat on land months ago. Now it is hanging on to survive... |
ImageHeight | 768 |
ImageNumber | 0 |
ImageSize | 690x768 |
ImageWidth | 690 |
IncrementalTemperature | 0 |
IncrementalTint | 0 |
ISO | 100 |
Keywords | 2009, beach, black, boat, bridge, brown, canon 40d, clouds, cloudy, color, dark, evening, february, forest, golden, golden hour, gray, habour, ice, island, landscape, light, malmøya, metal, mortenprom, norge, norway, ocean, oslo, oslo fjord, plant, polarizer filter, rope, sea, ship, shore, sigma 10-20mm, sky, snow, stairs, steel, sunset, tree, water, white, wideangel, yellow |
Lens | 10-20mm |
LensInfo | 10-20mm f/? |
LightValue | 9.9 |
LuminanceAdjustmentAqua | 0 |
LuminanceAdjustmentBlue | 0 |
LuminanceAdjustmentGreen | 0 |
LuminanceAdjustmentMagenta | 0 |
LuminanceAdjustmentOrange | 0 |
LuminanceAdjustmentPurple | 0 |
LuminanceAdjustmentRed | 0 |
LuminanceAdjustmentYellow | 0 |
LuminanceSmoothing | 0 |
Make | Canon |
Marked | True |
MaxApertureValue | 4.2 |
Megapixels | 0.530 |
MeteringMode | Multi-segment |
Model | Canon EOS 40D |
ModifyDate (1) | 2009:03:02 19:28:17+01:00 |
ModifyDate | 2009:03:02 19:28:17 |
ObjectName | Abandoned |
Orientation | Horizontal (normal) |
ParametricDarks | 0 |
ParametricHighlights | 0 |
ParametricHighlightSplit | 75 |
ParametricLights | 0 |
ParametricMidtoneSplit | 50 |
ParametricShadows | 0 |
ParametricShadowSplit | 25 |
PostCropVignetteAmount | 0 |
ProfileDescription | Adobe RGB (1998) |
Rating | 5 |
RedHue | 0 |
RedSaturation | 0 |
Rights | Copyright Morten Prom |
Saturation | +41 |
SaturationAdjustmentAqua | 0 |
SaturationAdjustmentBlue | 0 |
SaturationAdjustmentGreen | 0 |
SaturationAdjustmentMagenta | 0 |
SaturationAdjustmentOrange | 0 |
SaturationAdjustmentPurple | 0 |
SaturationAdjustmentRed | 0 |
SaturationAdjustmentYellow | 0 |
ScaleFactor35efl | 1.6 |
SceneCaptureType | Standard |
SerialNumber | 330112890 |
Shadows | 0 |
ShadowTint | 0 |
SharpenDetail | 25 |
SharpenEdgeMasking | 0 |
SharpenRadius | +1.0 |
Sharpness | 0 |
ShutterSpeed | 0.5 |
ShutterSpeedValue | 0.5 |
Software | Adobe Photoshop CS3 Windows |
SplitToningBalance | 0 |
SplitToningHighlightHue | 0 |
SplitToningHighlightSaturation | 0 |
SplitToningShadowHue | 0 |
SplitToningShadowSaturation | 0 |
Subject | 2009, beach, black, boat, bridge, brown, canon 40d, clouds, cloudy, color, dark, evening, february, forest, golden, golden hour, gray, habour, ice, island, landscape, light, malmøya, metal, mortenprom, norge, norway, ocean, oslo, oslo fjord, plant, polarizer filter, rope, sea, ship, shore, sigma 10-20mm, sky, snow, stairs, steel, sunset, tree, water, white, wideangel, yellow |
Title | Abandoned |
ToneCurve | 0, 0, 255, 255 |
ToneCurveName | Linear |
URL | http://www.mortenprom.com/ |
URL_List | |
UsageTerms | http://www.mortenprom.com/ |
Version | 4.5 |
Vibrance | +14 |
VignetteAmount | 0 |
WebStatement | http://www.mortenprom.com/ |
WhiteBalance (2) | As Shot |
WhiteBalance | Auto |