Felt | Verdi |
AlreadyApplied | True |
Artist | Borre Ludvigsen |
BitsPerSample | 8 |
BlueHue | 0 |
BlueSaturation | 0 |
Brightness | +50 |
By-line | Borre Ludvigsen |
CameraProfile | Adobe Standard |
Caption-Abstract | |
ChromaticAberrationB | 0 |
ChromaticAberrationR | 0 |
CircleOfConfusion | 0.022 mm |
Clarity | 0 |
ColorComponents | 1 |
ColorMode | RGB |
ColorNoiseReduction | 25 |
ColorSpace | Uncalibrated |
ColorTemperature | 7500 |
Contrast | +25 |
ConvertToGrayscale | False |
CreateDate (1) | 2009:03:19 18:42:58+01:00 |
CreateDate | 2009:03:19 18:42:58 |
Creator | Borre Ludvigsen |
CreatorTool | 2.004 |
DateTimeDigitized | 2009:03:19 18:42:58+01:00 |
DateTimeOriginal (1) | 2009:03:19 17:42:58+01:00 |
DateTimeOriginal | 2009:03:19 17:42:58 |
Defringe | 0 |
Description | |
DigitalZoomRatio | 0 |
ExifImageHeight | 3916 |
ExifImageWidth | 2634 |
Exposure | +1.45 |
ExposureCompensation | 0 |
ExposureProgram | Manual |
ExposureTime | 1/15 |
FillLight | 32 |
Flash | On, Did not fire |
FlashFired | False |
FlashFunction | False |
FlashMode | On |
FlashRedEyeMode | False |
FlashReturn | No return detection |
Format | image/jpeg |
GPSAltitude (1) | 17.2264957264957 m |
GPSAltitude (2) | 17.22649573 m |
GPSAltitude | 17.2 m Above Sea Level |
GPSAltitudeRef | Above Sea Level |
GPSDateStamp | 2009:03:19 |
GPSDateTime | 2009:03:19 17:42:58Z |
GPSLatitude (2) | 59 deg 4' 16.96" |
GPSLatitude | 59 deg 4' 16.96" N |
GPSLatitudeRef | North |
GPSLongitude (2) | 11 deg 25' 58.43" |
GPSLongitude | 11 deg 25' 58.43" E |
GPSLongitudeRef | East |
GPSPosition | 59 deg 4' 16.96" N, 11 deg 25' 58.43" E |
GPSTimeStamp | 17:42:58 |
GPSVersionID | 2.2.0.0 |
GreenHue | 0 |
GreenSaturation | 0 |
HasCrop | False |
HasSettings | True |
HighlightRecovery | 0 |
HueAdjustmentAqua | 0 |
HueAdjustmentBlue | 0 |
HueAdjustmentGreen | 0 |
HueAdjustmentMagenta | 0 |
HueAdjustmentOrange | 0 |
HueAdjustmentPurple | 0 |
HueAdjustmentRed | 0 |
HueAdjustmentYellow | 0 |
ICCProfileName | Adobe RGB (1998) |
ImageDescription | |
ImageHeight | 3916 |
ImageSize | 2634x3916 |
ImageWidth | 2634 |
ISO | 640 |
LightSource | Unknown |
LuminanceAdjustmentAqua | 0 |
LuminanceAdjustmentBlue | 0 |
LuminanceAdjustmentGreen | 0 |
LuminanceAdjustmentMagenta | 0 |
LuminanceAdjustmentOrange | 0 |
LuminanceAdjustmentPurple | 0 |
LuminanceAdjustmentRed | 0 |
LuminanceAdjustmentYellow | 0 |
LuminanceSmoothing | 0 |
Make | Leica Camera AG |
MaxApertureValue | 1.0 |
Megapixels | 10.3 |
MeteringMode | Center-weighted average |
Model | M8 Digital Camera |
ModifyDate (1) | 2009:03:21 13:32:43+01:00 |
ModifyDate | 2009:03:21 13:32:43 |
Orientation | Horizontal (normal) |
ParametricDarks | 0 |
ParametricHighlights | 0 |
ParametricHighlightSplit | 75 |
ParametricLights | 0 |
ParametricMidtoneSplit | 50 |
ParametricShadows | 0 |
ParametricShadowSplit | 25 |
PostCropVignetteAmount | 0 |
ProfileDescription | Adobe RGB (1998) |
Rating | 0 |
RawFileName | 20090319_184258.DNG |
RedHue | 0 |
RedSaturation | 0 |
Saturation | 0 |
SaturationAdjustmentAqua | 0 |
SaturationAdjustmentBlue | 0 |
SaturationAdjustmentGreen | 0 |
SaturationAdjustmentMagenta | 0 |
SaturationAdjustmentOrange | 0 |
SaturationAdjustmentPurple | 0 |
SaturationAdjustmentRed | 0 |
SaturationAdjustmentYellow | 0 |
ScaleFactor35efl | 1.4 |
SceneCaptureType | Standard |
SceneType | Directly photographed |
SerialNumber | 3105804 |
Shadows | 5 |
ShadowTint | 0 |
SharpenDetail | 25 |
SharpenEdgeMasking | 0 |
SharpenRadius | +1.0 |
Sharpness | 0 |
ShutterSpeed | 1/15 |
ShutterSpeedValue | 1/15 |
Software | Adobe Photoshop CS4 Macintosh |
SplitToningBalance | 0 |
SplitToningHighlightHue | 0 |
SplitToningHighlightSaturation | 0 |
SplitToningShadowHue | 0 |
SplitToningShadowSaturation | 0 |
Tint | +10 |
ToneCurve | 0, 0, 32, 22, 64, 56, 128, 128, 192, 196, 255, 255 |
ToneCurveName | Medium Contrast |
URL_List | |
UserComment | |
Version | 5.3 |
Vibrance | 0 |
VignetteAmount | 0 |
WhiteBalance (2) | Shade |
WhiteBalance | Auto |