Felt | Verdi |
AlreadyApplied | True |
Aperture | 10.0 |
ApertureValue | 10.0 |
Artist | Hugo Strom |
BitsPerSample | 8 |
BlueHue | 0 |
BlueSaturation | 0 |
Brightness | +11 |
By-line | Hugo Strom |
CameraProfile | Embedded |
ChromaticAberrationB | 0 |
ChromaticAberrationR | 0 |
CircleOfConfusion | 0.019 mm |
Clarity | +40 |
ColorComponents | 3 |
ColorNoiseReduction | 0 |
Contrast | +14 |
ConvertToGrayscale | False |
CreateDate (1) | 2008:12:14 07:16:44.01+01:00 |
CreateDate | 2008:12:14 07:16:44 |
Creator | Hugo Strom |
CreatorTool | Adobe Photoshop Lightroom |
CropAngle | -1.125 |
CropBottom | 0.945776 |
CropHeight | 2447 |
CropLeft | 0.172717 |
CropRight | 0.991717 |
CropTop | 0.02559 |
CropUnit | pixels |
CropWidth | 3137 |
CustomRendered | Normal |
DateTimeDigitized | 2008:12:14 07:16:44.01+01:00 |
DateTimeOriginal (1) | 2008:12:14 07:16:44.01+01:00 |
DateTimeOriginal | 2008:12:14 07:16:44 |
Defringe | 0 |
ExifImageHeight | 2447 |
ExifImageWidth | 3137 |
Exposure | +0.38 |
ExposureCompensation | 0 |
ExposureMode | Auto |
ExposureProgram | Action (High speed) |
ExposureTime | 1/1600 |
FillLight | 33 |
Firmware | 1.0.5 |
Flash | Off, Did not fire |
FlashCompensation | 0 |
FlashFired | False |
FlashFunction | False |
FlashMode | Off |
FlashRedEyeMode | False |
FlashReturn | No return detection |
FNumber | 10.0 |
FocalLength | 80.0 mm |
FocalLength35efl | 80.0 mm (35 mm equivalent: 129.5 mm) |
FOV | 15.8 deg |
GreenHue | 0 |
GreenSaturation | 0 |
HasCrop | True |
HasSettings | True |
HighlightRecovery | 0 |
HueAdjustmentAqua | 0 |
HueAdjustmentBlue | 0 |
HueAdjustmentGreen | 0 |
HueAdjustmentMagenta | 0 |
HueAdjustmentOrange | 0 |
HueAdjustmentPurple | 0 |
HueAdjustmentRed | 0 |
HueAdjustmentYellow | 0 |
HyperfocalDistance | 34.48 m |
ImageHeight | 2447 |
ImageNumber | 0 |
ImageSize | 3137x2447 |
ImageWidth | 3137 |
IncrementalTemperature | +2 |
IncrementalTint | 0 |
ISO | 400 |
Keywords | india, maldivene |
Lens | EF75-300mm f/4-5.6 |
LensInfo | 75-300mm f/? |
LightValue | 15.3 |
LuminanceAdjustmentAqua | 0 |
LuminanceAdjustmentBlue | 0 |
LuminanceAdjustmentGreen | 0 |
LuminanceAdjustmentMagenta | 0 |
LuminanceAdjustmentOrange | 0 |
LuminanceAdjustmentPurple | 0 |
LuminanceAdjustmentRed | 0 |
LuminanceAdjustmentYellow | 0 |
LuminanceSmoothing | 0 |
Make | Canon |
MaxApertureValue | 4.2 |
Megapixels | 7.7 |
MeteringMode | Multi-segment |
Model | Canon EOS 40D |
ModifyDate (1) | 2009:03:05 20:19:30+01:00 |
ModifyDate | 2009:03:05 20:19:30 |
OwnerName | Hugo Strom |
ParametricDarks | 0 |
ParametricHighlights | 0 |
ParametricHighlightSplit | 75 |
ParametricLights | 0 |
ParametricMidtoneSplit | 50 |
ParametricShadows | 0 |
ParametricShadowSplit | 25 |
PostCropVignetteAmount | 0 |
ProfileDescription | sRGB IEC61966-2.1 |
RedHue | 0 |
RedSaturation | 0 |
Saturation | 0 |
SaturationAdjustmentAqua | 0 |
SaturationAdjustmentBlue | 0 |
SaturationAdjustmentGreen | 0 |
SaturationAdjustmentMagenta | 0 |
SaturationAdjustmentOrange | 0 |
SaturationAdjustmentPurple | 0 |
SaturationAdjustmentRed | 0 |
SaturationAdjustmentYellow | 0 |
ScaleFactor35efl | 1.6 |
SceneCaptureType | Standard |
SerialNumber | 830516298 |
Shadows | 0 |
ShadowTint | 0 |
SharpenDetail | 25 |
SharpenEdgeMasking | 0 |
SharpenRadius | +1.0 |
Sharpness | 0 |
ShutterSpeed | 1/1600 |
ShutterSpeedValue | 1/1600 |
SplitToningBalance | 0 |
SplitToningHighlightHue | 0 |
SplitToningHighlightSaturation | 0 |
SplitToningShadowHue | 0 |
SplitToningShadowSaturation | 0 |
Subject | india, maldivene |
ToneCurve | 0, 0, 255, 255 |
ToneCurveName | Linear |
Version | 5.2 |
Vibrance | +52 |
VignetteAmount | 0 |
WhiteBalance (2) | Custom |
WhiteBalance | Auto |