Felt | Verdi |
AlreadyApplied | True |
Aperture | 11.0 |
ApertureValue | 11.0 |
Artist | unknown |
BitsPerSample | 8 |
BlueHue | 0 |
BlueSaturation | 0 |
Brightness | +50 |
By-line | unknown |
CameraProfile | ACR 4.4 |
ChromaticAberrationB | 0 |
ChromaticAberrationR | 0 |
CircleOfConfusion | 0.019 mm |
Clarity | +45 |
ColorComponents | 3 |
ColorNoiseReduction | 25 |
ColorTemperature | 5452 |
Contrast | +71 |
ConvertToGrayscale | False |
CreateDate (1) | 2009:02:08 15:22:35+01:00 |
CreateDate | 2009:02:08 15:22:35 |
Creator | unknown |
CreatorTool | Adobe Photoshop Lightroom |
CropAngle | -1.55055 |
CropBottom | 0.70362 |
CropHeight | 1328 |
CropLeft | 0.012521 |
CropRight | 0.997058 |
CropTop | 0.17473 |
CropUnit | pixels |
CropWidth | 3415 |
CustomRendered | Normal |
DateTimeDigitized | 2009:02:08 15:22:35+01:00 |
DateTimeOriginal (1) | 2009:02:08 15:22:35+01:00 |
DateTimeOriginal | 2009:02:08 15:22:35 |
Defringe | 0 |
ExifImageHeight | 1328 |
ExifImageWidth | 3415 |
Exposure | 0.00 |
ExposureCompensation | +1/2 |
ExposureMode | Auto |
ExposureProgram | Program AE |
ExposureTime | 1/500 |
FillLight | 0 |
Firmware | 1.0.6 |
Flash | Off, Did not fire |
FlashCompensation | 0 |
FlashFired | False |
FlashFunction | False |
FlashMode | Off |
FlashRedEyeMode | False |
FlashReturn | No return detection |
FNumber | 11.0 |
FocalLength | 17.0 mm |
FocalLength35efl | 17.0 mm (35 mm equivalent: 27.2 mm) |
FOV | 66.9 deg |
GreenHue | 0 |
GreenSaturation | 0 |
HasCrop | True |
HasSettings | True |
HighlightRecovery | 54 |
HueAdjustmentAqua | 0 |
HueAdjustmentBlue | 0 |
HueAdjustmentGreen | 0 |
HueAdjustmentMagenta | 0 |
HueAdjustmentOrange | 0 |
HueAdjustmentPurple | 0 |
HueAdjustmentRed | 0 |
HueAdjustmentYellow | 0 |
HyperfocalDistance | 1.40 m |
ImageHeight | 1328 |
ImageNumber | 112 |
ImageSize | 3415x1328 |
ImageWidth | 3415 |
ISO | 200 |
Lens | 17.0-70.0 mm |
LensInfo | 17-70mm f/? |
LightValue | 14.9 |
LuminanceAdjustmentAqua | 0 |
LuminanceAdjustmentBlue | 0 |
LuminanceAdjustmentGreen | 0 |
LuminanceAdjustmentMagenta | 0 |
LuminanceAdjustmentOrange | +17 |
LuminanceAdjustmentPurple | 0 |
LuminanceAdjustmentRed | +40 |
LuminanceAdjustmentYellow | 0 |
LuminanceSmoothing | 11 |
Make | Canon |
MaxApertureValue | 2.8 |
Megapixels | 4.5 |
MeteringMode | Spot |
Model | Canon EOS 30D |
ModifyDate (1) | 2009:02:13 15:41:31+01:00 |
ModifyDate | 2009:02:13 15:41:31 |
OwnerName | unknown |
ParametricDarks | -7 |
ParametricHighlights | -36 |
ParametricHighlightSplit | 75 |
ParametricLights | 0 |
ParametricMidtoneSplit | 50 |
ParametricShadows | 0 |
ParametricShadowSplit | 25 |
PostCropVignetteAmount | 0 |
ProfileDescription | sRGB IEC61966-2.1 |
RedHue | 0 |
RedSaturation | 0 |
Saturation | 0 |
SaturationAdjustmentAqua | -12 |
SaturationAdjustmentBlue | -26 |
SaturationAdjustmentGreen | 0 |
SaturationAdjustmentMagenta | 0 |
SaturationAdjustmentOrange | +17 |
SaturationAdjustmentPurple | 0 |
SaturationAdjustmentRed | +60 |
SaturationAdjustmentYellow | 0 |
ScaleFactor35efl | 1.6 |
SceneCaptureType | Standard |
SerialNumber | 1730906541 |
Shadows | 14 |
ShadowTint | 0 |
SharpenDetail | 25 |
SharpenEdgeMasking | 0 |
SharpenRadius | +1.0 |
Sharpness | 107 |
ShutterSpeed | 1/500 |
ShutterSpeedValue | 1/500 |
SplitToningBalance | 0 |
SplitToningHighlightHue | 0 |
SplitToningHighlightSaturation | 0 |
SplitToningShadowHue | 0 |
SplitToningShadowSaturation | 0 |
Tint | -11 |
ToneCurve | 0, 0, 32, 22, 64, 56, 128, 128, 192, 196, 255, 255 |
ToneCurveName | Medium Contrast |
Version | 4.5 |
Vibrance | +7 |
VignetteAmount | 0 |
WhiteBalance (2) | Custom |
WhiteBalance | Auto |