Felt | Verdi |
AlreadyApplied | True |
Aperture | 8.0 |
ApertureValue | 8.0 |
BitsPerSample | 8 |
BlueHue | +20 |
BlueSaturation | -100 |
Brightness | +69 |
CameraProfile | Embedded |
ChromaticAberrationB | 0 |
ChromaticAberrationR | 0 |
CircleOfConfusion | 0.021 mm |
ColorComponents | 3 |
ColorMode | RGB |
ColorNoiseReduction | 0 |
ColorSpace (1) | Unknown (-1) |
ColorSpace | Uncalibrated |
ColorTemperature | 4550 |
Contrast (2) | -11 |
Contrast | Normal |
ConvertToGrayscale | False |
CopyrightFlag | False |
CreateDate (1) | 2009:02:10 17:00:53+01:00 |
CreateDate | 2009:02:10 15:43:37 |
CreatorTool | Adobe Photoshop CS3 Windows |
CropAngle | 0 |
CropBottom | 1 |
CropLeft | 0.022222 |
CropRight | 0.631294 |
CropTop | 0 |
CustomRendered | Normal |
DateTimeDigitized | 2009:02:10 15:43:37+01:00 |
DateTimeOriginal (1) | 2009:02:10 15:43:37+01:00 |
DateTimeOriginal | 2009:02:10 15:43:37 |
DerivedFrom | |
ExifImageHeight | 2592 |
ExifImageWidth | 2321 |
Exposure | 0.00 |
ExposureCompensation | 0 |
ExposureMode | Auto |
ExposureProgram | Shutter speed priority AE |
ExposureTime | 0.5 |
FillLight | 56 |
Flash | Off, Did not fire |
FlashFired | False |
FlashFunction | False |
FlashMode | Off |
FlashRedEyeMode | False |
FlashReturn | No return detection |
FNumber | 8.0 |
FocalLength | 13.0 mm |
FocalLength35efl | 13.0 mm (35 mm equivalent: 19.0 mm) |
FocalLengthIn35mmFormat | 19 mm |
Format | image/jpeg |
FOV | 86.9 deg |
GreenHue | -1 |
GreenSaturation | 0 |
HasCrop | True |
HasSettings | True |
HighlightRecovery | 23 |
HueAdjustmentAqua | 0 |
HueAdjustmentBlue | 0 |
HueAdjustmentGreen | 0 |
HueAdjustmentMagenta | 0 |
HueAdjustmentOrange | 0 |
HueAdjustmentPurple | 0 |
HueAdjustmentRed | 0 |
HueAdjustmentYellow | 0 |
HyperfocalDistance | 1.03 m |
ICCProfileName | Adobe RGB (1998) |
ImageHeight | 2592 |
ImageSize | 2321x2592 |
ImageWidth | 2321 |
ISO | 100 |
LightValue | 7.0 |
LuminanceAdjustmentAqua | 0 |
LuminanceAdjustmentBlue | 0 |
LuminanceAdjustmentGreen | 0 |
LuminanceAdjustmentMagenta | 0 |
LuminanceAdjustmentOrange | 0 |
LuminanceAdjustmentPurple | 0 |
LuminanceAdjustmentRed | 0 |
LuminanceAdjustmentYellow | 0 |
LuminanceSmoothing | 74 |
Make | PENTAX |
Megapixels | 6.0 |
MeteringMode | Center-weighted average |
Model | PENTAX K200D |
ModifyDate (1) | 2009:02:10 17:00:53+01:00 |
ModifyDate | 2009:02:10 17:00:53 |
Orientation | Horizontal (normal) |
ParametricDarks | -40 |
ParametricHighlights | -7 |
ParametricHighlightSplit | 75 |
ParametricLights | +34 |
ParametricMidtoneSplit | 50 |
ParametricShadows | -17 |
ParametricShadowSplit | 25 |
ProfileDescription | Adobe RGB (1998) |
Rating | 0 |
RawFileName | IMGP4229.DNG |
RedHue | -5 |
RedSaturation | -5 |
Saturation (2) | 0 |
Saturation | Normal |
SaturationAdjustmentAqua | 0 |
SaturationAdjustmentBlue | 0 |
SaturationAdjustmentGreen | 0 |
SaturationAdjustmentMagenta | 0 |
SaturationAdjustmentOrange | 0 |
SaturationAdjustmentPurple | 0 |
SaturationAdjustmentRed | 0 |
SaturationAdjustmentYellow | 0 |
ScaleFactor35efl | 1.5 |
SceneCaptureType | Standard |
SensingMethod | One-chip color area |
Shadows | 18 |
ShadowTint | -3 |
Sharpness (2) | 0 |
Sharpness | Normal |
ShutterSpeed | 0.5 |
ShutterSpeedValue | 0.5 |
Software | Adobe Photoshop CS3 Windows |
SplitToningBalance | 0 |
SplitToningHighlightHue | 138 |
SplitToningHighlightSaturation | 0 |
SplitToningShadowHue | 176 |
SplitToningShadowSaturation | 3 |
SubjectDistanceRange | Distant |
TimeZoneOffset | 1 1 |
Tint | +13 |
ToneCurve | 0, 0, 32, 22, 64, 56, 142, 117, 185, 198, 255, 255 |
ToneCurveName | Custom |
URL_List | |
Version | 4.0 |
Vibrance | 0 |
VignetteAmount | -61 |
VignetteMidpoint | 0 |
WhiteBalance (2) | Custom |
WhiteBalance | Auto |