Felt | Verdi |
AlreadyApplied | True |
Aperture | 11.0 |
ApertureValue | 11.0 |
Artist | Svein Otto Jacobsen |
BitsPerSample | 8 |
BlueHue | 0 |
BlueSaturation | 0 |
Brightness | +30 |
By-line | Svein Otto Jacobsen |
CameraProfile | ACR 4.4 |
Caption-Abstract | Bergen harbour in sunlight, under the Tall Ships' Races |
ChromaticAberrationB | 0 |
ChromaticAberrationR | 0 |
CircleOfConfusion | 0.019 mm |
City | Bergen |
Clarity | 0 |
ColorComponents | 3 |
ColorNoiseReduction | 25 |
ColorTemperature | 5000 |
Contrast | +39 |
ConvertToGrayscale | False |
Copyright | Svein Otto Jacobsen |
CopyrightNotice | Svein Otto Jacobsen |
Country | Norway |
Country-PrimaryLocationName | Norway |
CreateDate | 2008:08:08 21:22:37 |
Creator | Svein Otto Jacobsen |
CreatorAddress | Nygård |
CreatorCity | KLOKKARVIK |
CreatorCountry | Norway |
CreatorPostalCode | 5378 |
CreatorRegion | Hordaland |
CreatorTool | Adobe Photoshop Lightroom |
CreatorWorkEmail | svein@bitservices.no |
CreatorWorkTelephone | +47 93638223 |
CustomRendered | Normal |
DateTimeDigitized | 2008:08:08 21:22:37+02:00 |
DateTimeOriginal (1) | 2008:08:08 21:22:37+02:00 |
DateTimeOriginal | 2008:08:08 21:22:37 |
Defringe | 0 |
Description | Bergen harbour in sunlight, under the Tall Ships' Races |
Exposure | -0.64 |
ExposureCompensation | 0 |
ExposureMode | Auto |
ExposureProgram | Aperture-priority AE |
ExposureTime | 1/125 |
FillLight | 75 |
Firmware | 1.0.4 |
Flash | Off, Did not fire |
FlashCompensation | 0 |
FlashFired | False |
FlashFunction | False |
FlashMode | Off |
FlashRedEyeMode | False |
FlashReturn | No return detection |
FNumber | 11.0 |
FocalLength | 30.0 mm |
FocalLength35efl | 30.0 mm (35 mm equivalent: 48.6 mm) |
FOV | 40.7 deg |
GreenHue | 0 |
GreenSaturation | 0 |
HasCrop | False |
HasSettings | True |
HierarchicalSubject | Bergen, Europe, Harbour, Hordaland County, Norway, Scandinavia, Sunlight, Tall Ships, Tall Ships' Races, boat, sea, sky, sun, vessel |
HighlightRecovery | 100 |
HueAdjustmentAqua | 0 |
HueAdjustmentBlue | 0 |
HueAdjustmentGreen | 0 |
HueAdjustmentMagenta | 0 |
HueAdjustmentOrange | 0 |
HueAdjustmentPurple | 0 |
HueAdjustmentRed | 0 |
HueAdjustmentYellow | 0 |
HyperfocalDistance | 4.41 m |
ImageDescription | Bergen harbour in sunlight, under the Tall Ships' Races |
ImageHeight | 3888 |
ImageNumber | 112 |
ImageSize | 2592x3888 |
ImageWidth | 2592 |
ISO | 100 |
Keywords | Bergen, Europe, Harbour, Hordaland County, Norway, Scandinavia, Sunlight, Tall Ships, Tall Ships' Races, boat, sea, sky, sun, vessel |
Label | Vågen |
Lens | 17.0-70.0 mm |
LensInfo | 17-70mm f/? |
LightValue | 13.9 |
Location | Vågen |
LuminanceAdjustmentAqua | 0 |
LuminanceAdjustmentBlue | 0 |
LuminanceAdjustmentGreen | 0 |
LuminanceAdjustmentMagenta | 0 |
LuminanceAdjustmentOrange | 0 |
LuminanceAdjustmentPurple | 0 |
LuminanceAdjustmentRed | 0 |
LuminanceAdjustmentYellow | 0 |
LuminanceSmoothing | 100 |
Make | Canon |
Marked | True |
MaxApertureValue | 3.5 |
Megapixels | 10.1 |
MeteringMode | Multi-segment |
Model | Canon EOS 400D DIGITAL |
ModifyDate (1) | 2009:01:08 22:03:20+01:00 |
ModifyDate | 2009:01:08 22:03:20 |
ObjectName | Bergen harbour in sunlight |
OwnerName | Svein O Jacobsen |
ParametricDarks | -18 |
ParametricHighlights | 0 |
ParametricHighlightSplit | 75 |
ParametricLights | 0 |
ParametricMidtoneSplit | 50 |
ParametricShadows | +17 |
ParametricShadowSplit | 25 |
ProfileDescription | sRGB IEC61966-2.1 |
Province-State | Hordaland County |
RedHue | 0 |
RedSaturation | 0 |
Rights | Svein Otto Jacobsen |
Saturation | 0 |
SaturationAdjustmentAqua | 0 |
SaturationAdjustmentBlue | 0 |
SaturationAdjustmentGreen | 0 |
SaturationAdjustmentMagenta | 0 |
SaturationAdjustmentOrange | 0 |
SaturationAdjustmentPurple | 0 |
SaturationAdjustmentRed | 0 |
SaturationAdjustmentYellow | 0 |
ScaleFactor35efl | 1.6 |
SceneCaptureType | Standard |
SerialNumber | 830415345 |
Shadows | 0 |
ShadowTint | 0 |
SharpenDetail | 25 |
SharpenEdgeMasking | 0 |
SharpenRadius | +1.0 |
Sharpness | 103 |
ShutterSpeed | 1/125 |
ShutterSpeedValue | 1/125 |
SplitToningBalance | 0 |
SplitToningHighlightHue | 0 |
SplitToningHighlightSaturation | 0 |
SplitToningShadowHue | 0 |
SplitToningShadowSaturation | 0 |
State | Hordaland County |
Sub-location | Vågen |
Subject | Bergen, Europe, Harbour, Hordaland County, Norway, Scandinavia, Sunlight, Tall Ships, Tall Ships' Races, boat, sea, sky, sun, vessel |
Tint | +5 |
Title | Bergen harbour in sunlight |
ToneCurve | 0, 0, 32, 16, 64, 50, 128, 128, 192, 202, 255, 255 |
ToneCurveName | Strong Contrast |
UsageTerms | photo By: Svein Otto Jacobsen |
Version | 4.4.1 |
Vibrance | 0 |
VignetteAmount | 0 |
WhiteBalance (2) | Custom |
WhiteBalance | Auto |