Felt | Verdi |
AlreadyApplied | True |
Aperture | 5.0 |
ApertureValue | 5.0 |
BitsPerSample | 8 |
BlueHue | 0 |
BlueSaturation | 0 |
Brightness | +73 |
CameraProfile | ACR 3.7 |
ChromaticAberrationB | 0 |
ChromaticAberrationR | 0 |
CircleOfConfusion | 0.020 mm |
Clarity | 0 |
ColorComponents | 1 |
ColorMode | Grayscale |
ColorSpace (1) | Unknown (-1) |
ColorSpace | Uncalibrated |
ColorTemperature | 3350 |
Contrast (2) | +51 |
Contrast | High |
ConvertToGrayscale | True |
CopyrightFlag | False |
CreateDate (1) | 2008:09:30 10:17:32-07:00 |
CreateDate | 2008:04:03 12:49:50 |
CreatorTool | Adobe Photoshop CS3 Macintosh |
CropAngle | 0 |
CropBottom | 0.853828 |
CropHeight | 2213 |
CropLeft | 0.031954 |
CropRight | 1 |
CropTop | 0 |
CropUnit | pixels |
CropWidth | 3748 |
CustomRendered | Normal |
DateTimeDigitized | 2008:04:03 12:49:50+02:00 |
DateTimeOriginal (1) | 2008:04:03 12:49:50+02:00 |
DateTimeOriginal | 2008:04:03 12:49:50 |
Defringe | 0 |
ExifImageHeight | 1181 |
ExifImageWidth | 2000 |
Exposure | +0.12 |
ExposureCompensation | 0 |
ExposureMode | Manual |
ExposureProgram | Manual |
ExposureTime | 1/200 |
FillLight | 0 |
Flash | Off, Did not fire |
FlashFired | False |
FlashFunction | False |
FlashMode | Off |
FlashRedEyeMode | False |
FlashReturn | No return detection |
FNumber | 5.0 |
FocalLength | 20.0 mm |
FocalLength35efl | 20.0 mm (35 mm equivalent: 30.0 mm) |
FocalLengthIn35mmFormat | 30 mm |
Format | image/jpeg |
FOV | 61.9 deg |
GrayMixerAqua | -19 |
GrayMixerBlue | +8 |
GrayMixerGreen | -25 |
GrayMixerMagenta | +5 |
GrayMixerOrange | -17 |
GrayMixerPurple | +15 |
GrayMixerRed | -8 |
GrayMixerYellow | -21 |
GreenHue | 0 |
GreenSaturation | 0 |
HasCrop | True |
HasSettings | True |
HighlightRecovery | 36 |
HyperfocalDistance | 3.99 m |
ICCProfileName | ISOnewspaper26v4_gr |
ImageHeight (1) | 2213 |
ImageHeight | 1181 |
ImageSize | 2000x1181 |
ImageWidth (1) | 3748 |
ImageWidth | 2000 |
ISO | 400 |
Lens | SIGMA 18-50mm F3.5-5.6 DC |
LensID (1) | 3 44 |
LensID | Sigma 18-50mm F3.5-5.6 DC |
LensInfo | 18-50mm f/3.5-5.6 |
LightValue | 10.3 |
LuminanceSmoothing | 0 |
Make | PENTAX Corporation |
Megapixels | 2.4 |
MeteringMode | Center-weighted average |
Model | PENTAX K10D |
ModifyDate (1) | 2008:09:30 10:17:32-07:00 |
ModifyDate | 2008:09:30 10:17:32 |
Orientation | Horizontal (normal) |
ParametricDarks | -60 |
ParametricHighlights | +64 |
ParametricHighlightSplit | 75 |
ParametricLights | -8 |
ParametricMidtoneSplit | 50 |
ParametricShadows | +20 |
ParametricShadowSplit | 25 |
ProfileDescription | ISOnewspaper26v4_gr |
RedHue | 0 |
RedSaturation | 0 |
Saturation | High |
ScaleFactor35efl | 1.5 |
SceneCaptureType | Standard |
SensingMethod | One-chip color area |
Shadows | 0 |
ShadowTint | 0 |
SharpenDetail | 0 |
SharpenEdgeMasking | 0 |
SharpenRadius | +1.7 |
Sharpness (2) | 62 |
Sharpness | Normal |
ShutterSpeed | 1/200 |
ShutterSpeedValue | 1/200 |
Software | Adobe Photoshop CS3 Macintosh |
SplitToningBalance | 0 |
SplitToningHighlightHue | 0 |
SplitToningHighlightSaturation | 0 |
SplitToningShadowHue | 0 |
SplitToningShadowSaturation | 0 |
SubjectDistanceRange | Close |
Tint | 0 |
ToneCurve | 0, 0, 32, 16, 64, 50, 128, 128, 192, 202, 255, 255 |
ToneCurveName | Strong Contrast |
URL_List | |
Version | 1.0 |
VignetteAmount | +100 |
VignetteMidpoint | 75 |
WhiteBalance (2) | Auto |
WhiteBalance | Manual |