Felt | Verdi |
AlreadyApplied | True |
Aperture | 6.3 |
ApertureValue | 6.3 |
Artist | unknown |
BitsPerSample | 8 |
BlueHue | 0 |
BlueSaturation | 0 |
Brightness | +50 |
By-line | Endre M. Lidal |
CameraProfile | ACR 2.4 |
ChromaticAberrationB | 0 |
ChromaticAberrationR | 0 |
CircleOfConfusion | 0.019 mm |
Clarity | 0 |
ColorComponents | 1 |
ColorTemperature | 4200 |
Contrast | +59 |
ConvertToGrayscale | True |
Copyright | Endre M. Lidal |
CopyrightNotice | Endre M. Lidal |
CreateDate | 2007:10:21 12:54:05 |
Creator | Endre M. Lidal |
CreatorAddress | Skjoldveien 64 |
CreatorCity | Nesttun |
CreatorCountry | Norway |
CreatorPostalCode | N-5221 |
CreatorTool | Adobe Photoshop Lightroom |
CreatorWorkEmail | emlidal@broadpark.no |
CreatorWorkTelephone | +4795108899 |
CropAngle | 0 |
CropBottom | 0.876391 |
CropHeight | 853 |
CropLeft | 0 |
CropRight | 0.876391 |
CropTop | 0 |
CropUnit | pixels |
CropWidth | 1280 |
CustomRendered | Normal |
DateTimeDigitized | 2007:10:21 12:54:05+02:00 |
DateTimeOriginal (1) | 2007:10:21 12:54:05+02:00 |
DateTimeOriginal | 2007:10:21 12:54:05 |
Defringe | 0 |
Exposure | -0.50 |
ExposureCompensation | +2/3 |
ExposureMode | Auto |
ExposureProgram | Aperture-priority AE |
ExposureTime | 1/25 |
FillLight | 0 |
Firmware | 2.0.2 |
Flash | Off, Did not fire |
FlashCompensation | 0 |
FlashFired | False |
FlashFunction | False |
FlashMode | Off |
FlashRedEyeMode | False |
FlashReturn | No return detection |
FNumber | 6.3 |
FocalLength | 17.0 mm |
FocalLength35efl | 17.0 mm (35 mm equivalent: 27.2 mm) |
FOV | 66.9 deg |
GrayMixerAqua | -18 |
GrayMixerBlue | +2 |
GrayMixerGreen | -95 |
GrayMixerMagenta | +4 |
GrayMixerOrange | -19 |
GrayMixerPurple | +7 |
GrayMixerRed | -9 |
GrayMixerYellow | -23 |
GreenHue | 0 |
GreenSaturation | 0 |
HasCrop | True |
HasSettings | True |
HighlightRecovery | 66 |
HyperfocalDistance | 2.45 m |
ImageHeight | 853 |
ImageNumber | 221 |
ImageSize | 1280x853 |
ImageWidth | 1280 |
ISO | 800 |
Lens | 17.0-40.0 mm |
LensInfo | 17-40mm f/? |
LightValue | 7.0 |
LuminanceSmoothing | 0 |
Make | Canon |
MaxApertureValue | 4.0 |
Megapixels | 1.1 |
MeteringMode | Multi-segment |
Model | Canon EOS 20D |
ModifyDate (1) | 2008:10:29 12:41:44+01:00 |
ModifyDate | 2008:10:29 12:41:44 |
OwnerName | unknown |
ParametricDarks | 0 |
ParametricHighlights | 0 |
ParametricHighlightSplit | 75 |
ParametricLights | 0 |
ParametricMidtoneSplit | 50 |
ParametricShadows | 0 |
ParametricShadowSplit | 25 |
ProfileDescription | sRGB IEC61966-2.1 |
Rating | 5 |
RedHue | 0 |
RedSaturation | 0 |
Rights | Endre M. Lidal |
ScaleFactor35efl | 1.6 |
SceneCaptureType | Standard |
SerialNumber | 1530906200 |
Shadows | 0 |
ShadowTint | 0 |
SharpenDetail | 25 |
SharpenEdgeMasking | 0 |
SharpenRadius | +1.0 |
Sharpness | 56 |
ShutterSpeed | 1/25 |
ShutterSpeedValue | 1/25 |
SplitToningBalance | 0 |
SplitToningHighlightHue | 0 |
SplitToningHighlightSaturation | 0 |
SplitToningShadowHue | 0 |
SplitToningShadowSaturation | 0 |
Tint | +23 |
ToneCurve | 0, 0, 32, 22, 64, 56, 128, 128, 192, 196, 255, 255 |
ToneCurveName | Medium Contrast |
Version | 1.0 |
VignetteAmount | 0 |
WhiteBalance (2) | As Shot |
WhiteBalance | Auto |