Felt | Verdi |
AlreadyApplied | True |
Aperture | 22.0 |
ApertureValue | 22.0 |
Artist | Svein Otto Jacobsen |
BitsPerSample | 8 |
BlueHue | 0 |
BlueSaturation | 0 |
Brightness | +48 |
By-line | Svein Otto Jacobsen |
CameraProfile | ACR 4.4 |
Caption-Abstract | Stones In Water |
ChromaticAberrationB | 0 |
ChromaticAberrationR | 0 |
CircleOfConfusion | 0.019 mm |
Clarity | 0 |
ColorComponents | 3 |
ColorNoiseReduction | 25 |
ColorTemperature | 6550 |
Contrast | 0 |
ConvertToGrayscale | False |
Copyright | Svein Otto Jacobsen |
CopyrightNotice | Svein Otto Jacobsen |
Country | Norway |
Country-PrimaryLocationName | Norway |
CreateDate | 2008:03:18 08:10:06 |
Creator | Svein Otto Jacobsen |
CreatorAddress | NygAArd |
CreatorCity | KLOKKARVIK |
CreatorCountry | Norway |
CreatorPostalCode | 5378 |
CreatorRegion | Hordaland |
CreatorTool | Adobe Photoshop Lightroom |
CreatorWorkEmail | svein@bitservices.no |
CreatorWorkTelephone | +47 93638223 |
CustomRendered | Normal |
DateTimeDigitized | 2008:03:18 08:10:06+01:00 |
DateTimeOriginal (1) | 2008:03:18 08:10:06+01:00 |
DateTimeOriginal | 2008:03:18 08:10:06 |
Defringe | 0 |
Description | Stones In Water |
Exposure | +0.92 |
ExposureCompensation | 0 |
ExposureMode | Auto |
ExposureProgram | Aperture-priority AE |
ExposureTime | 0.4 |
FillLight | 0 |
Firmware | 1.0.4 |
Flash | Off, Did not fire |
FlashCompensation | 0 |
FlashFired | False |
FlashFunction | False |
FlashMode | Off |
FlashRedEyeMode | False |
FlashReturn | No return detection |
FNumber | 22.0 |
FocalLength | 17.0 mm |
FocalLength35efl | 17.0 mm (35 mm equivalent: 27.5 mm) |
FOV | 66.4 deg |
GreenHue | 0 |
GreenSaturation | 0 |
HasCrop | False |
HasSettings | True |
HierarchicalSubject | Clear Sky, Eco Tourism, Europe, Groundwater, Horizon Over Water, Kattegat Sea, North Sea, Northern Europe, Norwegian Sea, Rock, Scandinavian Culture, Silence, Stationary, Stones In Water, Sunspot, Tourism, Tranquil Scene, Travel Destinations, Vacations, Wave, bay, day, nobody, outdoors, stone, travel |
HighlightRecovery | 31 |
HueAdjustmentAqua | 0 |
HueAdjustmentBlue | +2 |
HueAdjustmentGreen | 0 |
HueAdjustmentMagenta | 0 |
HueAdjustmentOrange | -12 |
HueAdjustmentPurple | 0 |
HueAdjustmentRed | 0 |
HueAdjustmentYellow | -2 |
HyperfocalDistance | 0.71 m |
ImageDescription | Stones In Water |
ImageHeight | 2592 |
ImageNumber | 80 |
ImageSize | 3888x2592 |
ImageWidth | 3888 |
ISO | 100 |
Keywords | Clear Sky, Eco Tourism, Europe, Groundwater, Horizon Over Water, Kattegat Sea, North Sea, Northern Europe, Norwegian Sea, Rock, Scandinavian Culture, Silence, Stationary, Stones In Water, Sunspot, Tourism, Tranquil Scene, Travel Destinations, Vacations, Wave, bay, day, nobody, outdoors, stone, travel |
Lens | 17.0-70.0 mm |
LensInfo | 17-70mm f/? |
LightValue | 10.2 |
LuminanceAdjustmentAqua | 0 |
LuminanceAdjustmentBlue | -17 |
LuminanceAdjustmentGreen | 0 |
LuminanceAdjustmentMagenta | 0 |
LuminanceAdjustmentOrange | -29 |
LuminanceAdjustmentPurple | -1 |
LuminanceAdjustmentRed | 0 |
LuminanceAdjustmentYellow | -11 |
LuminanceSmoothing | 0 |
Make | Canon |
MaxApertureValue | 2.8 |
Megapixels | 10.1 |
MeteringMode | Multi-segment |
Model | Canon EOS 400D DIGITAL |
ModifyDate (1) | 2008:07:25 10:31:41+02:00 |
ModifyDate | 2008:07:25 10:31:41 |
ObjectName | Stones In Water |
OwnerName | Svein O Jacobsen |
ParametricDarks | 0 |
ParametricHighlights | 0 |
ParametricHighlightSplit | 75 |
ParametricLights | 0 |
ParametricMidtoneSplit | 50 |
ParametricShadows | 0 |
ParametricShadowSplit | 25 |
ProfileDescription | sRGB IEC61966-2.1 |
RedHue | 0 |
RedSaturation | 0 |
Rights | Svein Otto Jacobsen |
Saturation | 0 |
SaturationAdjustmentAqua | 0 |
SaturationAdjustmentBlue | 0 |
SaturationAdjustmentGreen | 0 |
SaturationAdjustmentMagenta | 0 |
SaturationAdjustmentOrange | +31 |
SaturationAdjustmentPurple | 0 |
SaturationAdjustmentRed | 0 |
SaturationAdjustmentYellow | +13 |
ScaleFactor35efl | 1.6 |
SceneCaptureType | Standard |
SerialNumber | 830415345 |
Shadows | 3 |
ShadowTint | 0 |
SharpenDetail | 25 |
SharpenEdgeMasking | 0 |
SharpenRadius | +1.0 |
Sharpness | 25 |
ShutterSpeed | 0.4 |
ShutterSpeedValue | 0.4 |
SplitToningBalance | 0 |
SplitToningHighlightHue | 0 |
SplitToningHighlightSaturation | 0 |
SplitToningShadowHue | 0 |
SplitToningShadowSaturation | 0 |
Subject | Clear Sky, Eco Tourism, Europe, Groundwater, Horizon Over Water, Kattegat Sea, North Sea, Northern Europe, Norwegian Sea, Rock, Scandinavian Culture, Silence, Stationary, Stones In Water, Sunspot, Tourism, Tranquil Scene, Travel Destinations, Vacations, Wave, bay, day, nobody, outdoors, stone, travel |
Tint | +27 |
Title | Stones In Water |
ToneCurve | 0, 0, 32, 22, 64, 56, 128, 128, 192, 196, 255, 255 |
ToneCurveName | Medium Contrast |
Version | 4.4.1 |
Vibrance | 0 |
VignetteAmount | 0 |
WhiteBalance (2) | As Shot |
WhiteBalance | Auto |