Felt | Verdi |
AlreadyApplied | True |
Aperture | 8.0 |
ApertureValue | 8.0 |
BitsPerSample | 8 |
BlueHue | 0 |
BlueSaturation | 0 |
Brightness | 0 |
CameraProfile | ACR 2.4 |
ChromaticAberrationB | 0 |
ChromaticAberrationR | 0 |
CircleOfConfusion | 0.030 mm |
Clarity | 46 |
ColorComponents | 1 |
ColorMode | RGB |
ColorNoiseReduction | 25 |
ColorSpace | sRGB |
ColorTemperature | 4150 |
Contrast | +15 |
ConvertToGrayscale | True |
CopyrightFlag | False |
CreateDate (1) | 2008:06:03 22:50:18+02:00 |
CreateDate | 2007:02:19 23:35:51 |
CreatorTool | Adobe Photoshop CS3 Macintosh |
CropAngle | 0 |
CropBottom | 1 |
CropHeight | 2912 |
CropLeft | 0.050542 |
CropRight | 1 |
CropTop | 0 |
CropUnit | pixels |
CropWidth | 4147 |
CustomRendered | Normal |
DateTimeDigitized | 2007:02:19 23:35:51+01:00 |
DateTimeOriginal (1) | 2007:02:19 23:35:51+01:00 |
DateTimeOriginal | 2007:02:19 23:35:51 |
Defringe | 0 |
ExifImageHeight | 768 |
ExifImageWidth | 562 |
Exposure | +0.26 |
ExposureCompensation | 0 |
ExposureMode | Manual |
ExposureProgram | Manual |
ExposureTime | 1/200 |
FillLight | 41 |
Firmware | 1.0.3 |
Flash | On, Fired |
FlashCompensation | -0.333333333333333 |
FlashFired | True |
FlashFunction | False |
FlashMode | On |
FlashRedEyeMode | False |
FlashReturn | No return detection |
FNumber | 8.0 |
FocalLength | 85.0 mm |
FocalLength35efl | 85.0 mm (35 mm equivalent: 85.2 mm) |
Format | image/jpeg |
FOV | 23.9 deg |
GrayMixerAqua | -18 |
GrayMixerBlue | +10 |
GrayMixerGreen | -27 |
GrayMixerMagenta | +4 |
GrayMixerOrange | -19 |
GrayMixerPurple | +16 |
GrayMixerRed | -10 |
GrayMixerYellow | -23 |
GreenHue | 0 |
GreenSaturation | 0 |
HasCrop | True |
HasSettings | True |
HighlightRecovery | 0 |
HyperfocalDistance | 30.12 m |
ICCProfileName | sRGB IEC61966-2.1 |
ImageHeight (1) | 4147 |
ImageHeight | 768 |
ImageNumber | 7 |
ImageSize | 562x768 |
ImageWidth (1) | 2912 |
ImageWidth | 562 |
ISO | 400 |
Lens | EF85mm f/1.8 USM |
LensInfo | 85mm f/? |
LightValue | 11.6 |
LuminanceSmoothing | 0 |
Make | Canon |
MaxApertureValue | 1.8 |
Megapixels | 0.432 |
MeteringMode | Multi-segment |
Model | Canon EOS 5D |
ModifyDate (1) | 2008:06:03 22:50:18+02:00 |
ModifyDate | 2008:06:03 22:50:18 |
Orientation | Horizontal (normal) |
ParametricDarks | -32 |
ParametricHighlights | +2 |
ParametricHighlightSplit | 75 |
ParametricLights | +23 |
ParametricMidtoneSplit | 50 |
ParametricShadows | +9 |
ParametricShadowSplit | 25 |
ProfileDescription | sRGB IEC61966-2.1 |
RedHue | 0 |
RedSaturation | 0 |
ScaleFactor35efl | 1.0 |
SceneCaptureType | Standard |
SerialNumber | 730504271 |
Shadows | 0 |
ShadowTint | 0 |
SharpenDetail | 25 |
SharpenEdgeMasking | 0 |
SharpenRadius | +1.0 |
Sharpness | 50 |
ShutterSpeed | 1/200 |
ShutterSpeedValue | 1/200 |
Software | Adobe Photoshop CS3 Macintosh |
SplitToningBalance | 0 |
SplitToningHighlightHue | 0 |
SplitToningHighlightSaturation | 0 |
SplitToningShadowHue | 0 |
SplitToningShadowSaturation | 0 |
Tint | 0 |
ToneCurve | 0, 0, 32, 22, 64, 56, 128, 128, 192, 196, 255, 255 |
ToneCurveName | Medium Contrast |
URL_List | |
Version | 4.4.1 |
VignetteAmount | 0 |
WhiteBalance | Auto |