Felt | Verdi |
AlreadyApplied | True |
Aperture | 5.6 |
ApertureValue | 5.6 |
BitsPerSample | 8 |
BlueHue | 0 |
BlueSaturation | 0 |
Brightness | -10 |
CameraProfile | ACR 2.4 |
ChromaticAberrationB | 0 |
ChromaticAberrationR | 0 |
CircleOfConfusion | 0.030 mm |
Clarity | 0 |
ColorComponents | 1 |
ColorMode | RGB |
ColorNoiseReduction | 25 |
ColorSpace | sRGB |
ColorTemperature | 3550 |
Contrast | +12 |
ConvertToGrayscale | True |
CopyrightFlag | False |
CreateDate (1) | 2008:06:03 22:16:26+02:00 |
CreateDate | 2007:02:23 22:10:26 |
CreatorTool | Adobe Photoshop CS3 Macintosh |
CropAngle | -5.506301 |
CropBottom | 0.861243 |
CropHeight | 2520 |
CropLeft | 0.017967 |
CropRight | 0.925423 |
CropTop | 0.123215 |
CropUnit | pixels |
CropWidth | 3739 |
CustomRendered | Normal |
DateTimeDigitized | 2007:02:23 22:10:26+01:00 |
DateTimeOriginal (1) | 2007:02:23 22:10:26+01:00 |
DateTimeOriginal | 2007:02:23 22:10:26 |
Defringe | 0 |
ExifImageHeight | 768 |
ExifImageWidth | 569 |
Exposure | -0.17 |
ExposureCompensation | +1/3 |
ExposureMode | Auto |
ExposureProgram | Aperture-priority AE |
ExposureTime | 1/200 |
FillLight | 35 |
Firmware | 1.0.3 |
Flash | On, Fired |
FlashCompensation | -0.333333333333333 |
FlashFired | True |
FlashFunction | False |
FlashMode | On |
FlashRedEyeMode | False |
FlashReturn | No return detection |
FNumber | 5.6 |
FocalLength | 85.0 mm |
FocalLength35efl | 85.0 mm (35 mm equivalent: 85.2 mm) |
Format | image/jpeg |
FOV | 23.9 deg |
GrayMixerAqua | -18 |
GrayMixerBlue | +10 |
GrayMixerGreen | -27 |
GrayMixerMagenta | +4 |
GrayMixerOrange | -19 |
GrayMixerPurple | +16 |
GrayMixerRed | -10 |
GrayMixerYellow | -23 |
GreenHue | 0 |
GreenSaturation | 0 |
HasCrop | True |
HasSettings | True |
HighlightRecovery | 43 |
HyperfocalDistance | 43.03 m |
ICCProfileName | sRGB IEC61966-2.1 |
ImageHeight (1) | 3739 |
ImageHeight | 768 |
ImageNumber | 41 |
ImageSize | 569x768 |
ImageWidth (1) | 2520 |
ImageWidth | 569 |
ISO | 200 |
Lens | EF85mm f/1.8 USM |
LensInfo | 85mm f/? |
LightValue | 11.6 |
LuminanceSmoothing | 0 |
Make | Canon |
MaxApertureValue | 1.8 |
Megapixels | 0.437 |
MeteringMode | Multi-segment |
Model | Canon EOS 5D |
ModifyDate (1) | 2008:06:03 22:16:26+02:00 |
ModifyDate | 2008:06:03 22:16:26 |
Orientation | Horizontal (normal) |
ParametricDarks | -13 |
ParametricHighlights | +53 |
ParametricHighlightSplit | 75 |
ParametricLights | -13 |
ParametricMidtoneSplit | 50 |
ParametricShadows | -21 |
ParametricShadowSplit | 25 |
ProfileDescription | sRGB IEC61966-2.1 |
RedHue | 0 |
RedSaturation | 0 |
ScaleFactor35efl | 1.0 |
SceneCaptureType | Standard |
SerialNumber | 730504271 |
Shadows | 0 |
ShadowTint | 0 |
SharpenDetail | 25 |
SharpenEdgeMasking | 0 |
SharpenRadius | +1.0 |
Sharpness | 50 |
ShutterSpeed | 1/200 |
ShutterSpeedValue | 1/200 |
Software | Adobe Photoshop CS3 Macintosh |
SplitToningBalance | 0 |
SplitToningHighlightHue | 0 |
SplitToningHighlightSaturation | 0 |
SplitToningShadowHue | 0 |
SplitToningShadowSaturation | 0 |
Tint | 0 |
ToneCurve | 0, 0, 32, 22, 64, 56, 128, 128, 192, 196, 255, 255 |
ToneCurveName | Medium Contrast |
URL_List | |
Version | 4.4.1 |
VignetteAmount | 0 |
WhiteBalance | Auto |