Felt | Verdi |
AlreadyApplied | True |
Aperture | 11.0 |
ApertureValue | 11.0 |
BitsPerSample | 8 |
BlueHue | 0 |
BlueSaturation | 0 |
Brightness | +50 |
CameraProfile | ACR 4.4 |
ChromaticAberrationB | 0 |
ChromaticAberrationR | 0 |
CircleOfConfusion | 0.019 mm |
Clarity | 0 |
ColorComponents | 3 |
ColorMode | RGB |
ColorNoiseReduction | 76 |
ColorSpace | sRGB |
ColorTemperature | 4976 |
Contrast | +70 |
ConvertToGrayscale | False |
CopyrightFlag | False |
CreateDate (1) | 2008:05:14 00:21:16+02:00 |
CreateDate | 2008:05:12 02:05:25 |
CreatorTool | Adobe Photoshop CS3 Windows |
CropAngle | 0 |
CropBottom | 0.907692 |
CropHeight | 1931 |
CropLeft | 0.096774 |
CropRight | 0.900294 |
CropTop | 0.162638 |
CropUnit | pixels |
CropWidth | 3124 |
CustomRendered | Normal |
DateTimeDigitized | 2008:05:12 02:05:25.00+02:00 |
DateTimeOriginal (1) | 2008:05:12 02:05:25.00+02:00 |
DateTimeOriginal | 2008:05:12 02:05:25 |
Defringe | 0 |
DerivedFrom | |
ExifImageHeight | 720 |
ExifImageWidth | 1165 |
Exposure | +0.86 |
ExposureCompensation | 0 |
ExposureMode | Manual |
ExposureProgram | Manual |
ExposureTime | 1/80 |
FillLight | 0 |
Firmware | 1.0.8 |
Flash | On, Fired |
FlashCompensation | -1.66666666666667 |
FlashFired | True |
FlashFunction | False |
FlashMode | On |
FlashRedEyeMode | False |
FlashReturn | No return detection |
FNumber | 11.0 |
FocalLength | 105.0 mm |
FocalLength35efl | 105.0 mm (35 mm equivalent: 170.0 mm) |
Format | image/jpeg |
FOV | 12.1 deg |
GreenHue | 0 |
GreenSaturation | 0 |
HasCrop | True |
HasSettings | True |
HighlightRecovery | 17 |
HueAdjustmentAqua | -40 |
HueAdjustmentBlue | +21 |
HueAdjustmentGreen | -24 |
HueAdjustmentMagenta | +38 |
HueAdjustmentOrange | +36 |
HueAdjustmentPurple | -76 |
HueAdjustmentRed | +17 |
HueAdjustmentYellow | +43 |
HyperfocalDistance | 54.00 m |
ICCProfileName | sRGB IEC61966-2.1 |
ImageHeight (1) | 1931 |
ImageHeight | 720 |
ImageNumber | 0 |
ImageSize | 1165x720 |
ImageWidth (1) | 3124 |
ImageWidth | 1165 |
ISO | 200 |
Lens | 105mm |
LensInfo | 105mm f/? |
LightValue | 12.2 |
LuminanceAdjustmentAqua | 0 |
LuminanceAdjustmentBlue | -36 |
LuminanceAdjustmentGreen | 0 |
LuminanceAdjustmentMagenta | -10 |
LuminanceAdjustmentOrange | 0 |
LuminanceAdjustmentPurple | 0 |
LuminanceAdjustmentRed | 0 |
LuminanceAdjustmentYellow | +26 |
LuminanceSmoothing | 67 |
Make | Canon |
MaxApertureValue | 2.8 |
Megapixels | 0.839 |
MeteringMode | Multi-segment |
Model | Canon EOS 40D |
ModifyDate (1) | 2008:05:14 00:21:16+02:00 |
ModifyDate | 2008:05:14 00:21:16 |
Orientation | Horizontal (normal) |
ParametricDarks | -7 |
ParametricHighlights | -10 |
ParametricHighlightSplit | 75 |
ParametricLights | +5 |
ParametricMidtoneSplit | 50 |
ParametricShadows | -17 |
ParametricShadowSplit | 25 |
ProfileDescription | sRGB IEC61966-2.1 |
RedHue | 0 |
RedSaturation | 0 |
Saturation | 0 |
SaturationAdjustmentAqua | 0 |
SaturationAdjustmentBlue | +5 |
SaturationAdjustmentGreen | 0 |
SaturationAdjustmentMagenta | 0 |
SaturationAdjustmentOrange | 0 |
SaturationAdjustmentPurple | 0 |
SaturationAdjustmentRed | 0 |
SaturationAdjustmentYellow | +24 |
ScaleFactor35efl | 1.6 |
SceneCaptureType | Standard |
SerialNumber | 430103460 |
Shadows | 10 |
ShadowTint | +52 |
SharpenDetail | 56 |
SharpenEdgeMasking | 0 |
SharpenRadius | +1.0 |
Sharpness | 111 |
ShutterSpeed | 1/80 |
ShutterSpeedValue | 1/80 |
Software | Adobe Photoshop CS3 Windows |
SplitToningBalance | 0 |
SplitToningHighlightHue | 4 |
SplitToningHighlightSaturation | 43 |
SplitToningShadowHue | 0 |
SplitToningShadowSaturation | 0 |
Tint | -29 |
ToneCurve | 0, 0, 32, 22, 64, 56, 128, 128, 192, 196, 255, 255 |
ToneCurveName | Medium Contrast |
URL_List | |
Version | 4.4.1 |
Vibrance | 0 |
VignetteAmount | +100 |
VignetteMidpoint | 0 |
WhiteBalance (2) | Custom |
WhiteBalance | Auto |