Felt | Verdi |
AlreadyApplied | True |
Aperture | 4.0 |
ApertureValue | 4.0 |
BitsPerSample | 8 |
BlueHue | 0 |
BlueSaturation | 0 |
Brightness | 0 |
CameraProfile | ACR 2.4 |
ChromaticAberrationB | 0 |
ChromaticAberrationR | 0 |
CircleOfConfusion | 0.030 mm |
Clarity | 49 |
ColorComponents | 1 |
ColorSpace | sRGB |
ColorTemperature | 5085 |
Contrast | +19 |
ConvertToGrayscale | True |
CopyrightFlag | False |
CreateDate (1) | 2007:10:07 18:15:59+02:00 |
CreateDate | 2006:08:26 20:47:15 |
CreatorTool | Adobe Photoshop CS Macintosh |
CropAngle | -0.628256 |
CropBottom | 0.983818 |
CropHeight | 2697 |
CropLeft | 0.033785 |
CropRight | 0.995505 |
CropTop | 0.073465 |
CropUnit | pixels |
CropWidth | 4171 |
CustomRendered | Normal |
DateTimeDigitized | 2006:08:26 20:47:15+02:00 |
DateTimeOriginal (1) | 2006:08:26 20:47:15+02:00 |
DateTimeOriginal | 2006:08:26 20:47:15 |
Defringe | 0 |
ExifImageHeight | 647 |
ExifImageWidth | 1001 |
Exposure | 0.00 |
ExposureCompensation | -1/3 |
ExposureMode | Auto |
ExposureProgram | Aperture-priority AE |
ExposureTime | 1/125 |
FillLight | 27 |
Firmware | 1.0.3 |
Flash | Off, Did not fire |
FlashCompensation | 0 |
FlashFired | False |
FlashFunction | False |
FlashMode | Off |
FlashRedEyeMode | False |
FlashReturn | No return detection |
FNumber | 4.0 |
FocalLength | 135.0 mm |
FocalLength35efl | 135.0 mm (35 mm equivalent: 135.3 mm) |
Format | image/jpeg |
FOV | 15.2 deg |
GrayMixerAqua | -20 |
GrayMixerBlue | +4 |
GrayMixerGreen | -23 |
GrayMixerMagenta | +5 |
GrayMixerOrange | -13 |
GrayMixerPurple | +12 |
GrayMixerRed | -5 |
GrayMixerYellow | -17 |
GreenHue | 0 |
GreenSaturation | 0 |
HasCrop | True |
HasSettings | True |
HighlightRecovery | 46 |
HyperfocalDistance | 151.96 m |
ImageHeight (1) | 2697 |
ImageHeight | 647 |
ImageNumber | 19 |
ImageSize | 1001x647 |
ImageWidth (1) | 4171 |
ImageWidth | 1001 |
ISO | 1250 |
Lens | EF135mm f/2L USM |
LensInfo | 135mm f/? |
LightValue | 7.3 |
LuminanceSmoothing | 0 |
Make | Canon |
MaxApertureValue | 2.0 |
Megapixels | 0.648 |
MeteringMode | Multi-segment |
Model | Canon EOS 5D |
ModifyDate (1) | 2007:10:07 18:20:55+02:00 |
ModifyDate | 2007:10:07 18:20:55 |
Orientation | Horizontal (normal) |
ParametricDarks | -15 |
ParametricHighlights | +9 |
ParametricHighlightSplit | 75 |
ParametricLights | +9 |
ParametricMidtoneSplit | 50 |
ParametricShadows | -21 |
ParametricShadowSplit | 25 |
ProfileDescription | sRGB IEC61966-2.1 |
RedHue | 0 |
RedSaturation | 0 |
ScaleFactor35efl | 1.0 |
SceneCaptureType | Standard |
SerialNumber | 730504271 |
Shadows | 1 |
ShadowTint | 0 |
SharpenDetail | 25 |
SharpenEdgeMasking | 0 |
SharpenRadius | +1.0 |
Sharpness | 78 |
ShutterSpeed | 1/125 |
ShutterSpeedValue | 1/125 |
Software | Adobe Photoshop CS Macintosh |
SplitToningBalance | 0 |
SplitToningHighlightHue | 0 |
SplitToningHighlightSaturation | 0 |
SplitToningShadowHue | 0 |
SplitToningShadowSaturation | 0 |
Tint | +4 |
ToneCurve | 0, 0, 32, 22, 64, 56, 128, 128, 192, 196, 255, 255 |
ToneCurveName | Medium Contrast |
URL_List | |
Version | 1.0 |
VignetteAmount | 0 |
WhiteBalance (1) | Custom |
WhiteBalance | Auto |