Felt | Verdi |
AlreadyApplied | True |
Aperture | 1.4 |
ApertureValue | 1.4 |
BitsPerSample | 8 |
BlueHue | 0 |
BlueSaturation | 0 |
Brightness | 0 |
CameraProfile | ACR 2.4 |
ChromaticAberrationB | 0 |
ChromaticAberrationR | 0 |
CircleOfConfusion | 0.019 mm |
Clarity | 100 |
ColorComponents | 1 |
ColorSpace | Uncalibrated |
Contrast | -1 |
ConvertToGrayscale | True |
CopyrightFlag | False |
CreateDate (1) | 2006:02:13 11:54:05+01:00 |
CreateDate | 2005:12:11 13:26:51 |
CreatorTool | Adobe Photoshop CS Macintosh |
CropAngle | 0 |
CropBottom | 0.655836 |
CropHeight | 750 |
CropLeft | 0 |
CropRight | 1 |
CropTop | 0.086643 |
CropUnit | pixels |
CropWidth | 1024 |
CustomRendered | Normal |
DateTimeDigitized | 2005:12:11 13:26:51+02:00 |
DateTimeOriginal (1) | 2005:12:11 13:26:51+02:00 |
DateTimeOriginal | 2005:12:11 13:26:51 |
Defringe | 0 |
ExifImageHeight | 732 |
ExifImageWidth | 1000 |
Exposure | -0.09 |
ExposureCompensation | -1/3 |
ExposureMode | Auto |
ExposureProgram | Aperture-priority AE |
ExposureTime | 1/80 |
FillLight | 0 |
Flash | Off, Did not fire |
FlashFired | False |
FlashFunction | False |
FlashMode | Off |
FlashRedEyeMode | False |
FlashReturn | No return detection |
FNumber | 1.4 |
FocalLength | 50.0 mm |
FocalLength35efl | 50.0 mm (35 mm equivalent: 81.1 mm) |
Format | image/jpeg |
FOV | 25.0 deg |
GrayMixerAqua | -20 |
GrayMixerBlue | +4 |
GrayMixerGreen | -23 |
GrayMixerMagenta | +5 |
GrayMixerOrange | -13 |
GrayMixerPurple | +12 |
GrayMixerRed | -5 |
GrayMixerYellow | -17 |
GreenHue | 0 |
GreenSaturation | 0 |
HasCrop | True |
HasSettings | True |
HighlightRecovery | 100 |
HyperfocalDistance | 96.41 m |
ImageHeight (1) | 750 |
ImageHeight | 732 |
ImageSize | 1000x732 |
ImageWidth (1) | 1024 |
ImageWidth | 1000 |
IncrementalTemperature | +1 |
IncrementalTint | -7 |
ISO | 800 |
LightValue | 4.3 |
LuminanceSmoothing | 0 |
Make | Canon |
Megapixels | 0.732 |
MeteringMode | Multi-segment |
Model | Canon EOS 350D DIGITAL |
ModifyDate (1) | 2007:09:02 19:14:04+02:00 |
ModifyDate | 2007:09:02 19:14:04 |
Orientation | Horizontal (normal) |
ParametricDarks | -15 |
ParametricHighlights | +9 |
ParametricHighlightSplit | 75 |
ParametricLights | +9 |
ParametricMidtoneSplit | 50 |
ParametricShadows | 0 |
ParametricShadowSplit | 25 |
PrimaryChromaticities | 0.64, 0.33, 0.21, 0.71, 0.15, 0.06 |
ProfileDescription | Dot Gain 20% |
RedHue | 0 |
RedSaturation | 0 |
ScaleFactor35efl | 1.6 |
SceneCaptureType | Standard |
Shadows | 1 |
ShadowTint | 0 |
SharpenDetail | 25 |
SharpenEdgeMasking | 0 |
SharpenRadius | +1.0 |
Sharpness | 0 |
ShutterSpeed | 1/80 |
ShutterSpeedValue | 1/80 |
Software | Adobe Photoshop CS Macintosh |
SplitToningBalance | 0 |
SplitToningHighlightHue | 0 |
SplitToningHighlightSaturation | 0 |
SplitToningShadowHue | 0 |
SplitToningShadowSaturation | 0 |
TimeZoneOffset | 1 2 |
ToneCurve | 0, 0, 32, 22, 64, 56, 128, 128, 192, 196, 255, 255 |
ToneCurveName | Medium Contrast |
URL_List | |
Version | 1.0 |
VignetteAmount | 0 |
WhiteBalance (1) | Custom |
WhiteBalance | Auto |
WhitePoint | 0.313, 0.329 |