Felt | Verdi |
AlreadyApplied | True |
Aperture | 4.5 |
ApertureValue | 4.5 |
Artist | Elisabeth Karin Jensen |
BitsPerSample (1) | 8, 8, 8 |
BitsPerSample (2) | 8 8 8 |
BitsPerSample | 8 |
BlueHue | 0 |
BlueSaturation | 0 |
Brightness | +30 |
By-line | Elisabeth Karin Jensen |
CameraProfile | ACR 3.6 |
Category | Fyk |
ChromaticAberrationB | 0 |
ChromaticAberrationR | 0 |
CircleOfConfusion | 0.019 mm |
Clarity | 0 |
ColorComponents | 3 |
ColorMode | RGB |
ColorSpace | sRGB |
ColorTemperature | 8200 |
Contrast | +54 |
ConvertToGrayscale | True |
Copyright | Elisabeth Karin Jensen |
CopyrightFlag | False |
CopyrightNotice | Elisabeth Karin Jensen |
CreateDate (1) | 2007:07:05 02:15:52+02:00 |
CreateDate | 2007:07:04 19:11:14 |
Creator | Elisabeth Karin Jensen |
CreatorTool | Adobe Photoshop CS2 Windows |
CropAngle | 0 |
CropBottom | 0.973244 |
CropHeight | 2315 |
CropLeft | 0 |
CropRight | 0.808463 |
CropTop | 0.080268 |
CropUnit | pixels |
CropWidth | 3143 |
CustomRendered | Normal |
DateTimeDigitized | 2007:07:04 19:11:14+02:00 |
DateTimeOriginal (1) | 2007:07:04 19:11:14+02:00 |
DateTimeOriginal | 2007:07:04 19:11:14 |
Defringe | 0 |
ExifImageHeight | 700 |
ExifImageWidth | 540 |
Exposure | 0.00 |
ExposureCompensation | 0 |
ExposureMode | Manual |
ExposureProgram | Manual |
ExposureTime | 1/250 |
FillLight | 14 |
Firmware | 1.0.5 |
Flash | Off, Did not fire |
FlashCompensation | 0.666666666666667 |
FlashFired | False |
FlashFunction | False |
FlashMode | Off |
FlashRedEyeMode | False |
FlashReturn | No return detection |
FNumber | 4.5 |
FocalLength | 72.0 mm |
FocalLength35efl | 72.0 mm (35 mm equivalent: 116.5 mm) |
Format | image/jpeg |
FOV | 17.6 deg |
GrayMixerAqua | -86 |
GrayMixerBlue | -100 |
GrayMixerGreen | +53 |
GrayMixerMagenta | +4 |
GrayMixerOrange | -8 |
GrayMixerPurple | +8 |
GrayMixerRed | -22 |
GrayMixerYellow | -18 |
GreenHue | 0 |
GreenSaturation | 0 |
HasCrop | True |
HasSettings | True |
HighlightRecovery | 0 |
HyperfocalDistance | 62.05 m |
ICCProfileName | sRGB IEC61966-2.1 |
ImageHeight (1) | 3143 |
ImageHeight | 700 |
ImageNumber | 80 |
ImageSize | 540x700 |
ImageWidth (2) | 2315 |
ImageWidth | 540 |
ISO | 100 |
Lens | 55.0-200.0 mm |
LensInfo | 55-200mm f/? |
LightValue | 12.3 |
LuminanceSmoothing | 0 |
Make | Canon |
MaxApertureValue | 4.0 |
Megapixels | 0.378 |
MeteringMode | Multi-segment |
Model | Canon EOS 400D DIGITAL |
ModifyDate (1) | 2007:07:05 02:15:52+02:00 |
ModifyDate | 2007:07:05 02:15:52 |
Orientation | Horizontal (normal) |
OwnerName | unknown |
ParametricDarks | 0 |
ParametricHighlights | 0 |
ParametricHighlightSplit | 75 |
ParametricLights | 0 |
ParametricMidtoneSplit | 50 |
ParametricShadows | 0 |
ParametricShadowSplit | 25 |
PhotometricInterpretation | RGB |
PlanarConfiguration | Chunky |
ProfileDescription | sRGB IEC61966-2.1 |
RedHue | 0 |
RedSaturation | 0 |
Rights | Elisabeth Karin Jensen |
SamplesPerPixel | 3 |
ScaleFactor35efl | 1.6 |
SceneCaptureType | Standard |
SerialNumber | 1030594424 |
Shadows | 13 |
ShadowTint | 0 |
SharpenDetail | 25 |
SharpenEdgeMasking | 0 |
SharpenRadius | +1.0 |
Sharpness | 55 |
ShutterSpeed | 1/250 |
ShutterSpeedValue | 1/250 |
Software | Adobe Photoshop CS2 Windows |
SplitToningBalance | 0 |
SplitToningHighlightHue | 0 |
SplitToningHighlightSaturation | 0 |
SplitToningShadowHue | 55 |
SplitToningShadowSaturation | 19 |
Tint | +3 |
ToneCurve | 0, 0, 32, 16, 64, 50, 128, 128, 192, 202, 255, 255 |
ToneCurveName | Strong Contrast |
URL_List | |
Version | 1.0 |
VignetteAmount | -1 |
VignetteMidpoint | 48 |
WhiteBalance (2) | Custom |
WhiteBalance | Manual |