Felt | Verdi |
AlreadyApplied | True |
Aperture | 10.0 |
ApertureValue | 10.0 |
BitsPerSample (1) | 16, 16, 16 |
BitsPerSample (2) | 16 16 16 |
BitsPerSample | 8 |
BlueHue | 0 |
BlueSaturation | +3 |
Brightness | +46 |
CameraProfile | ACR 2.4 |
CFAPattern | [Blue,Green][Green,Red] |
ChromaticAberrationB | 0 |
ChromaticAberrationR | 0 |
CircleOfConfusion | 0.020 mm |
ColorComponents | 3 |
ColorMode | RGB |
ColorNoiseReduction | 25 |
ColorSpace | sRGB |
ColorTemperature | 5000 |
Contrast (2) | +25 |
Contrast | Normal |
ConvertToGrayscale | False |
CopyrightFlag | False |
CreateDate (1) | 2007:06:06 14:59:39+02:00 |
CreateDate | 2007:05:26 13:12:38 |
CreatorTool | Adobe Photoshop CS3 Macintosh |
CustomRendered | Custom |
DateTimeDigitized | 2007:05:26 13:12:38.90+02:00 |
DateTimeOriginal (1) | 2007:05:26 13:12:38.90+02:00 |
DateTimeOriginal | 2007:05:26 13:12:38 |
DigitalZoomRatio | 1 |
ExifImageHeight | 513 |
ExifImageWidth | 800 |
Exposure | +0.75 |
ExposureCompensation | 0 |
ExposureMode | Manual |
ExposureProgram | Manual |
ExposureTime | 1/500 |
FillLight | 0 |
Flash | No Flash |
FlashFired | False |
FlashFunction | False |
FlashMode | Unknown |
FlashRedEyeMode | False |
FlashReturn | No return detection |
FNumber | 10.0 |
FocalLength | 105.0 mm |
FocalLength35efl | 105.0 mm (35 mm equivalent: 157.0 mm) |
FocalLengthIn35mmFormat | 157 mm |
Format | image/jpeg |
FOV | 13.1 deg |
GainControl | None |
GreenHue | 0 |
GreenSaturation | +3 |
HasCrop | False |
HasSettings | True |
HighlightRecovery | 0 |
HueAdjustmentAqua | 0 |
HueAdjustmentBlue | 0 |
HueAdjustmentGreen | 0 |
HueAdjustmentMagenta | 0 |
HueAdjustmentOrange | 0 |
HueAdjustmentPurple | 0 |
HueAdjustmentRed | 0 |
HueAdjustmentYellow | 0 |
HyperfocalDistance | 54.87 m |
ICCProfileName | sRGB IEC61966-2.1 |
ImageHeight (2) | 1909 |
ImageHeight | 513 |
ImageNumber | 10034 |
ImageSize | 800x513 |
ImageWidth (2) | 2976 |
ImageWidth | 800 |
ISO | 200 |
Lens | 105.0 mm f/2.8 |
LensInfo | 105mm f/2.8 |
LightSource | Unknown |
LightValue | 14.6 |
LuminanceAdjustmentAqua | 0 |
LuminanceAdjustmentBlue | -47 |
LuminanceAdjustmentGreen | 0 |
LuminanceAdjustmentMagenta | 0 |
LuminanceAdjustmentOrange | 0 |
LuminanceAdjustmentPurple | 0 |
LuminanceAdjustmentRed | 0 |
LuminanceAdjustmentYellow | +53 |
LuminanceSmoothing | 0 |
Make | NIKON CORPORATION |
MaxApertureValue | 2.8 |
Megapixels | 0.410 |
MeteringMode | Spot |
Model | NIKON D70 |
ModifyDate (1) | 2007:06:06 14:59:39+02:00 |
ModifyDate | 2007:06:06 14:59:39 |
Orientation | Horizontal (normal) |
ParametricDarks | +37 |
ParametricHighlights | +23 |
ParametricHighlightSplit | 75 |
ParametricLights | -10 |
ParametricMidtoneSplit | 50 |
ParametricShadows | -35 |
ParametricShadowSplit | 25 |
PhotometricInterpretation | RGB |
PlanarConfiguration | Chunky |
ProfileDescription | sRGB IEC61966-2.1 |
Rating | 0 |
RawFileName | Bilde011.nef |
RedHue | -3 |
RedSaturation | 0 |
SamplesPerPixel | 3 |
Saturation (2) | 0 |
Saturation | Normal |
SaturationAdjustmentAqua | 0 |
SaturationAdjustmentBlue | +3 |
SaturationAdjustmentGreen | 0 |
SaturationAdjustmentMagenta | -4 |
SaturationAdjustmentOrange | 0 |
SaturationAdjustmentPurple | 0 |
SaturationAdjustmentRed | 0 |
SaturationAdjustmentYellow | +7 |
ScaleFactor35efl | 1.5 |
SceneCaptureType | Standard |
SceneType | Directly photographed |
SensingMethod | One-chip color area |
Shadows | 13 |
ShadowTint | 0 |
Sharpness (2) | 10 |
Sharpness | Soft |
ShutterSpeed | 1/500 |
ShutterSpeedValue | 1/500 |
SidecarForExtension | NEF |
Software | Adobe Photoshop CS3 Macintosh |
SplitToningBalance | 0 |
SplitToningHighlightHue | 33 |
SplitToningHighlightSaturation | 0 |
SplitToningShadowHue | 182 |
SplitToningShadowSaturation | 0 |
SubjectDistanceRange | Unknown |
Tint | -4 |
ToneCurve | 0, 0, 32, 22, 64, 56, 128, 128, 192, 196, 255, 255 |
ToneCurveName | Medium Contrast |
URL_List | |
Version | 4.0 |
Vibrance | 0 |
VignetteAmount | 0 |
WhiteBalance (2) | Custom |
WhiteBalance | Auto |