Felt | Verdi |
AlreadyApplied | True |
Aperture | 4.0 |
ApertureValue | 4.0 |
AutoLateralCA | 0 |
BitsPerSample | 8 8 8 |
Blacks2012 | 0 |
BlueHue | 0 |
BlueSaturation | 0 |
Brightness | +50 |
CameraProfile | Embedded |
Caption-Abstract | OLYMPUS DIGITAL CAMERA |
City | Praha |
Clarity2012 | +13 |
ColorGradeBlending | 50 |
ColorGradeGlobalHue | 0 |
ColorGradeGlobalLum | 0 |
ColorGradeGlobalSat | 0 |
ColorGradeHighlightLum | 0 |
ColorGradeMidtoneHue | 0 |
ColorGradeMidtoneLum | 0 |
ColorGradeMidtoneSat | 0 |
ColorGradeShadowLum | 0 |
ColorNoiseReduction | 0 |
ColorSpace | Uncalibrated |
CompatibleVersion | 251920384 |
Contrast (1) | +25 |
Contrast | Normal |
Contrast2012 | +18 |
ConvertToGrayscale | False |
Copyright | © phtobybjornlindahl |
CopyrightNotice | © phtobybjornlindahl |
Country | Tsjekkia |
Country-PrimaryLocationName | Tsjekkia |
CreateDate | 2023:08:27 13:26:01 |
CreatorTool | Adobe Lightroom 7.0.1 (Macintosh) |
CropAngle | 0 |
CropBottom | 1 |
CropConstrainToWarp | 0 |
CropLeft | 0 |
CropRight | 1 |
CropTop | 0 |
CurveRefineSaturation | 100 |
CustomRendered | Custom |
DateCreated (1) | 2023:08:27 13:26:01 |
DateCreated | 2023:08:27 |
DateTimeOriginal | 2023:08:27 13:26:01 |
DefringeGreenAmount | 0 |
DefringeGreenHueHi | 60 |
DefringeGreenHueLo | 40 |
DefringePurpleAmount | 0 |
DefringePurpleHueHi | 70 |
DefringePurpleHueLo | 30 |
Dehaze | +23 |
Description | OLYMPUS DIGITAL CAMERA |
DigitalZoomRatio | 1 |
Exposure2012 | 0.00 |
ExposureCompensation | 0 |
ExposureMode | Manual |
ExposureProgram | Creative (Slow speed) |
ExposureTime | 1/200 |
Flash | On, Did not fire |
FlashCompensation | 0 |
FNumber | 4.0 |
FocalLength | 47.0 mm |
FocalLength35efl | 47.0 mm |
Format | image/tiff |
GainControl | High gain up |
GrainAmount | 0 |
GreenHue | 0 |
GreenSaturation | 0 |
HasCrop | False |
HasSettings | True |
HDREditMode | 0 |
Highlights2012 | 0 |
HueAdjustmentAqua | 0 |
HueAdjustmentBlue | 0 |
HueAdjustmentGreen | 0 |
HueAdjustmentMagenta | 0 |
HueAdjustmentOrange | 0 |
HueAdjustmentPurple | 0 |
HueAdjustmentRed | 0 |
HueAdjustmentYellow | 0 |
ImageDescription | OLYMPUS DIGITAL CAMERA |
ImageHeight | 5184 |
ImageSize | 3888x5184 |
ImageWidth | 3888 |
IncrementalTemperature | +17 |
IncrementalTint | +1 |
ISO | 1250 |
Lens | 12.0-100.0 mm f/4.0 |
LensInfo | 12-100mm f/4 |
LensManualDistortionAmount | 0 |
LensModel | 12.0-100.0 mm f/4.0 |
LensProfileEnable | 0 |
LensSerialNumber | ACCA15297 |
LightSource | Other |
LightValue | 8.0 |
LuminanceAdjustmentAqua | 0 |
LuminanceAdjustmentBlue | 0 |
LuminanceAdjustmentGreen | 0 |
LuminanceAdjustmentMagenta | 0 |
LuminanceAdjustmentOrange | 0 |
LuminanceAdjustmentPurple | 0 |
LuminanceAdjustmentRed | 0 |
LuminanceAdjustmentYellow | 0 |
LuminanceSmoothing | 0 |
Make | OLYMPUS CORPORATION |
MaxApertureValue | 4.0 |
Megapixels | 20.2 |
MeteringMode | Multi-segment |
Model | E-M1MarkII |
ModifyDate (1) | 2023:11:08 20:28:25+01:00 |
ModifyDate | 2023:11:08 20:28:25 |
OverrideLookVignette | False |
ParametricDarks | -32 |
ParametricHighlights | 0 |
ParametricHighlightSplit | 75 |
ParametricLights | +77 |
ParametricMidtoneSplit | 50 |
ParametricShadows | 0 |
ParametricShadowSplit | 25 |
PerspectiveAspect | 0 |
PerspectiveHorizontal | 0 |
PerspectiveRotate | 0.0 |
PerspectiveScale | 100 |
PerspectiveUpright | 0 |
PerspectiveVertical | 0 |
PerspectiveX | 0.00 |
PerspectiveY | 0.00 |
PhotometricInterpretation | RGB |
PlanarConfiguration | Chunky |
PostCropVignetteAmount | 0 |
ProcessVersion | 15.4 |
ProfileDescription | Adobe RGB (1998) |
Province-State | Praha |
RawFileName | trainArrival.tiff |
RedHue | 0 |
RedSaturation | 0 |
Rights | © phtobybjornlindahl |
RowsPerStrip | 5184 |
SamplesPerPixel | 3 |
Saturation (1) | +12 |
Saturation | Normal |
SaturationAdjustmentAqua | 0 |
SaturationAdjustmentBlue | 0 |
SaturationAdjustmentGreen | 0 |
SaturationAdjustmentMagenta | 0 |
SaturationAdjustmentOrange | 0 |
SaturationAdjustmentPurple | 0 |
SaturationAdjustmentRed | 0 |
SaturationAdjustmentYellow | 0 |
SceneCaptureType | Standard |
SensitivityType | Standard Output Sensitivity |
SerialNumber | BHUB20830 |
Shadows | 5 |
Shadows2012 | 0 |
ShadowTint | 0 |
Sharpness (1) | 0 |
Sharpness | Normal |
ShutterSpeed | 1/200 |
ShutterSpeedValue | 1/200 |
Software | Adobe Lightroom 7.0.1 (Macintosh) |
SplitToningBalance | 0 |
SplitToningHighlightHue | 0 |
SplitToningHighlightSaturation | 0 |
SplitToningShadowHue | 0 |
SplitToningShadowSaturation | 0 |
State | Praha |
StripByteCounts | 60466176 |
StripOffsets | 43356 |
SubfileType | Full-resolution Image |
Texture | +37 |
ToneCurveName2012 | Custom |
ToneCurvePV2012 | 0, 0, 80, 77, 255, 255 |
ToneCurvePV2012Blue | 0, 0, 255, 255 |
ToneCurvePV2012Green | 0, 0, 164, 164, 255, 255 |
ToneCurvePV2012Red | 0, 0, 255, 255 |
Version | 16.0 |
Vibrance | +3 |
VignetteAmount | 0 |
WhiteBalance (1) | Manual |
WhiteBalance | Custom |
Whites2012 | 0 |